Workbook
Name RANGE1: supporting1!$B$1:$I$536
Name RANGE2: supporting1!$A$1:$I$536

Sheet FY 2025 Summary
B1: University of Virginia - Facilities Portfolio
B2: Summary of Gross Square Footage and Facility Condition Index Data
B4: Portfolio | C4: Gross Square Footage | D4: Facility Condition Index (See Note A) | E4: Facility Condition Index Deficiencies (See Note B) | F4: Current Replacement Value (See Note C)
B5: With Recent FCA Data (See Note D)
B6: 207 E&G | C6: ='FY 2025 Final '!L552 -> 7887213.1 | D6: =E6/F6 -> 0.062623636 | E6: ='FY 2025 Final '!O552 -> 2.6944873e+08 | F6: ='FY 2025 Final '!R552 -> 4302668288
B7: 207 AUX | C7: ='FY 2025 Final '!M552 -> 4901800.2 | D7: =E7/F7 -> 0.038508124 | E7: ='FY 2025 Final '!P552 -> 62558487 | F7: ='FY 2025 Final '!S552 -> 1624552949
B8: 209 HOS | C8: ='FY 2025 Final '!N552 -> 801720.72 | D8: =E8/F8 -> 0.13899672 | E8: ='FY 2025 Final '!Q552 -> 80327753 | F8: ='FY 2025 Final '!T552 -> 577911140
B9: Subtotal: | C9: =SUM(C6:C8) -> 13590734 | E9: =SUM(E6:E8) -> 4.1233497e+08 | F9: =SUM(F6:F8) -> 6505132377
B11: Without Recent FCA Data
B12: 207 E&G | C12: ='FY 2025 Final '!L554 -> 292200.09 | E12: ='[1]FY 2025 Final '!O552 -> No Data | F12: ='FY 2025 Final '!R554 -> 132515510
B13: 207 AUX | C13: ='FY 2025 Final '!M554 -> 2185589.8 | E13: ='[1]FY 2025 Final '!P552 -> No Data | F13: ='FY 2025 Final '!S554 -> 526225010
B14: 209 HOS | C14: ='FY 2025 Final '!N554 -> 3659660.2 | E14: ='[1]FY 2025 Final '!Q552 -> No Data | F14: ='FY 2025 Final '!T554 -> 1029048680
B15: Subtotal: | C15: =SUM(C12:C14) -> 6137450 | F15: =SUM(F12:F14) -> 1687789200
B17: Sum of 207 E&G | C17: =C6+C12 -> 8179413.1 | F17: =F6+F12 -> 4435183798
B18: Sum of 207 AUX | C18: =C7+C13 -> 7087390 | F18: =F7+F13 -> 2150777959
B19: Sum of 209 HOS | C19: =C8+C14 -> 4461380.9 | F19: =F8+F14 -> 1606959820
B20: Total: | C20: =SUM(C17:C19) -> 19728184 | F20: =SUM(F17:F19) -> 8192921577
B23: Notes
B24: A. | C24: The Facility Condition Index (FCI) measures building condition by comparing renewal maintenance needs to total building value, with lower percentages indicating better condition and higher values signaling greater reinvestment needs. UVa’s Renewal Maintenance program (established by the BOV in 2005) targets an FCI of ~5% for the 207 E&G portfolio.
B25: B. | C25: Building deficiencies are identified through facility condition assessments (FCA) conducted every four years. The findings are categorized, quantified, and cost-estimated, which feed into the renewal maintenance backlog and ultimately inform each building’s Facility Condition Index and capital planning priorities.
B26: C. | C26: Current Replacement Value (CRV) represents the estimated cost to replace a building in kind at today’s construction prices. This is not a total project cost value. It serves as the baseline denominator in the Facility Condition Index calculation.
B27: D. | C27: Buildings with "Recent FCA Data" are those built in the past 5 years or with a FCA completed in the past 5 years.

Sheet FY 2025 Final 
A1: Property ID | B1: Property Description | C1: GSF | D1: Year Built | E1: Most Recent Inspection Date | F1: FCI | G1: Deficiencies (from FCA for FY 2025) | H1: Current Replacement Value (FY 2025) | I1: 207 E&G | J1: 207 AUX | K1: 209 HOS | L1: 207 E&G GSF | M1: 207 AUX GSF | N1: 209 HOS GSF | O1: 207 E&G Deficiencies | P1: 207 AUX Deficiencies | Q1: 209 HOS Deficiencies | R1: 207 E&G CRV | S1: 207 AUX CRV | T1: 209 HOS CRV
A2: 3730 | B2: 1003 WEST MAIN | C2: 10796 | D2: 1948 | E2: 42767 | F2: =IF(G2="no data","",G2/H2) | G2: No Data | H2: 4532000 | I2: 0 | J2: 0 | K2: 1 | L2: =$C2*I2 -> 0 | M2: =$C2*J2 -> 0 | N2: =$C2*K2 -> 10796 | O2: =IF($G2="No Data","",$G2*I2) | P2: =IF($G2="No Data","",$G2*J2) | Q2: =IF($G2="No Data","",$G2*K2) | R2: =H2*I2 -> 0 | S2: =H2*J2 -> 0 | T2: =H2*K2 -> 4532000
A3: 3991 | B3: 1018 WEST MAIN ST | C3: 5668 | D3: 1903 | E3: 40252 | F3: =IF(G3="no data","",G3/H3) | G3: No Data | H3: 4633000 | I3: 0 | J3: 0 | K3: 1 | L3: =$C3*I3 -> 0 | M3: =$C3*J3 -> 0 | N3: =$C3*K3 -> 5668 | O3: =IF($G3="No Data","",$G3*I3) | P3: =IF($G3="No Data","",$G3*J3) | Q3: =IF($G3="No Data","",$G3*K3) | R3: =H3*I3 -> 0 | S3: =H3*J3 -> 0 | T3: =H3*K3 -> 4633000
A4: 2447 | B4: 102 CRESAP ROAD | C4: 3708 | D4: 1956 | E4: 45047 | F4: =IF(G4="no data","",G4/H4) -> 0.059422799 | G4: =VLOOKUP(A4,RANGE2,9,FALSE()) -> 41180 | H4: 693000 | I4: 0 | J4: 1 | K4: 0 | L4: =$C4*I4 -> 0 | M4: =$C4*J4 -> 3708 | N4: =$C4*K4 -> 0 | O4: =IF($G4="No Data","",$G4*I4) -> 0 | P4: =IF($G4="No Data","",$G4*J4) -> 41180 | Q4: =IF($G4="No Data","",$G4*K4) -> 0 | R4: =H4*I4 -> 0 | S4: =H4*J4 -> 693000 | T4: =H4*K4 -> 0
A5: 2448 | B5: 108 CRESAP ROAD | C5: 2916 | D5: 1956 | E5: 44831 | F5: =IF(G5="no data","",G5/H5) -> 0.102886 | G5: 71300 | H5: 693000 | I5: 0 | J5: 1 | K5: 0 | L5: =$C5*I5 -> 0 | M5: =$C5*J5 -> 2916 | N5: =$C5*K5 -> 0 | O5: =IF($G5="No Data","",$G5*I5) -> 0 | P5: =IF($G5="No Data","",$G5*J5) -> 71300 | Q5: =IF($G5="No Data","",$G5*K5) -> 0 | R5: =H5*I5 -> 0 | S5: =H5*J5 -> 693000 | T5: =H5*K5 -> 0
A6: 3992 | B6: 1107 WEST MAIN STREET | C6: 6663 | D6: 1958 | E6: 39083 | F6: =IF(G6="no data","",G6/H6) | G6: No Data | H6: 5468000 | I6: 0 | J6: 0 | K6: 1 | L6: =$C6*I6 -> 0 | M6: =$C6*J6 -> 0 | N6: =$C6*K6 -> 6663 | O6: =IF($G6="No Data","",$G6*I6) | P6: =IF($G6="No Data","",$G6*J6) | Q6: =IF($G6="No Data","",$G6*K6) | R6: =H6*I6 -> 0 | S6: =H6*J6 -> 0 | T6: =H6*K6 -> 5468000
A7: 1149 | B7: 11TH STREET PARKING GARAGE | C7: 339902 | D7: 2008 | E7: 40262 | F7: =IF(G7="no data","",G7/H7) | G7: No Data | H7: 38238000 | I7: 0 | J7: 0 | K7: 1 | L7: =$C7*I7 -> 0 | M7: =$C7*J7 -> 0 | N7: =$C7*K7 -> 339902 | O7: =IF($G7="No Data","",$G7*I7) | P7: =IF($G7="No Data","",$G7*J7) | Q7: =IF($G7="No Data","",$G7*K7) | R7: =H7*I7 -> 0 | S7: =H7*J7 -> 0 | T7: =H7*K7 -> 38238000
A8: 211 | B8: 200 MIDMONT LANE | C8: 6601 | D8: 1761 | E8: 43446 | F8: =IF(G8="no data","",G8/H8) -> 1.0995995 | G8: =VLOOKUP(A8,RANGE2,9,FALSE()) -> 823600 | H8: 749000 | I8: 1 | J8: 0 | K8: 0 | L8: =$C8*I8 -> 6601 | M8: =$C8*J8 -> 0 | N8: =$C8*K8 -> 0 | O8: =IF($G8="No Data","",$G8*I8) -> 823600 | P8: =IF($G8="No Data","",$G8*J8) -> 0 | Q8: =IF($G8="No Data","",$G8*K8) -> 0 | R8: =H8*I8 -> 749000 | S8: =H8*J8 -> 0 | T8: =H8*K8 -> 0
A9: 3656 | B9: 2400 OLD IVY ROAD | C9: 30300 | D9: 1984 | E9: 45551 | F9: =IF(G9="no data","",G9/H9) -> 0.00092580935 | G9: =VLOOKUP(A9,RANGE2,9,FALSE()) -> 8236 | H9: 8896000 | I9: 1 | J9: 0 | K9: 0 | L9: =$C9*I9 -> 30300 | M9: =$C9*J9 -> 0 | N9: =$C9*K9 -> 0 | O9: =IF($G9="No Data","",$G9*I9) -> 8236 | P9: =IF($G9="No Data","",$G9*J9) -> 0 | Q9: =IF($G9="No Data","",$G9*K9) -> 0 | R9: =H9*I9 -> 8896000 | S9: =H9*J9 -> 0 | T9: =H9*K9 -> 0
A10: 599 | B10: 2476 OLD IVY ROAD | C10: 13238 | D10: 2011 | E10: 45453 | F10: =IF(G10="no data","",G10/H10) -> 0 | G10: =VLOOKUP(A10,RANGE2,9,FALSE()) -> 0 | H10: 13902000 | I10: 1 | J10: 0 | K10: 0 | L10: =$C10*I10 -> 13238 | M10: =$C10*J10 -> 0 | N10: =$C10*K10 -> 0 | O10: =IF($G10="No Data","",$G10*I10) -> 0 | P10: =IF($G10="No Data","",$G10*J10) -> 0 | Q10: =IF($G10="No Data","",$G10*K10) -> 0 | R10: =H10*I10 -> 13902000 | S10: =H10*J10 -> 0 | T10: =H10*K10 -> 0
A11: 131 | B11: 400 BRANDON AVE | C11: 35354 | D11: 1990 | E11: 45539 | F11: =IF(G11="no data","",G11/H11) -> 0.00015846995 | G11: =VLOOKUP(A11,RANGE2,9,FALSE()) -> 2059 | H11: 12993000 | I11: 0.79 | J11: 0 | K11: 0.21 | L11: =$C11*I11 -> 27929.66 | M11: =$C11*J11 -> 0 | N11: =$C11*K11 -> 7424.34 | O11: =IF($G11="No Data","",$G11*I11) -> 1626.61 | P11: =IF($G11="No Data","",$G11*J11) -> 0 | Q11: =IF($G11="No Data","",$G11*K11) -> 432.39 | R11: =H11*I11 -> 10264470 | S11: =H11*J11 -> 0 | T11: =H11*K11 -> 2728530
A12: 2163 | B12: 506 Valley Road | C12: 2148 | D12: 1930 | F12: =IF(G12="no data","",G12/H12) | G12: No Data | H12: 639000 | I12: 0 | J12: 1 | K12: 0 | L12: =$C12*I12 -> 0 | M12: =$C12*J12 -> 2148 | N12: =$C12*K12 -> 0 | O12: =IF($G12="No Data","",$G12*I12) | P12: =IF($G12="No Data","",$G12*J12) | Q12: =IF($G12="No Data","",$G12*K12) | R12: =H12*I12 -> 0 | S12: =H12*J12 -> 639000 | T12: =H12*K12 -> 0
A13: 553 | B13: ABBOTT CENTER | C13: 64743 | D13: 2002 | E13: 45686 | F13: =IF(G13="no data","",G13/H13) -> 0.087480506 | G13: =VLOOKUP(A13,RANGE2,9,FALSE()) -> 3036098.5 | H13: 34706000 | I13: 1 | J13: 0 | K13: 0 | L13: =$C13*I13 -> 64743 | M13: =$C13*J13 -> 0 | N13: =$C13*K13 -> 0 | O13: =IF($G13="No Data","",$G13*I13) -> 3036098.5 | P13: =IF($G13="No Data","",$G13*J13) -> 0 | Q13: =IF($G13="No Data","",$G13*K13) -> 0 | R13: =H13*I13 -> 34706000 | S13: =H13*J13 -> 0 | T13: =H13*K13 -> 0
A14: 2835 | B14: ABBOTT HOUSE #835 | C14: 8264 | D14: 1973 | E14: 45513 | F14: =IF(G14="no data","",G14/H14) -> 0.027046914 | G14: =VLOOKUP(A14,RANGE2,9,FALSE()) -> 32429.25 | H14: 1199000 | I14: 0 | J14: 1 | K14: 0 | L14: =$C14*I14 -> 0 | M14: =$C14*J14 -> 8264 | N14: =$C14*K14 -> 0 | O14: =IF($G14="No Data","",$G14*I14) -> 0 | P14: =IF($G14="No Data","",$G14*J14) -> 32429.25 | Q14: =IF($G14="No Data","",$G14*K14) -> 0 | R14: =H14*I14 -> 0 | S14: =H14*J14 -> 1199000 | T14: =H14*K14 -> 0
A15: 2836 | B15: ABBOTT HOUSE #836 | C15: 8458 | D15: 1973 | E15: 45513 | F15: =IF(G15="no data","",G15/H15) -> 0.033643791 | G15: =VLOOKUP(A15,RANGE2,9,FALSE()) -> 41180 | H15: 1224000 | I15: 0 | J15: 1 | K15: 0 | L15: =$C15*I15 -> 0 | M15: =$C15*J15 -> 8458 | N15: =$C15*K15 -> 0 | O15: =IF($G15="No Data","",$G15*I15) -> 0 | P15: =IF($G15="No Data","",$G15*J15) -> 41180 | Q15: =IF($G15="No Data","",$G15*K15) -> 0 | R15: =H15*I15 -> 0 | S15: =H15*J15 -> 1224000 | T15: =H15*K15 -> 0
A16: 816 | B16: ACADEMIC LOUNGE | C16: 2613 | D16: 2018 | F16: =IF(G16="no data","",G16/H16) | G16: No Data | H16: 2382000 | I16: 0 | J16: 1 | K16: 0 | L16: =$C16*I16 -> 0 | M16: =$C16*J16 -> 2613 | N16: =$C16*K16 -> 0 | O16: =IF($G16="No Data","",$G16*I16) | P16: =IF($G16="No Data","",$G16*J16) | Q16: =IF($G16="No Data","",$G16*K16) | R16: =H16*I16 -> 0 | S16: =H16*J16 -> 2382000 | T16: =H16*K16 -> 0
A17: 322 | B17: AERO RESEARCH BLOCK HOUSE | C17: 1756 | D17: 1950 | E17: 45295 | F17: =IF(G17="no data","",G17/H17) -> 0.14495833 | G17: =VLOOKUP(A17,RANGE2,9,FALSE()) -> 25222.75 | H17: 174000 | I17: 1 | J17: 0 | K17: 0 | L17: =$C17*I17 -> 1756 | M17: =$C17*J17 -> 0 | N17: =$C17*K17 -> 0 | O17: =IF($G17="No Data","",$G17*I17) -> 25222.75 | P17: =IF($G17="No Data","",$G17*J17) -> 0 | Q17: =IF($G17="No Data","",$G17*K17) -> 0 | R17: =H17*I17 -> 174000 | S17: =H17*J17 -> 0 | T17: =H17*K17 -> 0
A18: 323 | B18: AERO RESEARCH QUONSET #1 | C18: 646 | D18: 1948 | E18: 44781 | F18: =IF(G18="no data","",G18/H18) -> 0.017706509 | G18: =VLOOKUP(A18,RANGE2,9,FALSE()) -> 4090.2035 | H18: 231000 | I18: 1 | J18: 0 | K18: 0 | L18: =$C18*I18 -> 646 | M18: =$C18*J18 -> 0 | N18: =$C18*K18 -> 0 | O18: =IF($G18="No Data","",$G18*I18) -> 4090.2035 | P18: =IF($G18="No Data","",$G18*J18) -> 0 | Q18: =IF($G18="No Data","",$G18*K18) -> 0 | R18: =H18*I18 -> 231000 | S18: =H18*J18 -> 0 | T18: =H18*K18 -> 0
A19: 325 | B19: AERO RESEARCH QUONSET #2 | C19: 720 | D19: 1950 | E19: 44781 | F19: =IF(G19="no data","",G19/H19) -> 0.022965318 | G19: 3973 | H19: 173000 | I19: 1 | J19: 0 | K19: 0 | L19: =$C19*I19 -> 720 | M19: =$C19*J19 -> 0 | N19: =$C19*K19 -> 0 | O19: =IF($G19="No Data","",$G19*I19) -> 3973 | P19: =IF($G19="No Data","",$G19*J19) -> 0 | Q19: =IF($G19="No Data","",$G19*K19) -> 0 | R19: =H19*I19 -> 173000 | S19: =H19*J19 -> 0 | T19: =H19*K19 -> 0
A20: 326 | B20: AERO RESEARCH QUONSET #3 | C20: 720 | D20: 1950 | E20: 44781 | F20: =IF(G20="no data","",G20/H20) -> 0 | G20: =VLOOKUP(A20,RANGE2,9,FALSE()) -> 0 | H20: 173000 | I20: 1 | J20: 0 | K20: 0 | L20: =$C20*I20 -> 720 | M20: =$C20*J20 -> 0 | N20: =$C20*K20 -> 0 | O20: =IF($G20="No Data","",$G20*I20) -> 0 | P20: =IF($G20="No Data","",$G20*J20) -> 0 | Q20: =IF($G20="No Data","",$G20*K20) -> 0 | R20: =H20*I20 -> 173000 | S20: =H20*J20 -> 0 | T20: =H20*K20 -> 0
A21: 324 | B21: AERO RESEARCH STORAGE BUILDING | C21: 612 | D21: 1948 | E21: 44781 | F21: =IF(G21="no data","",G21/H21) -> 0 | G21: =VLOOKUP(A21,RANGE2,9,FALSE()) -> 0 | H21: 147000 | I21: 1 | J21: 0 | K21: 0 | L21: =$C21*I21 -> 612 | M21: =$C21*J21 -> 0 | N21: =$C21*K21 -> 0 | O21: =IF($G21="No Data","",$G21*I21) -> 0 | P21: =IF($G21="No Data","",$G21*J21) -> 0 | Q21: =IF($G21="No Data","",$G21*K21) -> 0 | R21: =H21*I21 -> 147000 | S21: =H21*J21 -> 0 | T21: =H21*K21 -> 0
A22: 321 | B22: AEROSPACE RESEARCH LABORATORY | C22: 15067 | D22: 1948 | E22: 45280 | F22: =IF(G22="no data","",G22/H22) -> 0.058726438 | G22: =VLOOKUP(A22,RANGE2,9,FALSE()) -> 236785 | H22: 4032000 | I22: 1 | J22: 0 | K22: 0 | L22: =$C22*I22 -> 15067 | M22: =$C22*J22 -> 0 | N22: =$C22*K22 -> 0 | O22: =IF($G22="No Data","",$G22*I22) -> 236785 | P22: =IF($G22="No Data","",$G22*J22) -> 0 | Q22: =IF($G22="No Data","",$G22*K22) -> 0 | R22: =H22*I22 -> 4032000 | S22: =H22*J22 -> 0 | T22: =H22*K22 -> 0
A23: 203 | B23: ALBERT H SMALL BUILDING | C23: 10526 | D23: 1948 | E23: 45694 | F23: =IF(G23="no data","",G23/H23) -> 0.32442614 | G23: =VLOOKUP(A23,RANGE2,9,FALSE()) -> 1087152 | H23: 3351000 | I23: 1 | J23: 0 | K23: 0 | L23: =$C23*I23 -> 10526 | M23: =$C23*J23 -> 0 | N23: =$C23*K23 -> 0 | O23: =IF($G23="No Data","",$G23*I23) -> 1087152 | P23: =IF($G23="No Data","",$G23*J23) -> 0 | Q23: =IF($G23="No Data","",$G23*K23) -> 0 | R23: =H23*I23 -> 3351000 | S23: =H23*J23 -> 0 | T23: =H23*K23 -> 0
A24: 7273 | B24: ALDERMAN ROAD PUMPING STATION | C24: 1189 | D24: 1999 | E24: 45575 | F24: =IF(G24="no data","",G24/H24) -> 0.35362656 | G24: =VLOOKUP(A24,RANGE2,9,FALSE()) -> 27229.246 | H24: 77000 | I24: 1 | J24: 0 | K24: 0 | L24: =$C24*I24 -> 1189 | M24: =$C24*J24 -> 0 | N24: =$C24*K24 -> 0 | O24: =IF($G24="No Data","",$G24*I24) -> 27229.246 | P24: =IF($G24="No Data","",$G24*J24) -> 0 | Q24: =IF($G24="No Data","",$G24*K24) -> 0 | R24: =H24*I24 -> 77000 | S24: =H24*J24 -> 0 | T24: =H24*K24 -> 0
A25: 7258 | B25: ALDERMAN SUBSTATION 15KV | C25: 1447 | D25: 1989 | E25: 44110 | F25: =IF(G25="no data","",G25/H25) -> 0 | G25: =VLOOKUP(A25,RANGE2,9,FALSE()) -> 0 | H25: 5770000 | I25: 1 | J25: 0 | K25: 0 | L25: =$C25*I25 -> 1447 | M25: =$C25*J25 -> 0 | N25: =$C25*K25 -> 0 | O25: =IF($G25="No Data","",$G25*I25) -> 0 | P25: =IF($G25="No Data","",$G25*J25) -> 0 | Q25: =IF($G25="No Data","",$G25*K25) -> 0 | R25: =H25*I25 -> 5770000 | S25: =H25*J25 -> 0 | T25: =H25*K25 -> 0
A26: 62 | B26: AMPHITHEATER | C26: 3675 | D26: 1920 | E26: 45575 | F26: =IF(G26="no data","",G26/H26) -> 0.0057902137 | G26: =VLOOKUP(A26,RANGE2,9,FALSE()) -> 10295 | H26: 1778000 | I26: 1 | J26: 0 | K26: 0 | L26: =$C26*I26 -> 3675 | M26: =$C26*J26 -> 0 | N26: =$C26*K26 -> 0 | O26: =IF($G26="No Data","",$G26*I26) -> 10295 | P26: =IF($G26="No Data","",$G26*J26) -> 0 | Q26: =IF($G26="No Data","",$G26*K26) -> 0 | R26: =H26*I26 -> 1778000 | S26: =H26*J26 -> 0 | T26: =H26*K26 -> 0
A27: 5271 | B27: AQUATIC & FITNESS CENTER | C27: 180806 | D27: 1996 | E27: 41985 | F27: =IF(G27="no data","",G27/H27) | G27: No Data | H27: 48587000 | I27: 0 | J27: 1 | K27: 0 | L27: =$C27*I27 -> 0 | M27: =$C27*J27 -> 180806 | N27: =$C27*K27 -> 0 | O27: =IF($G27="No Data","",$G27*I27) | P27: =IF($G27="No Data","",$G27*J27) | Q27: =IF($G27="No Data","",$G27*K27) | R27: =H27*I27 -> 0 | S27: =H27*J27 -> 48587000 | T27: =H27*K27 -> 0
A28: 5575 | B28: ARENA PARKING GARAGE | C28: 263514 | D28: 2006 | E28: 40263 | F28: =IF(G28="no data","",G28/H28) | G28: No Data | H28: 20871000 | I28: 0 | J28: 1 | K28: 0 | L28: =$C28*I28 -> 0 | M28: =$C28*J28 -> 263514 | N28: =$C28*K28 -> 0 | O28: =IF($G28="No Data","",$G28*I28) | P28: =IF($G28="No Data","",$G28*J28) | Q28: =IF($G28="No Data","",$G28*K28) | R28: =H28*I28 -> 0 | S28: =H28*J28 -> 20871000 | T28: =H28*K28 -> 0
A29: 252 | B29: ASTRONOMY BUILDING | C29: 37917 | D29: 1952 | E29: 45519 | F29: =IF(G29="no data","",G29/H29) -> 0.021262193 | G29: =VLOOKUP(A29,RANGE2,9,FALSE()) -> 213621.25 | H29: 10047000 | I29: 1 | J29: 0 | K29: 0 | L29: =$C29*I29 -> 37917 | M29: =$C29*J29 -> 0 | N29: =$C29*K29 -> 0 | O29: =IF($G29="No Data","",$G29*I29) -> 213621.25 | P29: =IF($G29="No Data","",$G29*J29) -> 0 | Q29: =IF($G29="No Data","",$G29*K29) -> 0 | R29: =H29*I29 -> 10047000 | S29: =H29*J29 -> 0 | T29: =H29*K29 -> 0
A30: 3761 | B30: AURBACH MEDICAL RESEARCH BUILDING | C30: 73813 | D30: 2001 | E30: 44826 | F30: =IF(G30="no data","",G30/H30) -> 0.013937408 | G30: =VLOOKUP(A30,RANGE2,9,FALSE()) -> 483865 | H30: 34717000 | I30: 1 | J30: 0 | K30: 0 | L30: =$C30*I30 -> 73813 | M30: =$C30*J30 -> 0 | N30: =$C30*K30 -> 0 | O30: =IF($G30="No Data","",$G30*I30) -> 483865 | P30: =IF($G30="No Data","",$G30*J30) -> 0 | Q30: =IF($G30="No Data","",$G30*K30) -> 0 | R30: =H30*I30 -> 34717000 | S30: =H30*J30 -> 0 | T30: =H30*K30 -> 0
A31: 7375 | B31: BALZ PUMP HOUSE | C31: 569 | D31: 1967 | E31: 45777 | F31: =IF(G31="no data","",G31/H31) -> 0.0059588157 | G31: =VLOOKUP(A31,RANGE2,9,FALSE()) -> 6691.75 | H31: 1123000 | I31: 1 | J31: 0 | K31: 0 | L31: =$C31*I31 -> 569 | M31: =$C31*J31 -> 0 | N31: =$C31*K31 -> 0 | O31: =IF($G31="No Data","",$G31*I31) -> 6691.75 | P31: =IF($G31="No Data","",$G31*J31) -> 0 | Q31: =IF($G31="No Data","",$G31*K31) -> 0 | R31: =H31*I31 -> 1123000 | S31: =H31*J31 -> 0 | T31: =H31*K31 -> 0
A32: 2369 | B32: BALZ-DOBIE HOUSE | C32: 66636 | D32: 2011 | E32: 46056 | F32: =IF(G32="no data","",G32/H32) -> 0.0004125464 | G32: =VLOOKUP(A32,RANGE2,9,FALSE()) -> 10470.015 | H32: 25379000 | I32: 0 | J32: 1 | K32: 0 | L32: =$C32*I32 -> 0 | M32: =$C32*J32 -> 66636 | N32: =$C32*K32 -> 0 | O32: =IF($G32="No Data","",$G32*I32) -> 0 | P32: =IF($G32="No Data","",$G32*J32) -> 10470.015 | Q32: =IF($G32="No Data","",$G32*K32) -> 0 | R32: =H32*I32 -> 0 | S32: =H32*J32 -> 25379000 | T32: =H32*K32 -> 0
A33: 1991 | B33: BATTLE BUILDING AT THE UVA CHILDREN'S HOSPITAL | C33: 201064 | D33: 2014 | F33: =IF(G33="no data","",G33/H33) | G33: No Data | H33: 136410000 | I33: 0 | J33: 0 | K33: 1 | L33: =$C33*I33 -> 0 | M33: =$C33*J33 -> 0 | N33: =$C33*K33 -> 201064 | O33: =IF($G33="No Data","",$G33*I33) | P33: =IF($G33="No Data","",$G33*J33) | Q33: =IF($G33="No Data","",$G33*K33) | R33: =H33*I33 -> 0 | S33: =H33*J33 -> 0 | T33: =H33*K33 -> 136410000
A34: 264 | B34: BAVARO HALL | C34: 68050 | D34: 2010 | E34: 45553 | F34: =IF(G34="no data","",G34/H34) -> 0.001727349 | G34: =VLOOKUP(A34,RANGE2,9,FALSE()) -> 85963.25 | H34: 49766000 | I34: 1 | J34: 0 | K34: 0 | L34: =$C34*I34 -> 68050 | M34: =$C34*J34 -> 0 | N34: =$C34*K34 -> 0 | O34: =IF($G34="No Data","",$G34*I34) -> 85963.25 | P34: =IF($G34="No Data","",$G34*J34) -> 0 | Q34: =IF($G34="No Data","",$G34*K34) -> 0 | R34: =H34*I34 -> 49766000 | S34: =H34*J34 -> 0 | T34: =H34*K34 -> 0
A35: 407 | B35: BAYLY BUILDING | C35: 14360 | D35: 1934 | E35: 45001 | F35: =IF(G35="no data","",G35/H35) -> 0.0074963592 | G35: =VLOOKUP(A35,RANGE2,9,FALSE()) -> 30885 | H35: 4120000 | I35: 1 | J35: 0 | K35: 0 | L35: =$C35*I35 -> 14360 | M35: =$C35*J35 -> 0 | N35: =$C35*K35 -> 0 | O35: =IF($G35="No Data","",$G35*I35) -> 30885 | P35: =IF($G35="No Data","",$G35*J35) -> 0 | Q35: =IF($G35="No Data","",$G35*K35) -> 0 | R35: =H35*I35 -> 4120000 | S35: =H35*J35 -> 0 | T35: =H35*K35 -> 0
A36: 436 | B36: BEMISS HOUSE | C36: 4892 | D36: 1936 | E36: 45385 | F36: =IF(G36="no data","",G36/H36) -> 0.037565232 | G36: =VLOOKUP(A36,RANGE2,9,FALSE()) -> 43650.8 | H36: 1162000 | I36: 1 | J36: 0 | K36: 0 | L36: =$C36*I36 -> 4892 | M36: =$C36*J36 -> 0 | N36: =$C36*K36 -> 0 | O36: =IF($G36="No Data","",$G36*I36) -> 43650.8 | P36: =IF($G36="No Data","",$G36*J36) -> 0 | Q36: =IF($G36="No Data","",$G36*K36) -> 0 | R36: =H36*I36 -> 1162000 | S36: =H36*J36 -> 0 | T36: =H36*K36 -> 0
A37: 2146 | B37: BICE HOUSE | C37: 73207 | D37: 1974 | E37: 44742 | F37: =IF(G37="no data","",G37/H37) -> 0.00060861986 | G37: =VLOOKUP(A37,RANGE2,9,FALSE()) -> 10516.343 | H37: 17279000 | I37: 0 | J37: 1 | K37: 0 | L37: =$C37*I37 -> 0 | M37: =$C37*J37 -> 73207 | N37: =$C37*K37 -> 0 | O37: =IF($G37="No Data","",$G37*I37) -> 0 | P37: =IF($G37="No Data","",$G37*J37) -> 10516.343 | Q37: =IF($G37="No Data","",$G37*K37) -> 0 | R37: =H37*I37 -> 0 | S37: =H37*J37 -> 17279000 | T37: =H37*K37 -> 0
A38: 257 | B38: BIOLOGY GREENHOUSE | C38: 8137 | D38: 1967 | E38: 45365 | F38: =IF(G38="no data","",G38/H38) -> 0.04299011 | G38: =VLOOKUP(A38,RANGE2,9,FALSE()) -> 78242 | H38: 1820000 | I38: 1 | J38: 0 | K38: 0 | L38: =$C38*I38 -> 8137 | M38: =$C38*J38 -> 0 | N38: =$C38*K38 -> 0 | O38: =IF($G38="No Data","",$G38*I38) -> 78242 | P38: =IF($G38="No Data","",$G38*J38) -> 0 | Q38: =IF($G38="No Data","",$G38*K38) -> 0 | R38: =H38*I38 -> 1820000 | S38: =H38*J38 -> 0 | T38: =H38*K38 -> 0
A39: 1155 | B39: BIOMED. ENG. & MEDICAL SCI. BLD. (MR-5) | C39: 164206 | D39: 2002 | E39: 44798 | F39: =IF(G39="no data","",G39/H39) -> 0.00020085154 | G39: =VLOOKUP(A39,RANGE2,9,FALSE()) -> 16358.755 | H39: 81447000 | I39: 1 | J39: 0 | K39: 0 | L39: =$C39*I39 -> 164206 | M39: =$C39*J39 -> 0 | N39: =$C39*K39 -> 0 | O39: =IF($G39="No Data","",$G39*I39) -> 16358.755 | P39: =IF($G39="No Data","",$G39*J39) -> 0 | Q39: =IF($G39="No Data","",$G39*K39) -> 0 | R39: =H39*I39 -> 81447000 | S39: =H39*J39 -> 0 | T39: =H39*K39 -> 0
A40: 8060 | B40: BLANDY FARM HOUSE | C40: 2783 | D40: 1926 | E40: 45846 | F40: =IF(G40="no data","",G40/H40) -> 0.13755704 | G40: =VLOOKUP(A40,RANGE2,9,FALSE()) -> 46494.279 | H40: 338000 | I40: 1 | J40: 0 | K40: 0 | L40: =$C40*I40 -> 2783 | M40: =$C40*J40 -> 0 | N40: =$C40*K40 -> 0 | O40: =IF($G40="No Data","",$G40*I40) -> 46494.279 | P40: =IF($G40="No Data","",$G40*J40) -> 0 | Q40: =IF($G40="No Data","",$G40*K40) -> 0 | R40: =H40*I40 -> 338000 | S40: =H40*J40 -> 0 | T40: =H40*K40 -> 0
...

Sheet ENR BCI
B3: Engineering News-Record
B4: Building Cost Index (BCI) as of each July
B6: FY_END | C6: BCI_July | D6: Yr-to-Yr
D7: Delta
B8: 1996 | C8: 3190 | D8: -
B9: 1997 | C9: 3392 | D9: 0.063
B10: 1998 | C10: 3382 | D10: -0.003
B11: 1999 | C11: 3460 | D11: 0.023
B12: 2000 | C12: 3545 | D12: 0.025
B13: 2001 | C13: 3625 | D13: 0.023
B14: 2002 | C14: 3652 | D14: 0.007
B15: 2003 | C15: 3683 | D15: 0.008
B16: 2004 | C16: 4013 | D16: 0.09
B17: 2005 | C17: 4197 | D17: 0.046
B18: 2006 | C18: 4356 | D18: 0.038
B19: 2007 | C19: 4493 | D19: 0.031
B20: 2008 | C20: 4723 | D20: 0.051
... B37: 2025 | C37: 8577 | D37: 0.03

Sheet Working Draft
A1: Property ID | B1: Property Description | C1: Current Replacement Value | D1: GSF | E1: Year Built | F1: 207 E&G | G1: 207 AUX | H1: 209 HOS | I1: Building Agency | J1: Inflated Deficiencies
A2: 3730 | B2: 1003 WEST MAIN | C2: 4532000 | D2: 10796 | E2: 1948 | F2: 0 | G2: 0 | H2: 1 | I2: 209 HOS | J2: No Data
A3: 3991 | B3: 1018 WEST MAIN ST | C3: 4633000 | D3: 5668 | E3: 1903 | F3: 0 | G3: 0 | H3: 1 | I3: 209 HOS | J3: No Data
A4: 2447 | B4: 102 CRESAP ROAD | C4: 693000 | D4: 3708 | E4: 1956 | F4: 0 | G4: 1 | H4: 0 | I4: 207 AUX | J4: =VLOOKUP(A4,RANGE2,9,FALSE()) -> 41180
A5: 2448 | B5: 108 CRESAP ROAD | C5: 693000 | D5: 2916 | E5: 1956 | F5: 0 | G5: 1 | H5: 0 | I5: 207 AUX | J5: 71300
A6: 3992 | B6: 1107 WEST MAIN STREET | C6: 5468000 | D6: 6663 | E6: 1958 | F6: 0 | G6: 0 | H6: 1 | I6: 209 HOS | J6: No Data
A7: 1149 | B7: 11TH STREET PARKING GARAGE | C7: 38238000 | D7: 339902 | E7: 2008 | F7: 0 | G7: 0 | H7: 1 | I7: 209 HOS | J7: No Data
A8: 211 | B8: 200 MIDMONT LANE | C8: 749000 | D8: 6601 | E8: 1761 | F8: 0 | G8: 0 | H8: 0 | I8: 207 E&G | J8: =VLOOKUP(A8,RANGE2,9,FALSE()) -> 823600
A9: 3656 | B9: 2400 OLD IVY ROAD | C9: 8896000 | D9: 30300 | E9: 1984 | F9: 1 | G9: 0 | H9: 0 | I9: 207 E&G | J9: =VLOOKUP(A9,RANGE2,9,FALSE()) -> 8236
A10: 599 | B10: 2476 OLD IVY ROAD | C10: 13902000 | D10: 13238 | E10: 2011 | F10: 1 | G10: 0 | H10: 0 | I10: 207 E&G | J10: =VLOOKUP(A10,RANGE2,9,FALSE()) -> 0
A11: 131 | B11: 400 BRANDON AVE | C11: 12993000 | D11: 35354 | E11: 1990 | F11: 0.79 | G11: 0 | H11: 0.21 | I11: 207 E&G | J11: =VLOOKUP(A11,RANGE2,9,FALSE()) -> 2059 | K11: Shown as AUX
A12: 2163 | B12: 506 Valley Road | C12: 639000 | D12: 2148 | E12: 1930 | F12: 0 | G12: 1 | H12: 0 | I12: 207 AUX | J12: =VLOOKUP(A12,RANGE2,9,FALSE()) -> 0
A13: 553 | B13: ABBOTT CENTER | C13: 34706000 | D13: 64743 | E13: 2002 | F13: 1 | G13: 0 | H13: 0 | I13: 207 E&G | J13: =VLOOKUP(A13,RANGE2,9,FALSE()) -> 3036098.5
A14: 2835 | B14: ABBOTT HOUSE #835 | C14: 1199000 | D14: 8264 | E14: 1973 | F14: 0 | G14: 1 | H14: 0 | I14: 207 AUX | J14: =VLOOKUP(A14,RANGE2,9,FALSE()) -> 32429.25
A15: 2836 | B15: ABBOTT HOUSE #836 | C15: 1224000 | D15: 8458 | E15: 1973 | F15: 0 | G15: 1 | H15: 0 | I15: 207 AUX | J15: =VLOOKUP(A15,RANGE2,9,FALSE()) -> 41180
A16: 816 | B16: ACADEMIC LOUNGE | C16: 2382000 | D16: 2613 | E16: 2018 | F16: 0 | G16: 1 | H16: 0 | I16: 207 AUX | J16: No Data
A17: 322 | B17: AERO RESEARCH BLOCK HOUSE | C17: 174000 | D17: 1756 | E17: 1950 | F17: 1 | G17: 0 | H17: 0 | I17: 207 E&G | J17: =VLOOKUP(A17,RANGE2,9,FALSE()) -> 25222.75
A18: 323 | B18: AERO RESEARCH QUONSET #1 | C18: 231000 | D18: 646 | E18: 1948 | F18: 1 | G18: 0 | H18: 0 | I18: 207 E&G | J18: =VLOOKUP(A18,RANGE2,9,FALSE()) -> 4090.2035
A19: 325 | B19: AERO RESEARCH QUONSET #2 | C19: 173000 | D19: 720 | E19: 1950 | F19: 1 | G19: 0 | H19: 0 | I19: 207 E&G | J19: 3973
A20: 326 | B20: AERO RESEARCH QUONSET #3 | C20: 173000 | D20: 720 | E20: 1950 | F20: 1 | G20: 0 | H20: 0 | I20: 207 E&G | J20: =VLOOKUP(A20,RANGE2,9,FALSE()) -> 0
A21: 324 | B21: AERO RESEARCH STORAGE BUILDING | C21: 147000 | D21: 612 | E21: 1948 | F21: 1 | G21: 0 | H21: 0 | I21: 207 E&G | J21: =VLOOKUP(A21,RANGE2,9,FALSE()) -> 0
A22: 321 | B22: AEROSPACE RESEARCH LABORATORY | C22: 4032000 | D22: 15067 | E22: 1948 | F22: 1 | G22: 0 | H22: 0 | I22: 207 E&G | J22: =VLOOKUP(A22,RANGE2,9,FALSE()) -> 236785
A23: 203 | B23: ALBERT H SMALL BUILDING | C23: 3351000 | D23: 10526 | E23: 1948 | F23: 1 | G23: 0 | H23: 0 | I23: 207 E&G | J23: =VLOOKUP(A23,RANGE2,9,FALSE()) -> 1087152
A24: 7273 | B24: ALDERMAN ROAD PUMPING STATION | C24: 77000 | D24: 1189 | E24: 1999 | F24: 1 | G24: 0 | H24: 0 | I24: 207 E&G | J24: =VLOOKUP(A24,RANGE2,9,FALSE()) -> 27229.246
A25: 7258 | B25: ALDERMAN SUBSTATION 15KV | C25: 5770000 | D25: 1447 | E25: 1989 | F25: 1 | G25: 0 | H25: 0 | I25: 207 E&G | J25: =VLOOKUP(A25,RANGE2,9,FALSE()) -> 0
A26: 62 | B26: AMPHITHEATER | C26: 1778000 | D26: 3675 | E26: 1920 | F26: 1 | G26: 0 | H26: 0 | I26: 207 E&G | J26: =VLOOKUP(A26,RANGE2,9,FALSE()) -> 10295
A27: 5271 | B27: AQUATIC & FITNESS CENTER | C27: 48587000 | D27: 180806 | E27: 1996 | F27: 0 | G27: 1 | H27: 0 | I27: 207 AUX | J27: No Data
A28: 5575 | B28: ARENA PARKING GARAGE | C28: 20871000 | D28: 263514 | E28: 2006 | F28: 0 | G28: 1 | H28: 0 | I28: 207 AUX | J28: No Data
A29: 252 | B29: ASTRONOMY BUILDING | C29: 10047000 | D29: 37917 | E29: 1952 | F29: 1 | G29: 0 | H29: 0 | I29: 207 E&G | J29: =VLOOKUP(A29,RANGE2,9,FALSE()) -> 213621.25
A30: 3761 | B30: AURBACH MEDICAL RESEARCH BUILDING | C30: 34717000 | D30: 73813 | E30: 2001 | F30: 1 | G30: 0 | H30: 0 | I30: 207 E&G | J30: =VLOOKUP(A30,RANGE2,9,FALSE()) -> 483865
A31: 7375 | B31: BALZ PUMP HOUSE | C31: 1123000 | D31: 569 | E31: 1967 | F31: 1 | G31: 0 | H31: 0 | I31: 207 E&G | J31: =VLOOKUP(A31,RANGE2,9,FALSE()) -> 6691.75
A32: 2369 | B32: BALZ-DOBIE HOUSE | C32: 25379000 | D32: 66636 | E32: 2011 | F32: 0 | G32: 1 | H32: 0 | I32: 207 AUX | J32: =VLOOKUP(A32,RANGE2,9,FALSE()) -> 10470.015
A33: 1991 | B33: BATTLE BUILDING AT THE UVA CHILDREN'S HOSPITAL | C33: 136410000 | D33: 201064 | E33: 2014 | F33: 0 | G33: 0 | H33: 1 | I33: 209 HOS | J33: No Data
A34: 264 | B34: BAVARO HALL | C34: 49766000 | D34: 68050 | E34: 2010 | F34: 1 | G34: 0 | H34: 0 | I34: 207 E&G | J34: =VLOOKUP(A34,RANGE2,9,FALSE()) -> 85963.25
A35: 407 | B35: BAYLY BUILDING | C35: 4120000 | D35: 14360 | E35: 1934 | F35: 1 | G35: 0 | H35: 0 | I35: 207 E&G | J35: =VLOOKUP(A35,RANGE2,9,FALSE()) -> 30885
A36: 436 | B36: BEMISS HOUSE | C36: 1162000 | D36: 4892 | E36: 1936 | F36: 1 | G36: 0 | H36: 0 | I36: 207 E&G | J36: =VLOOKUP(A36,RANGE2,9,FALSE()) -> 43650.8
A37: 2146 | B37: BICE HOUSE | C37: 17279000 | D37: 73207 | E37: 1974 | F37: 0 | G37: 1 | H37: 0 | I37: 207 AUX | J37: =VLOOKUP(A37,RANGE2,9,FALSE()) -> 10516.343
A38: 257 | B38: BIOLOGY GREENHOUSE | C38: 1820000 | D38: 8137 | E38: 1967 | F38: 1 | G38: 0 | H38: 0 | I38: 207 E&G | J38: =VLOOKUP(A38,RANGE2,9,FALSE()) -> 78242
A39: 1155 | B39: BIOMED. ENG. & MEDICAL SCI. BLD. (MR-5) | C39: 81447000 | D39: 164206 | E39: 2002 | F39: 1 | G39: 0 | H39: 0 | I39: 207 E&G | J39: =VLOOKUP(A39,RANGE2,9,FALSE()) -> 16358.755
A40: 8060 | B40: BLANDY FARM HOUSE | C40: 338000 | D40: 2783 | E40: 1926 | F40: 1 | G40: 0 | H40: 0 | I40: 207 E&G | J40: =VLOOKUP(A40,RANGE2,9,FALSE()) -> 46494.279
...

Sheet supporting1
A1: Property ID | B1: Property Description | C1: Current Replacement Value | D1: Current Replacement based on Index | E1: Percentage Increase | F1: Total Deficiences | G1: % increase | H1: Def * increase | I1: Total Deficiences Inflated
A2: 2447 | B2: 102 CRESAP ROAD | C2: 677082 | D2: 693224.73 | E2: 2.3286437 | F2: 40000 | G2: 0.0295 | H2: =F2*G2 -> 1180 | I2: =F2+H2 -> 41180
A3: 211 | B3: 200 MIDMONT LANE | C3: 648631 | D3: 764203.57 | E3: 15.12327 | F3: 800000 | G3: 0.0295 | H3: =F3*G3 -> 23600 | I3: =F3+H3 -> 823600
A4: 3656 | B4: 2400 OLD IVY ROAD | C4: 8684965 | D4: 8896092.4 | E4: 2.3732596 | F4: 8000 | G4: 0.0295 | H4: =F4*G4 -> 236 | I4: =F4+H4 -> 8236
A5: 599 | B5: 2476 OLD IVY ROAD | C5: 13577646 | D5: 13902047 | E5: 2.3334795 | F5: 0 | G5: 0.0295 | H5: =F5*G5 -> 0 | I5: =F5+H5 -> 0
A6: 131 | B6: 400 BRANDON AVE | C6: 12690565 | D6: 12993058 | E6: 2.3281093 | F6: 2000 | G6: 0.0295 | H6: =F6*G6 -> 59 | I6: =F6+H6 -> 2059
A7: 553 | B7: ABBOTT CENTER | C7: 33875837 | D7: 34705627 | E7: 2.3909376 | F7: 2949100 | G7: 0.0295 | H7: =F7*G7 -> 86998.45 | I7: =F7+H7 -> 3036098.5
A8: 322 | B8: AERO RESEARCH BLOCK HOUSE | C8: 170280 | D8: 174343.82 | E8: 2.3309244 | F8: 24500 | G8: 0.0295 | H8: =F8*G8 -> 722.75 | I8: =F8+H8 -> 25222.75
A9: 323 | B9: AERO RESEARCH QUONSET #1 | C9: 225649 | D9: 231027.23 | E9: 2.3279625 | F9: 3973 | G9: 0.0295 | H9: =F9*G9 -> 117.2035 | I9: =F9+H9 -> 4090.2035
A10: 325 | B10: AERO RESEARCH QUONSET #2 | C10: 169233 | D10: 173270.93 | E10: 2.3304148 | F10: 0 | G10: 0.0295 | H10: =F10*G10 -> 0 | I10: =F10+H10 -> 0
A11: 326 | B11: AERO RESEARCH QUONSET #3 | C11: 169233 | D11: 173270.93 | E11: 2.3304148 | F11: 0 | G11: 0.0295 | H11: =F11*G11 -> 0 | I11: =F11+H11 -> 0
A12: 324 | B12: AERO RESEARCH STORAGE BUILDING | C12: 143851 | D12: 147280.39 | E12: 2.3284796 | F12: 0 | G12: 0.0295 | H12: =F12*G12 -> 0 | I12: =F12+H12 -> 0
A13: 329 | B13: AERO RESEARCH TRAILER | C13: 118710 | D13: - | F13: 0 | G13: 0.0295 | H13: =F13*G13 -> 0 | I13: =F13+H13 -> 0
A14: 321 | B14: AEROSPACE RESEARCH LABORATORY | C14: 3938182 | D14: 4032054.4 | E14: 2.3281542 | F14: 230000 | G14: 0.0295 | H14: =F14*G14 -> 6785 | I14: =F14+H14 -> 236785
A15: 203 | B15: ALBERT H SMALL BUILDING | C15: 3273465 | D15: 3351489.8 | E15: 2.328064 | F15: 1056000 | G15: 0.0295 | H15: =F15*G15 -> 31152 | I15: =F15+H15 -> 1087152
A16: 7273 | B16: ALDERMAN ROAD PUMPING STATION | C16: 75214 | D16: 77009.076 | E16: 2.3309925 | F16: 26449 | G16: 0.0295 | H16: =F16*G16 -> 780.2455 | I16: =F16+H16 -> 27229.246
A17: 7258 | B17: ALDERMAN SUBSTATION 15KV | C17: 5635962 | D17: 5770299.9 | E17: 2.3280918 | F17: 0 | G17: 0.0295 | H17: =F17*G17 -> 0 | I17: =F17+H17 -> 0
A18: 62 | B18: AMPHITHEATER | C18: 1736795 | D18: 1778193.8 | E18: 2.3281364 | F18: 10000 | G18: 0.0295 | H18: =F18*G18 -> 295 | I18: =F18+H18 -> 10295
A19: 252 | B19: ASTRONOMY BUILDING | C19: 9812633 | D19: 10046528 | E19: 2.3281182 | F19: 207500 | G19: 0.0295 | H19: =F19*G19 -> 6121.25 | I19: =F19+H19 -> 213621.25
A20: 3761 | B20: AURBACH MEDICAL RESEARCH BUILDING | C20: 33908351 | D20: 34716577 | E20: 2.3280707 | F20: 470000 | G20: 0.0295 | H20: =F20*G20 -> 13865 | I20: =F20+H20 -> 483865
A21: 7375 | B21: BALZ PUMP HOUSE | C21: 1096950 | D21: 1123096.5 | E21: 2.3280755 | F21: 6500 | G21: 0.0295 | H21: =F21*G21 -> 191.75 | I21: =F21+H21 -> 6691.75
A22: 264 | B22: BAVARO HALL | C22: 48619689 | D22: 49765701 | E22: 2.3028156 | F22: 83500 | G22: 0.0295 | H22: =F22*G22 -> 2463.25 | I22: =F22+H22 -> 85963.25
A23: 407 | B23: BAYLY BUILDING | C23: 4024479 | D23: 4120409.6 | E23: 2.3281812 | F23: 30000 | G23: 0.0295 | H23: =F23*G23 -> 885 | I23: =F23+H23 -> 30885
A24: 436 | B24: BEMISS HOUSE | C24: 1134543 | D24: 1161589.8 | E24: 2.3284323 | F24: 42400 | G24: 0.0295 | H24: =F24*G24 -> 1250.8 | I24: =F24+H24 -> 43650.8
A25: 257 | B25: BIOLOGY GREENHOUSE | C25: 1777604 | D25: 1819975.2 | E25: 2.3281213 | F25: 76000 | G25: 0.0295 | H25: =F25*G25 -> 2242 | I25: =F25+H25 -> 78242
... A31: 8063 | B31: BLANDY GROUNDS MAINTENANCE SHOP/OLD PROPOGATION GREENHOUSE | C31: 622722 | D31: 637569.26 | E31: 2.3287292 | F31: 147837 | G31: 0.0295 | H31: =F31*G31 -> 4361.1915 | I31: =F31+H31 -> 152198.19
A32: 8057 | B32: BLANDY HAY BARN/CATTLE SHADE BARN/CORN CRIB | C32: 2990027 | D32: - | F32: 67882 | G32: 0.0295 | H32: =F32*G32 -> 2002.519 | I32: =F32+H32 -> 69884.519
A33: 8066 | B33: BLANDY HEWLETT LEWIS OVERLOOK PAVILION | C33: 142793 | D33: 146203.42 | E33: 2.3326509 | F33: 9989 | G33: 0.0295 | H33: =F33*G33 -> 294.6755 | I33: =F33+H33 -> 10283.675
A34: 8070 | B34: BLANDY INFORMATION KIOSK | C34: 34122 | D34: 34923.299 | E34: 2.2944544 | F34: 0 | G34: 0.0295 | H34: =F34*G34 -> 0 | I34: =F34+H34 -> 0
A35: 8069 | B35: BLANDY NEW PROPAGATION GREENHOUSE | C35: 86562 | D35: 88603.081 | E35: 2.3036228 | F35: 0 | G35: 0.0295 | H35: =F35*G35 -> 0 | I35: =F35+H35 -> 0
A36: 8068 | B36: BLANDY NEW TRAILER LAB | C36: 57391 | D36: 58742.477 | E36: 2.3006806 | F36: 7057 | G36: 0.0295 | H36: =F36*G36 -> 208.1815 | I36: =F36+H36 -> 7265.1815
A37: 8054 | B37: BLANDY PARKFIELD LEARNING CENTER | C37: 475737 | D37: 487134.61 | E37: 2.3397257 | F37: 41409 | G37: 0.0295 | H37: =F37*G37 -> 1221.5655 | I37: =F37+H37 -> 42630.565
A38: 8067 | B38: BLANDY PEETWOOD PAVILION | C38: 228011 | D38: 233481.06 | E38: 2.342829 | F38: 2449 | G38: 0.0295 | H38: =F38*G38 -> 72.2455 | I38: =F38+H38 -> 2521.2455
A39: 8071 | B39: BLANDY RESEARCH VILLAGE COTTAGE 1 (RV1) | C39: 293339 | D39: 300333.96 | E39: 2.3290622 | F39: 0 | G39: 0.0295 | H39: =F39*G39 -> 0 | I39: =F39+H39 -> 0
A40: 8072 | B40: BLANDY RESEARCH VILLAGE COTTAGE 2 (RV2) | C40: 293339 | D40: 300333.96 | E40: 2.3290622 | F40: 2200 | G40: 0.0295 | H40: =F40*G40 -> 64.9 | I40: =F40+H40 -> 2264.9
A41: 8077 | B41: BLANDY RESEARCH VILLAGE COTTAGE 3 (RV3) | C41: 462220 | D41: 475421.76 | E41: 2.7768522 | F41: 2200 | G41: 0.0295 | H41: =F41*G41 -> 64.9 | I41: =F41+H41 -> 2264.9
A42: 8078 | B42: BLANDY RESEARCH VILLAGE COTTAGE 4 (RV4) | C42: 462220 | D42: 475421.76 | E42: 2.7768522 | F42: 2200 | G42: 0.0295 | H42: =F42*G42 -> 64.9 | I42: =F42+H42 -> 2264.9
A43: 8058 | B43: BLANDY SILO #1 | C43: 31337 | D43: 32086.604 | E43: 2.3361899 | F43: 0 | G43: 0.0295 | H43: =F43*G43 -> 0 | I43: =F43+H43 -> 0
A44: 8059 | B44: BLANDY SILO #2 | C44: 31337 | D44: 32086.604 | E44: 2.3361899 | F44: 5000 | G44: 0.0295 | H44: =F44*G44 -> 147.5 | I44: =F44+H44 -> 5147.5
... A53: 94 | B53: BRYAN HALL | C53: 16742475 | D53: 17141542 | E53: 2.3280706 | F53: 799800 | G53: 0.0295 | H53: =F53*G53 -> 23594.1 | I53: =F53+H53 -> 823394.1
...

Sheet supporting2
A1: Property ID | B1: Property Description | C1: Current Replacement Value | D1: GSF | E1: Year Built | F1: 207 E&G | G1: 207 AUX | H1: 209 HOS | I1: Building Agency | J1: Inflated Deficiencies
A2: 9739 | B2: ML-Greenhouse | D2: 1000 | I2: 207 E&G | J2: =VLOOKUP(A2,RANGE2,9,FALSE()) -> #N/A | K2: Remove?
A3: 3730 | B3: 1003 WEST MAIN | C3: 4532000 | D3: 10796 | E3: 1948 | F3: 0 | G3: 0 | H3: 1 | I3: 209 HOS | J3: No Data
A4: 3991 | B4: 1018 WEST MAIN ST | C4: 4633000 | D4: 5668 | E4: 1903 | F4: 0 | G4: 0 | H4: 1 | I4: 209 HOS | J4: No Data
A5: 3992 | B5: 1107 WEST MAIN STREET | C5: 5468000 | D5: 6663 | E5: 1958 | F5: 0 | G5: 0 | H5: 1 | I5: 209 HOS | J5: No Data
A6: 1149 | B6: 11TH STREET PARKING GARAGE | C6: 38238000 | D6: 339902 | E6: 2008 | F6: 0 | G6: 0 | H6: 1 | I6: 209 HOS | J6: No Data
A7: 816 | B7: ACADEMIC LOUNGE | C7: 2382000 | D7: 2613 | E7: 2018 | F7: 0 | G7: 1 | H7: 0 | I7: 207 AUX | J7: No Data
A8: 5271 | B8: AQUATIC & FITNESS CENTER | C8: 48587000 | D8: 180806 | E8: 1996 | F8: 0 | G8: 1 | H8: 0 | I8: 207 AUX | J8: No Data
A9: 5575 | B9: ARENA PARKING GARAGE | C9: 20871000 | D9: 263514 | E9: 2006 | F9: 0 | G9: 1 | H9: 0 | I9: 207 AUX | J9: No Data
A10: 1991 | B10: BATTLE BUILDING AT THE UVA CHILDREN'S HOSPITAL | C10: 136410000 | D10: 201064 | E10: 2014 | F10: 0 | G10: 0 | H10: 1 | I10: 209 HOS | J10: No Data
A11: 125 | B11: BOOKSTORE/CENTRAL GROUNDS PARKING | C11: 36248000 | D11: 237704 | E11: 1994 | F11: 0 | G11: 1 | H11: 0 | I11: 207 AUX | J11: No Data
A12: 5280 | B12: BRYANT HALL AT SCOTT STADIUM | C12: 35660000 | D12: 73488 | E12: 2000 | F12: 0.15 | G12: 0.85 | H12: 0 | I12: 207 AUX | J12: No Data
A13: 5272 | B13: CARL SMITH CLOCK TOWER | C13: 641000 | D13: 100 | E13: 2000 | F13: 0 | G13: 1 | H13: 0 | I13: 207 AUX | J13: No Data
A14: 446 | B14: CULBRETH ROAD GARAGE | C14: 22189000 | D14: 191122 | E14: 2008 | F14: 0 | G14: 1 | H14: 0 | I14: 207 AUX | J14: No Data
... A18: 1146 | B18: EMILY COURIC CLINICAL CANCER CENTER | C18: 100404000 | D18: 205472 | E18: 2011 | F18: 0.06 | G18: 0 | H18: 0.94 | I18: 209 HOS | J18: No Data
A19: 9991 | B19: FAN MTN. NORFOLK STATE OBSERVATORY # Review this property for possible exclusion from FCR. | D19: 709 | E19: 2006 | F19: 0 | G19: 0 | H19: 0 | I19: 207 E&G | J19: No Data
A20: 3755 | B20: FONTAINE MEDICAL OFFICE BUILDING 1 | C20: 26828000 | D20: 69040 | E20: 2003 | F20: 0 | G20: 0 | H20: 1 | I20: 209 HOS | J20: No Data
A21: 1756 | B21: FONTAINE MEDICAL OFFICE BUILDING 2 | C21: 19290000 | D21: 45631 | E21: 1999 | F21: 0.11 | G21: 0 | H21: 0.89 | I21: 209 HOS | J21: No Data
A22: 5595 | B22: FOOTBALL STORAGE | C22: 1187000 | D22: 3278 | E22: 2020 | F22: 0 | G22: 1 | H22: 0 | I22: 207 AUX | J22: No Data
A23: 5591 | B23: GEORGE WELSH INDOOR PRACTICE FACILITY | C23: 17141000 | D23: 84688 | E23: 2013 | F23: 0 | G23: 1 | H23: 0 | I23: 207 AUX | J23: No Data
A24: 3713 | B24: GROVE STREET 999 (LEE BUILDING) | C24: 13235000 | D24: 11623 | E24: 1965 | F24: 0 | G24: 0 | H24: 1 | I24: 209 HOS | J24: No Data
A25: 5577 | B25: Harrison Family Olympic Sports Center | C25: 20986000 | D25: 78285 | E25: 1991 | F25: 0 | G25: 1 | H25: 0 | I25: 207 AUX | J25: No Data
A26: 49 | B26: HOSPITAL DRIVE TRAFFIC PAVILION | C26: 81000 | D26: 60 | E26: 1990 | F26: 0 | G26: 0 | H26: 1 | I26: 209 HOS | J26: No Data
A27: 1151 | B27: HOSPITAL LINK | C27: 10789000 | D27: 36622 | E27: 1988 | F27: 0 | G27: 0 | H27: 1 | I27: 209 HOS | J27: No Data
A28: 5512 | B28: IMREC COMPOST SHED | C28: 4000 | D28: 120 | E28: 2003 | F28: 0 | G28: 1 | H28: 0 | I28: 207 AUX | J28: No Data
A29: 5513 | B29: IMREC STORAGE SHED | C29: 5000 | D29: 160 | E29: 2011 | F29: 0 | G29: 1 | H29: 0 | I29: 207 AUX | J29: No Data
A30: 593 | B30: IVY STACKS PUMP HOUSE | C30: 2851000 | D30: 220 | E30: 2011 | F30: 1 | G30: 0 | H30: 0 | I30: 207 E&G | J30: No Data
A31: 1994 | B31: JEFFERSON PARK MEDICAL OFFICE BUILDING | C31: 14752000 | D31: 91363 | E31: 1971 | F31: 0.01 | G31: 0 | H31: 0.99 | I31: 209 HOS | J31: No Data
... A76: 831 | B76: TENNIS SUPPORT BUILDING @ BOARS HEAD | C76: 351000 | D76: 1026 | E76: 2020 | F76: 0 | G76: 1 | H76: 0 | I76: 207 AUX | J76: No Data
A77: 5532 | B77: THE PARK - INDOOR FIELD #7 | C77: 3667200 | D77: 19200 | E77: 2019 | F77: 0 | G77: 1 | H77: 0 | I77: 207 AUX | J77: No Data | K77: Update CRV
A78: 5533 | B78: The Park - Restroom #1 | C78: 109000 | D78: 93 | E78: 2018 | F78: 0 | G78: 1 | H78: 0 | I78: 207 AUX | J78: No Data
A79: 5534 | B79: The Park - Restroom #2 | C79: 109000 | D79: 134 | E79: 2018 | F79: 0 | G79: 1 | H79: 0 | I79: 207 AUX | J79: No Data
A80: 5535 | B80: THE PARK - SUPPORT FACILITY | C80: 1333000 | D80: 3992 | E80: 1995 | F80: 0 | G80: 1 | H80: 0 | I80: 207 AUX | J80: No Data
A81: 1150 | B81: UNIVERSITY HOSPITAL | C81: 452280000 | D81: 1563362 | E81: 1989 | F81: 0.03 | G81: 0 | H81: 0.97 | I81: 209 HOS | J81: No Data
A82: 3714 | B82: UNIVERSITY OF VIRGINIA TRANSITIONAL CARE HOSPITAL | C82: 25860000 | D82: 68637 | E82: 2010 | F82: 0 | G82: 0 | H82: 1 | I82: 209 HOS | J82: No Data
A83: 1998 | B83: UVA CLINICAL LABORATORY | C83: 15954000 | D83: 21416 | E83: 2005 | F83: 0 | G83: 0 | H83: 1 | I83: 209 HOS | J83: No Data
A84: 3708 | B84: UVA ENDOSCOPY MONROE LANE | C84: 14307000 | D84: 30031 | E84: 1984 | F84: 0 | G84: 0 | H84: 1 | I84: 209 HOS | J84: No Data
A85: 9971 | B85: UVA MEDICAL PARK SPRING CREEK | C85: 21514000 | D85: 47890 | E85: 2012 | F85: 0 | G85: 0 | H85: 1 | I85: 209 HOS | J85: No Data
A86: 8997 | B86: UVA Orange Medical Park | C86: 5210000 | D86: 24484 | E86: 1998 | F86: 0 | G86: 0 | H86: 1 | I86: 209 HOS | J86: No Data
A87: 1602 | B87: UVA ORTHOPEDIC CENTER | C87: 173815000 | D87: 206955 | E87: 2022 | F87: 0.17 | G87: 0 | H87: 0.83 | I87: 209 HOS | J87: No Data
...
