Workbook
Name RANGE1: supporting1!$B$1:$I$536
Name RANGE2: supporting1!$A$1:$I$536

Sheet FY 2025 Summary
B1: University of Virginia - Facilities Portfolio
B2: Summary of Gross Square Footage and Facility Condition Index Data
B4: Portfolio | C4: Gross Square Footage | D4: Facility Condition Index (See Note A) | E4: Facility Condition Index Deficiencies (See Note B) | F4: Current Replacement Value (See Note C)
B5: With Recent FCA Data (See Note D)
B6: 207 E&G | C6: ='FY 2025 Final '!L552 -> 7887213.1 | D6: =E6/F6 -> 0.062623636 | E6: ='FY 2025 Final '!O552 -> 2.6944873e+08 | F6: ='FY 2025 Final '!R552 -> 4302668288
B7: 207 AUX | C7: ='FY 2025 Final '!M552 -> 4901800.2 | D7: =E7/F7 -> 0.038508124 | E7: ='FY 2025 Final '!P552 -> 62558487 | F7: ='FY 2025 Final '!S552 -> 1624552949
B8: 209 HOS | C8: ='FY 2025 Final '!N552 -> 801720.72 | D8: =E8/F8 -> 0.13899672 | E8: ='FY 2025 Final '!Q552 -> 80327753 | F8: ='FY 2025 Final '!T552 -> 577911140
B9: Subtotal: | C9: =SUM(C6:C8) -> 13590734 | E9: =SUM(E6:E8) -> 4.1233497e+08 | F9: =SUM(F6:F8) -> 6505132377
B11: Without Recent FCA Data
B12: 207 E&G | C12: ='FY 2025 Final '!L554 -> 292200.09 | E12: ='[1]FY 2025 Final '!O552 -> No Data | F12: ='FY 2025 Final '!R554 -> 132515510
B13: 207 AUX | C13: ='FY 2025 Final '!M554 -> 2185589.8 | E13: ='[1]FY 2025 Final '!P552 -> No Data | F13: ='FY 2025 Final '!S554 -> 526225010
B14: 209 HOS | C14: ='FY 2025 Final '!N554 -> 3659660.2 | E14: ='[1]FY 2025 Final '!Q552 -> No Data | F14: ='FY 2025 Final '!T554 -> 1029048680
B15: Subtotal: | C15: =SUM(C12:C14) -> 6137450 | F15: =SUM(F12:F14) -> 1687789200
B17: Sum of 207 E&G | C17: =C6+C12 -> 8179413.1 | F17: =F6+F12 -> 4435183798
B18: Sum of 207 AUX | C18: =C7+C13 -> 7087390 | F18: =F7+F13 -> 2150777959
B19: Sum of 209 HOS | C19: =C8+C14 -> 4461380.9 | F19: =F8+F14 -> 1606959820
B20: Total: | C20: =SUM(C17:C19) -> 19728184 | F20: =SUM(F17:F19) -> 8192921577
B23: Notes
B24: A. | C24: The Facility Condition Index (FCI) measures building condition by comparing renewal maintenance needs to total building value, with lower percentages indicating better condition and higher values signaling greater reinvestment needs. UVa’s Renewal Maintenance program (established by the BOV in 2005) targets an FCI of ~5% for the 207 E&G portfolio.
B25: B. | C25: Building deficiencies are identified through facility condition assessments (FCA) conducted every four years. The findings are categorized, quantified, and cost-estimated, which feed into the renewal maintenance backlog and ultimately inform each building’s Facility Condition Index and capital planning priorities.
B26: C. | C26: Current Replacement Value (CRV) represents the estimated cost to replace a building in kind at today’s construction prices. This is not a total project cost value. It serves as the baseline denominator in the Facility Condition Index calculation.
B27: D. | C27: Buildings with "Recent FCA Data" are those built in the past 5 years or with a FCA completed in the past 5 years.

Sheet FY 2025 Final 
A1: Property ID | B1: Property Description | C1: GSF | D1: Year Built | E1: Most Recent Inspection Date | F1: FCI | G1: Deficiencies (from FCA for FY 2025) | H1: Current Replacement Value (FY 2025) | I1: 207 E&G | J1: 207 AUX | K1: 209 HOS | L1: 207 E&G GSF | M1: 207 AUX GSF | N1: 209 HOS GSF | O1: 207 E&G Deficiencies | P1: 207 AUX Deficiencies | Q1: 209 HOS Deficiencies | R1: 207 E&G CRV | S1: 207 AUX CRV | T1: 209 HOS CRV
A2: 3730 | B2: 1003 WEST MAIN | C2: 10796 | D2: 1948 | E2: 42767 | F2: =IF(G2="no data","",G2/H2) | G2: No Data | H2: 4532000 | I2: 0 | J2: 0 | K2: 1 | L2: =$C2*I2 -> 0 | M2: =$C2*J2 -> 0 | N2: =$C2*K2 -> 10796 | O2: =IF($G2="No Data","",$G2*I2) | P2: =IF($G2="No Data","",$G2*J2) | Q2: =IF($G2="No Data","",$G2*K2) | R2: =H2*I2 -> 0 | S2: =H2*J2 -> 0 | T2: =H2*K2 -> 4532000
A3: 3991 | B3: 1018 WEST MAIN ST | C3: 5668 | D3: 1903 | E3: 40252 | F3: =IF(G3="no data","",G3/H3) | G3: No Data | H3: 4633000 | I3: 0 | J3: 0 | K3: 1 | L3: =$C3*I3 -> 0 | M3: =$C3*J3 -> 0 | N3: =$C3*K3 -> 5668 | O3: =IF($G3="No Data","",$G3*I3) | P3: =IF($G3="No Data","",$G3*J3) | Q3: =IF($G3="No Data","",$G3*K3) | R3: =H3*I3 -> 0 | S3: =H3*J3 -> 0 | T3: =H3*K3 -> 4633000
A4: 2447 | B4: 102 CRESAP ROAD | C4: 3708 | D4: 1956 | E4: 45047 | F4: =IF(G4="no data","",G4/H4) -> 0.059422799 | G4: =VLOOKUP(A4,RANGE2,9,FALSE()) -> 41180 | H4: 693000 | I4: 0 | J4: 1 | K4: 0 | L4: =$C4*I4 -> 0 | M4: =$C4*J4 -> 3708 | N4: =$C4*K4 -> 0 | O4: =IF($G4="No Data","",$G4*I4) -> 0 | P4: =IF($G4="No Data","",$G4*J4) -> 41180 | Q4: =IF($G4="No Data","",$G4*K4) -> 0 | R4: =H4*I4 -> 0 | S4: =H4*J4 -> 693000 | T4: =H4*K4 -> 0
A5: 2448 | B5: 108 CRESAP ROAD | C5: 2916 | D5: 1956 | E5: 44831 | F5: =IF(G5="no data","",G5/H5) -> 0.102886 | G5: 71300 | H5: 693000 | I5: 0 | J5: 1 | K5: 0 | L5: =$C5*I5 -> 0 | M5: =$C5*J5 -> 2916 | N5: =$C5*K5 -> 0 | O5: =IF($G5="No Data","",$G5*I5) -> 0 | P5: =IF($G5="No Data","",$G5*J5) -> 71300 | Q5: =IF($G5="No Data","",$G5*K5) -> 0 | R5: =H5*I5 -> 0 | S5: =H5*J5 -> 693000 | T5: =H5*K5 -> 0
A6: 3992 | B6: 1107 WEST MAIN STREET | C6: 6663 | D6: 1958 | E6: 39083 | F6: =IF(G6="no data","",G6/H6) | G6: No Data | H6: 5468000 | I6: 0 | J6: 0 | K6: 1 | L6: =$C6*I6 -> 0 | M6: =$C6*J6 -> 0 | N6: =$C6*K6 -> 6663 | O6: =IF($G6="No Data","",$G6*I6) | P6: =IF($G6="No Data","",$G6*J6) | Q6: =IF($G6="No Data","",$G6*K6) | R6: =H6*I6 -> 0 | S6: =H6*J6 -> 0 | T6: =H6*K6 -> 5468000
A7: 1149 | B7: 11TH STREET PARKING GARAGE | C7: 339902 | D7: 2008 | E7: 40262 | F7: =IF(G7="no data","",G7/H7) | G7: No Data | H7: 38238000 | I7: 0 | J7: 0 | K7: 1 | L7: =$C7*I7 -> 0 | M7: =$C7*J7 -> 0 | N7: =$C7*K7 -> 339902 | O7: =IF($G7="No Data","",$G7*I7) | P7: =IF($G7="No Data","",$G7*J7) | Q7: =IF($G7="No Data","",$G7*K7) | R7: =H7*I7 -> 0 | S7: =H7*J7 -> 0 | T7: =H7*K7 -> 38238000
A8: 211 | B8: 200 MIDMONT LANE | C8: 6601 | D8: 1761 | E8: 43446 | F8: =IF(G8="no data","",G8/H8) -> 1.0995995 | G8: =VLOOKUP(A8,RANGE2,9,FALSE()) -> 823600 | H8: 749000 | I8: 1 | J8: 0 | K8: 0 | L8: =$C8*I8 -> 6601 | M8: =$C8*J8 -> 0 | N8: =$C8*K8 -> 0 | O8: =IF($G8="No Data","",$G8*I8) -> 823600 | P8: =IF($G8="No Data","",$G8*J8) -> 0 | Q8: =IF($G8="No Data","",$G8*K8) -> 0 | R8: =H8*I8 -> 749000 | S8: =H8*J8 -> 0 | T8: =H8*K8 -> 0
A9: 3656 | B9: 2400 OLD IVY ROAD | C9: 30300 | D9: 1984 | E9: 45551 | F9: =IF(G9="no data","",G9/H9) -> 0.00092580935 | G9: =VLOOKUP(A9,RANGE2,9,FALSE()) -> 8236 | H9: 8896000 | I9: 1 | J9: 0 | K9: 0 | L9: =$C9*I9 -> 30300 | M9: =$C9*J9 -> 0 | N9: =$C9*K9 -> 0 | O9: =IF($G9="No Data","",$G9*I9) -> 8236 | P9: =IF($G9="No Data","",$G9*J9) -> 0 | Q9: =IF($G9="No Data","",$G9*K9) -> 0 | R9: =H9*I9 -> 8896000 | S9: =H9*J9 -> 0 | T9: =H9*K9 -> 0
A10: 599 | B10: 2476 OLD IVY ROAD | C10: 13238 | D10: 2011 | E10: 45453 | F10: =IF(G10="no data","",G10/H10) -> 0 | G10: =VLOOKUP(A10,RANGE2,9,FALSE()) -> 0 | H10: 13902000 | I10: 1 | J10: 0 | K10: 0 | L10: =$C10*I10 -> 13238 | M10: =$C10*J10 -> 0 | N10: =$C10*K10 -> 0 | O10: =IF($G10="No Data","",$G10*I10) -> 0 | P10: =IF($G10="No Data","",$G10*J10) -> 0 | Q10: =IF($G10="No Data","",$G10*K10) -> 0 | R10: =H10*I10 -> 13902000 | S10: =H10*J10 -> 0 | T10: =H10*K10 -> 0
A11: 131 | B11: 400 BRANDON AVE | C11: 35354 | D11: 1990 | E11: 45539 | F11: =IF(G11="no data","",G11/H11) -> 0.00015846995 | G11: =VLOOKUP(A11,RANGE2,9,FALSE()) -> 2059 | H11: 12993000 | I11: 0.79 | J11: 0 | K11: 0.21 | L11: =$C11*I11 -> 27929.66 | M11: =$C11*J11 -> 0 | N11: =$C11*K11 -> 7424.34 | O11: =IF($G11="No Data","",$G11*I11) -> 1626.61 | P11: =IF($G11="No Data","",$G11*J11) -> 0 | Q11: =IF($G11="No Data","",$G11*K11) -> 432.39 | R11: =H11*I11 -> 10264470 | S11: =H11*J11 -> 0 | T11: =H11*K11 -> 2728530
A12: 2163 | B12: 506 Valley Road | C12: 2148 | D12: 1930 | F12: =IF(G12="no data","",G12/H12) | G12: No Data | H12: 639000 | I12: 0 | J12: 1 | K12: 0 | L12: =$C12*I12 -> 0 | M12: =$C12*J12 -> 2148 | N12: =$C12*K12 -> 0 | O12: =IF($G12="No Data","",$G12*I12) | P12: =IF($G12="No Data","",$G12*J12) | Q12: =IF($G12="No Data","",$G12*K12) | R12: =H12*I12 -> 0 | S12: =H12*J12 -> 639000 | T12: =H12*K12 -> 0
A13: 553 | B13: ABBOTT CENTER | C13: 64743 | D13: 2002 | E13: 45686 | F13: =IF(G13="no data","",G13/H13) -> 0.087480506 | G13: =VLOOKUP(A13,RANGE2,9,FALSE()) -> 3036098.5 | H13: 34706000 | I13: 1 | J13: 0 | K13: 0 | L13: =$C13*I13 -> 64743 | M13: =$C13*J13 -> 0 | N13: =$C13*K13 -> 0 | O13: =IF($G13="No Data","",$G13*I13) -> 3036098.5 | P13: =IF($G13="No Data","",$G13*J13) -> 0 | Q13: =IF($G13="No Data","",$G13*K13) -> 0 | R13: =H13*I13 -> 34706000 | S13: =H13*J13 -> 0 | T13: =H13*K13 -> 0
A14: 2835 | B14: ABBOTT HOUSE #835 | C14: 8264 | D14: 1973 | E14: 45513 | F14: =IF(G14="no data","",G14/H14) -> 0.027046914 | G14: =VLOOKUP(A14,RANGE2,9,FALSE()) -> 32429.25 | H14: 1199000 | I14: 0 | J14: 1 | K14: 0 | L14: =$C14*I14 -> 0 | M14: =$C14*J14 -> 8264 | N14: =$C14*K14 -> 0 | O14: =IF($G14="No Data","",$G14*I14) -> 0 | P14: =IF($G14="No Data","",$G14*J14) -> 32429.25 | Q14: =IF($G14="No Data","",$G14*K14) -> 0 | R14: =H14*I14 -> 0 | S14: =H14*J14 -> 1199000 | T14: =H14*K14 -> 0
A15: 2836 | B15: ABBOTT HOUSE #836 | C15: 8458 | D15: 1973 | E15: 45513 | F15: =IF(G15="no data","",G15/H15) -> 0.033643791 | G15: =VLOOKUP(A15,RANGE2,9,FALSE()) -> 41180 | H15: 1224000 | I15: 0 | J15: 1 | K15: 0 | L15: =$C15*I15 -> 0 | M15: =$C15*J15 -> 8458 | N15: =$C15*K15 -> 0 | O15: =IF($G15="No Data","",$G15*I15) -> 0 | P15: =IF($G15="No Data","",$G15*J15) -> 41180 | Q15: =IF($G15="No Data","",$G15*K15) -> 0 | R15: =H15*I15 -> 0 | S15: =H15*J15 -> 1224000 | T15: =H15*K15 -> 0
A16: 816 | B16: ACADEMIC LOUNGE | C16: 2613 | D16: 2018 | F16: =IF(G16="no data","",G16/H16) | G16: No Data | H16: 2382000 | I16: 0 | J16: 1 | K16: 0 | L16: =$C16*I16 -> 0 | M16: =$C16*J16 -> 2613 | N16: =$C16*K16 -> 0 | O16: =IF($G16="No Data","",$G16*I16) | P16: =IF($G16="No Data","",$G16*J16) | Q16: =IF($G16="No Data","",$G16*K16) | R16: =H16*I16 -> 0 | S16: =H16*J16 -> 2382000 | T16: =H16*K16 -> 0
A17: 322 | B17: AERO RESEARCH BLOCK HOUSE | C17: 1756 | D17: 1950 | E17: 45295 | F17: =IF(G17="no data","",G17/H17) -> 0.14495833 | G17: =VLOOKUP(A17,RANGE2,9,FALSE()) -> 25222.75 | H17: 174000 | I17: 1 | J17: 0 | K17: 0 | L17: =$C17*I17 -> 1756 | M17: =$C17*J17 -> 0 | N17: =$C17*K17 -> 0 | O17: =IF($G17="No Data","",$G17*I17) -> 25222.75 | P17: =IF($G17="No Data","",$G17*J17) -> 0 | Q17: =IF($G17="No Data","",$G17*K17) -> 0 | R17: =H17*I17 -> 174000 | S17: =H17*J17 -> 0 | T17: =H17*K17 -> 0
A18: 323 | B18: AERO RESEARCH QUONSET #1 | C18: 646 | D18: 1948 | E18: 44781 | F18: =IF(G18="no data","",G18/H18) -> 0.017706509 | G18: =VLOOKUP(A18,RANGE2,9,FALSE()) -> 4090.2035 | H18: 231000 | I18: 1 | J18: 0 | K18: 0 | L18: =$C18*I18 -> 646 | M18: =$C18*J18 -> 0 | N18: =$C18*K18 -> 0 | O18: =IF($G18="No Data","",$G18*I18) -> 4090.2035 | P18: =IF($G18="No Data","",$G18*J18) -> 0 | Q18: =IF($G18="No Data","",$G18*K18) -> 0 | R18: =H18*I18 -> 231000 | S18: =H18*J18 -> 0 | T18: =H18*K18 -> 0
A19: 325 | B19: AERO RESEARCH QUONSET #2 | C19: 720 | D19: 1950 | E19: 44781 | F19: =IF(G19="no data","",G19/H19) -> 0.022965318 | G19: 3973 | H19: 173000 | I19: 1 | J19: 0 | K19: 0 | L19: =$C19*I19 -> 720 | M19: =$C19*J19 -> 0 | N19: =$C19*K19 -> 0 | O19: =IF($G19="No Data","",$G19*I19) -> 3973 | P19: =IF($G19="No Data","",$G19*J19) -> 0 | Q19: =IF($G19="No Data","",$G19*K19) -> 0 | R19: =H19*I19 -> 173000 | S19: =H19*J19 -> 0 | T19: =H19*K19 -> 0
A20: 326 | B20: AERO RESEARCH QUONSET #3 | C20: 720 | D20: 1950 | E20: 44781 | F20: =IF(G20="no data","",G20/H20) -> 0 | G20: =VLOOKUP(A20,RANGE2,9,FALSE()) -> 0 | H20: 173000 | I20: 1 | J20: 0 | K20: 0 | L20: =$C20*I20 -> 720 | M20: =$C20*J20 -> 0 | N20: =$C20*K20 -> 0 | O20: =IF($G20="No Data","",$G20*I20) -> 0 | P20: =IF($G20="No Data","",$G20*J20) -> 0 | Q20: =IF($G20="No Data","",$G20*K20) -> 0 | R20: =H20*I20 -> 173000 | S20: =H20*J20 -> 0 | T20: =H20*K20 -> 0
A21: 324 | B21: AERO RESEARCH STORAGE BUILDING | C21: 612 | D21: 1948 | E21: 44781 | F21: =IF(G21="no data","",G21/H21) -> 0 | G21: =VLOOKUP(A21,RANGE2,9,FALSE()) -> 0 | H21: 147000 | I21: 1 | J21: 0 | K21: 0 | L21: =$C21*I21 -> 612 | M21: =$C21*J21 -> 0 | N21: =$C21*K21 -> 0 | O21: =IF($G21="No Data","",$G21*I21) -> 0 | P21: =IF($G21="No Data","",$G21*J21) -> 0 | Q21: =IF($G21="No Data","",$G21*K21) -> 0 | R21: =H21*I21 -> 147000 | S21: =H21*J21 -> 0 | T21: =H21*K21 -> 0
A22: 321 | B22: AEROSPACE RESEARCH LABORATORY | C22: 15067 | D22: 1948 | E22: 45280 | F22: =IF(G22="no data","",G22/H22) -> 0.058726438 | G22: =VLOOKUP(A22,RANGE2,9,FALSE()) -> 236785 | H22: 4032000 | I22: 1 | J22: 0 | K22: 0 | L22: =$C22*I22 -> 15067 | M22: =$C22*J22 -> 0 | N22: =$C22*K22 -> 0 | O22: =IF($G22="No Data","",$G22*I22) -> 236785 | P22: =IF($G22="No Data","",$G22*J22) -> 0 | Q22: =IF($G22="No Data","",$G22*K22) -> 0 | R22: =H22*I22 -> 4032000 | S22: =H22*J22 -> 0 | T22: =H22*K22 -> 0
A23: 203 | B23: ALBERT H SMALL BUILDING | C23: 10526 | D23: 1948 | E23: 45694 | F23: =IF(G23="no data","",G23/H23) -> 0.32442614 | G23: =VLOOKUP(A23,RANGE2,9,FALSE()) -> 1087152 | H23: 3351000 | I23: 1 | J23: 0 | K23: 0 | L23: =$C23*I23 -> 10526 | M23: =$C23*J23 -> 0 | N23: =$C23*K23 -> 0 | O23: =IF($G23="No Data","",$G23*I23) -> 1087152 | P23: =IF($G23="No Data","",$G23*J23) -> 0 | Q23: =IF($G23="No Data","",$G23*K23) -> 0 | R23: =H23*I23 -> 3351000 | S23: =H23*J23 -> 0 | T23: =H23*K23 -> 0
A24: 7273 | B24: ALDERMAN ROAD PUMPING STATION | C24: 1189 | D24: 1999 | E24: 45575 | F24: =IF(G24="no data","",G24/H24) -> 0.35362656 | G24: =VLOOKUP(A24,RANGE2,9,FALSE()) -> 27229.246 | H24: 77000 | I24: 1 | J24: 0 | K24: 0 | L24: =$C24*I24 -> 1189 | M24: =$C24*J24 -> 0 | N24: =$C24*K24 -> 0 | O24: =IF($G24="No Data","",$G24*I24) -> 27229.246 | P24: =IF($G24="No Data","",$G24*J24) -> 0 | Q24: =IF($G24="No Data","",$G24*K24) -> 0 | R24: =H24*I24 -> 77000 | S24: =H24*J24 -> 0 | T24: =H24*K24 -> 0
A25: 7258 | B25: ALDERMAN SUBSTATION 15KV | C25: 1447 | D25: 1989 | E25: 44110 | F25: =IF(G25="no data","",G25/H25) -> 0 | G25: =VLOOKUP(A25,RANGE2,9,FALSE()) -> 0 | H25: 5770000 | I25: 1 | J25: 0 | K25: 0 | L25: =$C25*I25 -> 1447 | M25: =$C25*J25 -> 0 | N25: =$C25*K25 -> 0 | O25: =IF($G25="No Data","",$G25*I25) -> 0 | P25: =IF($G25="No Data","",$G25*J25) -> 0 | Q25: =IF($G25="No Data","",$G25*K25) -> 0 | R25: =H25*I25 -> 5770000 | S25: =H25*J25 -> 0 | T25: =H25*K25 -> 0
A26: 62 | B26: AMPHITHEATER | C26: 3675 | D26: 1920 | E26: 45575 | F26: =IF(G26="no data","",G26/H26) -> 0.0057902137 | G26: =VLOOKUP(A26,RANGE2,9,FALSE()) -> 10295 | H26: 1778000 | I26: 1 | J26: 0 | K26: 0 | L26: =$C26*I26 -> 3675 | M26: =$C26*J26 -> 0 | N26: =$C26*K26 -> 0 | O26: =IF($G26="No Data","",$G26*I26) -> 10295 | P26: =IF($G26="No Data","",$G26*J26) -> 0 | Q26: =IF($G26="No Data","",$G26*K26) -> 0 | R26: =H26*I26 -> 1778000 | S26: =H26*J26 -> 0 | T26: =H26*K26 -> 0
A27: 5271 | B27: AQUATIC & FITNESS CENTER | C27: 180806 | D27: 1996 | E27: 41985 | F27: =IF(G27="no data","",G27/H27) | G27: No Data | H27: 48587000 | I27: 0 | J27: 1 | K27: 0 | L27: =$C27*I27 -> 0 | M27: =$C27*J27 -> 180806 | N27: =$C27*K27 -> 0 | O27: =IF($G27="No Data","",$G27*I27) | P27: =IF($G27="No Data","",$G27*J27) | Q27: =IF($G27="No Data","",$G27*K27) | R27: =H27*I27 -> 0 | S27: =H27*J27 -> 48587000 | T27: =H27*K27 -> 0
A28: 5575 | B28: ARENA PARKING GARAGE | C28: 263514 | D28: 2006 | E28: 40263 | F28: =IF(G28="no data","",G28/H28) | G28: No Data | H28: 20871000 | I28: 0 | J28: 1 | K28: 0 | L28: =$C28*I28 -> 0 | M28: =$C28*J28 -> 263514 | N28: =$C28*K28 -> 0 | O28: =IF($G28="No Data","",$G28*I28) | P28: =IF($G28="No Data","",$G28*J28) | Q28: =IF($G28="No Data","",$G28*K28) | R28: =H28*I28 -> 0 | S28: =H28*J28 -> 20871000 | T28: =H28*K28 -> 0
A29: 252 | B29: ASTRONOMY BUILDING | C29: 37917 | D29: 1952 | E29: 45519 | F29: =IF(G29="no data","",G29/H29) -> 0.021262193 | G29: =VLOOKUP(A29,RANGE2,9,FALSE()) -> 213621.25 | H29: 10047000 | I29: 1 | J29: 0 | K29: 0 | L29: =$C29*I29 -> 37917 | M29: =$C29*J29 -> 0 | N29: =$C29*K29 -> 0 | O29: =IF($G29="No Data","",$G29*I29) -> 213621.25 | P29: =IF($G29="No Data","",$G29*J29) -> 0 | Q29: =IF($G29="No Data","",$G29*K29) -> 0 | R29: =H29*I29 -> 10047000 | S29: =H29*J29 -> 0 | T29: =H29*K29 -> 0
A30: 3761 | B30: AURBACH MEDICAL RESEARCH BUILDING | C30: 73813 | D30: 2001 | E30: 44826 | F30: =IF(G30="no data","",G30/H30) -> 0.013937408 | G30: =VLOOKUP(A30,RANGE2,9,FALSE()) -> 483865 | H30: 34717000 | I30: 1 | J30: 0 | K30: 0 | L30: =$C30*I30 -> 73813 | M30: =$C30*J30 -> 0 | N30: =$C30*K30 -> 0 | O30: =IF($G30="No Data","",$G30*I30) -> 483865 | P30: =IF($G30="No Data","",$G30*J30) -> 0 | Q30: =IF($G30="No Data","",$G30*K30) -> 0 | R30: =H30*I30 -> 34717000 | S30: =H30*J30 -> 0 | T30: =H30*K30 -> 0
A31: 7375 | B31: BALZ PUMP HOUSE | C31: 569 | D31: 1967 | E31: 45777 | F31: =IF(G31="no data","",G31/H31) -> 0.0059588157 | G31: =VLOOKUP(A31,RANGE2,9,FALSE()) -> 6691.75 | H31: 1123000 | I31: 1 | J31: 0 | K31: 0 | L31: =$C31*I31 -> 569 | M31: =$C31*J31 -> 0 | N31: =$C31*K31 -> 0 | O31: =IF($G31="No Data","",$G31*I31) -> 6691.75 | P31: =IF($G31="No Data","",$G31*J31) -> 0 | Q31: =IF($G31="No Data","",$G31*K31) -> 0 | R31: =H31*I31 -> 1123000 | S31: =H31*J31 -> 0 | T31: =H31*K31 -> 0
A32: 2369 | B32: BALZ-DOBIE HOUSE | C32: 66636 | D32: 2011 | E32: 46056 | F32: =IF(G32="no data","",G32/H32) -> 0.0004125464 | G32: =VLOOKUP(A32,RANGE2,9,FALSE()) -> 10470.015 | H32: 25379000 | I32: 0 | J32: 1 | K32: 0 | L32: =$C32*I32 -> 0 | M32: =$C32*J32 -> 66636 | N32: =$C32*K32 -> 0 | O32: =IF($G32="No Data","",$G32*I32) -> 0 | P32: =IF($G32="No Data","",$G32*J32) -> 10470.015 | Q32: =IF($G32="No Data","",$G32*K32) -> 0 | R32: =H32*I32 -> 0 | S32: =H32*J32 -> 25379000 | T32: =H32*K32 -> 0
A33: 1991 | B33: BATTLE BUILDING AT THE UVA CHILDREN'S HOSPITAL | C33: 201064 | D33: 2014 | F33: =IF(G33="no data","",G33/H33) | G33: No Data | H33: 136410000 | I33: 0 | J33: 0 | K33: 1 | L33: =$C33*I33 -> 0 | M33: =$C33*J33 -> 0 | N33: =$C33*K33 -> 201064 | O33: =IF($G33="No Data","",$G33*I33) | P33: =IF($G33="No Data","",$G33*J33) | Q33: =IF($G33="No Data","",$G33*K33) | R33: =H33*I33 -> 0 | S33: =H33*J33 -> 0 | T33: =H33*K33 -> 136410000
A34: 264 | B34: BAVARO HALL | C34: 68050 | D34: 2010 | E34: 45553 | F34: =IF(G34="no data","",G34/H34) -> 0.001727349 | G34: =VLOOKUP(A34,RANGE2,9,FALSE()) -> 85963.25 | H34: 49766000 | I34: 1 | J34: 0 | K34: 0 | L34: =$C34*I34 -> 68050 | M34: =$C34*J34 -> 0 | N34: =$C34*K34 -> 0 | O34: =IF($G34="No Data","",$G34*I34) -> 85963.25 | P34: =IF($G34="No Data","",$G34*J34) -> 0 | Q34: =IF($G34="No Data","",$G34*K34) -> 0 | R34: =H34*I34 -> 49766000 | S34: =H34*J34 -> 0 | T34: =H34*K34 -> 0
A35: 407 | B35: BAYLY BUILDING | C35: 14360 | D35: 1934 | E35: 45001 | F35: =IF(G35="no data","",G35/H35) -> 0.0074963592 | G35: =VLOOKUP(A35,RANGE2,9,FALSE()) -> 30885 | H35: 4120000 | I35: 1 | J35: 0 | K35: 0 | L35: =$C35*I35 -> 14360 | M35: =$C35*J35 -> 0 | N35: =$C35*K35 -> 0 | O35: =IF($G35="No Data","",$G35*I35) -> 30885 | P35: =IF($G35="No Data","",$G35*J35) -> 0 | Q35: =IF($G35="No Data","",$G35*K35) -> 0 | R35: =H35*I35 -> 4120000 | S35: =H35*J35 -> 0 | T35: =H35*K35 -> 0
A36: 436 | B36: BEMISS HOUSE | C36: 4892 | D36: 1936 | E36: 45385 | F36: =IF(G36="no data","",G36/H36) -> 0.037565232 | G36: =VLOOKUP(A36,RANGE2,9,FALSE()) -> 43650.8 | H36: 1162000 | I36: 1 | J36: 0 | K36: 0 | L36: =$C36*I36 -> 4892 | M36: =$C36*J36 -> 0 | N36: =$C36*K36 -> 0 | O36: =IF($G36="No Data","",$G36*I36) -> 43650.8 | P36: =IF($G36="No Data","",$G36*J36) -> 0 | Q36: =IF($G36="No Data","",$G36*K36) -> 0 | R36: =H36*I36 -> 1162000 | S36: =H36*J36 -> 0 | T36: =H36*K36 -> 0
A37: 2146 | B37: BICE HOUSE | C37: 73207 | D37: 1974 | E37: 44742 | F37: =IF(G37="no data","",G37/H37) -> 0.00060861986 | G37: =VLOOKUP(A37,RANGE2,9,FALSE()) -> 10516.343 | H37: 17279000 | I37: 0 | J37: 1 | K37: 0 | L37: =$C37*I37 -> 0 | M37: =$C37*J37 -> 73207 | N37: =$C37*K37 -> 0 | O37: =IF($G37="No Data","",$G37*I37) -> 0 | P37: =IF($G37="No Data","",$G37*J37) -> 10516.343 | Q37: =IF($G37="No Data","",$G37*K37) -> 0 | R37: =H37*I37 -> 0 | S37: =H37*J37 -> 17279000 | T37: =H37*K37 -> 0
A38: 257 | B38: BIOLOGY GREENHOUSE | C38: 8137 | D38: 1967 | E38: 45365 | F38: =IF(G38="no data","",G38/H38) -> 0.04299011 | G38: =VLOOKUP(A38,RANGE2,9,FALSE()) -> 78242 | H38: 1820000 | I38: 1 | J38: 0 | K38: 0 | L38: =$C38*I38 -> 8137 | M38: =$C38*J38 -> 0 | N38: =$C38*K38 -> 0 | O38: =IF($G38="No Data","",$G38*I38) -> 78242 | P38: =IF($G38="No Data","",$G38*J38) -> 0 | Q38: =IF($G38="No Data","",$G38*K38) -> 0 | R38: =H38*I38 -> 1820000 | S38: =H38*J38 -> 0 | T38: =H38*K38 -> 0
A39: 1155 | B39: BIOMED. ENG. & MEDICAL SCI. BLD. (MR-5) | C39: 164206 | D39: 2002 | E39: 44798 | F39: =IF(G39="no data","",G39/H39) -> 0.00020085154 | G39: =VLOOKUP(A39,RANGE2,9,FALSE()) -> 16358.755 | H39: 81447000 | I39: 1 | J39: 0 | K39: 0 | L39: =$C39*I39 -> 164206 | M39: =$C39*J39 -> 0 | N39: =$C39*K39 -> 0 | O39: =IF($G39="No Data","",$G39*I39) -> 16358.755 | P39: =IF($G39="No Data","",$G39*J39) -> 0 | Q39: =IF($G39="No Data","",$G39*K39) -> 0 | R39: =H39*I39 -> 81447000 | S39: =H39*J39 -> 0 | T39: =H39*K39 -> 0
A40: 8060 | B40: BLANDY FARM HOUSE | C40: 2783 | D40: 1926 | E40: 45846 | F40: =IF(G40="no data","",G40/H40) -> 0.13755704 | G40: =VLOOKUP(A40,RANGE2,9,FALSE()) -> 46494.279 | H40: 338000 | I40: 1 | J40: 0 | K40: 0 | L40: =$C40*I40 -> 2783 | M40: =$C40*J40 -> 0 | N40: =$C40*K40 -> 0 | O40: =IF($G40="No Data","",$G40*I40) -> 46494.279 | P40: =IF($G40="No Data","",$G40*J40) -> 0 | Q40: =IF($G40="No Data","",$G40*K40) -> 0 | R40: =H40*I40 -> 338000 | S40: =H40*J40 -> 0 | T40: =H40*K40 -> 0
A41: 8075 | B41: BLANDY FIELD LAB | C41: 4258 | D41: 2012 | E41: 45846 | F41: =IF(G41="no data","",G41/H41) -> 0.0018824022 | G41: =VLOOKUP(A41,RANGE2,9,FALSE()) -> 2962.901 | H41: 1574000 | I41: 1 | J41: 0 | K41: 0 | L41: =$C41*I41 -> 4258 | M41: =$C41*J41 -> 0 | N41: =$C41*K41 -> 0 | O41: =IF($G41="No Data","",$G41*I41) -> 2962.901 | P41: =IF($G41="No Data","",$G41*J41) -> 0 | Q41: =IF($G41="No Data","",$G41*K41) -> 0 | R41: =H41*I41 -> 1574000 | S41: =H41*J41 -> 0 | T41: =H41*K41 -> 0
A42: 8076 | B42: BLANDY FIELD LAB GREENHOUSE | C42: 3245 | D42: 2016 | E42: 45846 | F42: =IF(G42="no data","",G42/H42) -> 0.00039660381 | G42: =VLOOKUP(A42,RANGE2,9,FALSE()) -> 489.0125 | H42: 1233000 | I42: 1 | J42: 0 | K42: 0 | L42: =$C42*I42 -> 3245 | M42: =$C42*J42 -> 0 | N42: =$C42*K42 -> 0 | O42: =IF($G42="No Data","",$G42*I42) -> 489.0125 | P42: =IF($G42="No Data","",$G42*J42) -> 0 | Q42: =IF($G42="No Data","",$G42*K42) -> 0 | R42: =H42*I42 -> 1233000 | S42: =H42*J42 -> 0 | T42: =H42*K42 -> 0
A43: 8065 | B43: BLANDY GENETICS BUILDING | C43: 960 | D43: 1926 | E43: 45845 | F43: =IF(G43="no data","",G43/H43) -> 0.021898686 | G43: =VLOOKUP(A43,RANGE2,9,FALSE()) -> 6460.1125 | H43: 295000 | I43: 1 | J43: 0 | K43: 0 | L43: =$C43*I43 -> 960 | M43: =$C43*J43 -> 0 | N43: =$C43*K43 -> 0 | O43: =IF($G43="No Data","",$G43*I43) -> 6460.1125 | P43: =IF($G43="No Data","",$G43*J43) -> 0 | Q43: =IF($G43="No Data","",$G43*K43) -> 0 | R43: =H43*I43 -> 295000 | S43: =H43*J43 -> 0 | T43: =H43*K43 -> 0
A44: 8063 | B44: BLANDY GROUNDS MAINTENANCE SHOP/OLD PROPOGATION GREENHOUSE | C44: 2099 | D44: 1926 | E44: 45845 | F44: =IF(G44="no data","",G44/H44) -> 0.23855516 | G44: =VLOOKUP(A44,RANGE2,9,FALSE()) -> 152198.19 | H44: 638000 | I44: 1 | J44: 0 | K44: 0 | L44: =$C44*I44 -> 2099 | M44: =$C44*J44 -> 0 | N44: =$C44*K44 -> 0 | O44: =IF($G44="No Data","",$G44*I44) -> 152198.19 | P44: =IF($G44="No Data","",$G44*J44) -> 0 | Q44: =IF($G44="No Data","",$G44*K44) -> 0 | R44: =H44*I44 -> 638000 | S44: =H44*J44 -> 0 | T44: =H44*K44 -> 0
A45: 8079 | B45: Blandy Hay Barn | C45: 12770 | D45: 1926 | E45: 45839 | F45: =IF(G45="no data","",G45/H45) -> 0.034414404 | G45: 100000 | H45: 2905760 | I45: 1 | J45: 0 | K45: 0 | L45: =$C45*I45 -> 12770 | M45: =$C45*J45 -> 0 | N45: =$C45*K45 -> 0 | O45: =IF($G45="No Data","",$G45*I45) -> 100000 | P45: =IF($G45="No Data","",$G45*J45) -> 0 | Q45: =IF($G45="No Data","",$G45*K45) -> 0 | R45: =H45*I45 -> 2905760 | S45: =H45*J45 -> 0 | T45: =H45*K45 -> 0
A46: 8066 | B46: BLANDY HEWLETT LEWIS OVERLOOK PAVILION | C46: 1288 | D46: 2002 | E46: 45845 | F46: =IF(G46="no data","",G46/H46) -> 0.070436134 | G46: =VLOOKUP(A46,RANGE2,9,FALSE()) -> 10283.675 | H46: 146000 | I46: 1 | J46: 0 | K46: 0 | L46: =$C46*I46 -> 1288 | M46: =$C46*J46 -> 0 | N46: =$C46*K46 -> 0 | O46: =IF($G46="No Data","",$G46*I46) -> 10283.675 | P46: =IF($G46="No Data","",$G46*J46) -> 0 | Q46: =IF($G46="No Data","",$G46*K46) -> 0 | R46: =H46*I46 -> 146000 | S46: =H46*J46 -> 0 | T46: =H46*K46 -> 0
A47: 8070 | B47: BLANDY INFORMATION KIOSK | C47: 225 | D47: 1979 | E47: 45832 | F47: =IF(G47="no data","",G47/H47) -> 0 | G47: =VLOOKUP(A47,RANGE2,9,FALSE()) -> 0 | H47: 35000 | I47: 1 | J47: 0 | K47: 0 | L47: =$C47*I47 -> 225 | M47: =$C47*J47 -> 0 | N47: =$C47*K47 -> 0 | O47: =IF($G47="No Data","",$G47*I47) -> 0 | P47: =IF($G47="No Data","",$G47*J47) -> 0 | Q47: =IF($G47="No Data","",$G47*K47) -> 0 | R47: =H47*I47 -> 35000 | S47: =H47*J47 -> 0 | T47: =H47*K47 -> 0
A48: 8069 | B48: BLANDY NEW PROPAGATION GREENHOUSE | C48: 1320 | D48: 2009 | F48: =IF(G48="no data","",G48/H48) | G48: No Data | H48: 89000 | I48: 1 | J48: 0 | K48: 0 | L48: =$C48*I48 -> 1320 | M48: =$C48*J48 -> 0 | N48: =$C48*K48 -> 0 | O48: =IF($G48="No Data","",$G48*I48) | P48: =IF($G48="No Data","",$G48*J48) | Q48: =IF($G48="No Data","",$G48*K48) | R48: =H48*I48 -> 89000 | S48: =H48*J48 -> 0 | T48: =H48*K48 -> 0
A49: 8068 | B49: BLANDY NEW TRAILER LAB | C49: 846 | D49: 2009 | E49: 45845 | F49: =IF(G49="no data","",G49/H49) -> 0.12313867 | G49: =VLOOKUP(A49,RANGE2,9,FALSE()) -> 7265.1815 | H49: 59000 | I49: 1 | J49: 0 | K49: 0 | L49: =$C49*I49 -> 846 | M49: =$C49*J49 -> 0 | N49: =$C49*K49 -> 0 | O49: =IF($G49="No Data","",$G49*I49) -> 7265.1815 | P49: =IF($G49="No Data","",$G49*J49) -> 0 | Q49: =IF($G49="No Data","",$G49*K49) -> 0 | R49: =H49*I49 -> 59000 | S49: =H49*J49 -> 0 | T49: =H49*K49 -> 0
A50: 8054 | B50: BLANDY PARKFIELD LEARNING CENTER | C50: 972 | D50: 1926 | E50: 45846 | F50: =IF(G50="no data","",G50/H50) -> 0.087537095 | G50: =VLOOKUP(A50,RANGE2,9,FALSE()) -> 42630.565 | H50: 487000 | I50: 1 | J50: 0 | K50: 0 | L50: =$C50*I50 -> 972 | M50: =$C50*J50 -> 0 | N50: =$C50*K50 -> 0 | O50: =IF($G50="No Data","",$G50*I50) -> 42630.565 | P50: =IF($G50="No Data","",$G50*J50) -> 0 | Q50: =IF($G50="No Data","",$G50*K50) -> 0 | R50: =H50*I50 -> 487000 | S50: =H50*J50 -> 0 | T50: =H50*K50 -> 0
A51: 8067 | B51: BLANDY PEETWOOD PAVILION | C51: 836 | D51: 2003 | E51: 45845 | F51: =IF(G51="no data","",G51/H51) -> 0.010820796 | G51: =VLOOKUP(A51,RANGE2,9,FALSE()) -> 2521.2455 | H51: 233000 | I51: 1 | J51: 0 | K51: 0 | L51: =$C51*I51 -> 836 | M51: =$C51*J51 -> 0 | N51: =$C51*K51 -> 0 | O51: =IF($G51="No Data","",$G51*I51) -> 2521.2455 | P51: =IF($G51="No Data","",$G51*J51) -> 0 | Q51: =IF($G51="No Data","",$G51*K51) -> 0 | R51: =H51*I51 -> 233000 | S51: =H51*J51 -> 0 | T51: =H51*K51 -> 0
A52: 8071 | B52: BLANDY RESEARCH VILLAGE COTTAGE 1 (RV1) | C52: 1333 | D52: 1999 | E52: 45832 | F52: =IF(G52="no data","",G52/H52) -> 0 | G52: =VLOOKUP(A52,RANGE2,9,FALSE()) -> 0 | H52: 300000 | I52: 1 | J52: 0 | K52: 0 | L52: =$C52*I52 -> 1333 | M52: =$C52*J52 -> 0 | N52: =$C52*K52 -> 0 | O52: =IF($G52="No Data","",$G52*I52) -> 0 | P52: =IF($G52="No Data","",$G52*J52) -> 0 | Q52: =IF($G52="No Data","",$G52*K52) -> 0 | R52: =H52*I52 -> 300000 | S52: =H52*J52 -> 0 | T52: =H52*K52 -> 0
A53: 8072 | B53: BLANDY RESEARCH VILLAGE COTTAGE 2 (RV2) | C53: 1333 | D53: 1999 | E53: 45834 | F53: =IF(G53="no data","",G53/H53) -> 0.0075496667 | G53: =VLOOKUP(A53,RANGE2,9,FALSE()) -> 2264.9 | H53: 300000 | I53: 1 | J53: 0 | K53: 0 | L53: =$C53*I53 -> 1333 | M53: =$C53*J53 -> 0 | N53: =$C53*K53 -> 0 | O53: =IF($G53="No Data","",$G53*I53) -> 2264.9 | P53: =IF($G53="No Data","",$G53*J53) -> 0 | Q53: =IF($G53="No Data","",$G53*K53) -> 0 | R53: =H53*I53 -> 300000 | S53: =H53*J53 -> 0 | T53: =H53*K53 -> 0
A54: 8077 | B54: BLANDY RESEARCH VILLAGE COTTAGE 3 (RV3) | C54: 1373 | D54: 2016 | E54: 45834 | F54: =IF(G54="no data","",G54/H54) -> 0.0047682105 | G54: =VLOOKUP(A54,RANGE2,9,FALSE()) -> 2264.9 | H54: 475000 | I54: 1 | J54: 0 | K54: 0 | L54: =$C54*I54 -> 1373 | M54: =$C54*J54 -> 0 | N54: =$C54*K54 -> 0 | O54: =IF($G54="No Data","",$G54*I54) -> 2264.9 | P54: =IF($G54="No Data","",$G54*J54) -> 0 | Q54: =IF($G54="No Data","",$G54*K54) -> 0 | R54: =H54*I54 -> 475000 | S54: =H54*J54 -> 0 | T54: =H54*K54 -> 0
A55: 8078 | B55: BLANDY RESEARCH VILLAGE COTTAGE 4 (RV4) | C55: 1373 | D55: 2016 | E55: 45834 | F55: =IF(G55="no data","",G55/H55) -> 0.0047682105 | G55: =VLOOKUP(A55,RANGE2,9,FALSE()) -> 2264.9 | H55: 475000 | I55: 1 | J55: 0 | K55: 0 | L55: =$C55*I55 -> 1373 | M55: =$C55*J55 -> 0 | N55: =$C55*K55 -> 0 | O55: =IF($G55="No Data","",$G55*I55) -> 2264.9 | P55: =IF($G55="No Data","",$G55*J55) -> 0 | Q55: =IF($G55="No Data","",$G55*K55) -> 0 | R55: =H55*I55 -> 475000 | S55: =H55*J55 -> 0 | T55: =H55*K55 -> 0
A56: 8058 | B56: BLANDY SILO #1 | C56: 154 | D56: 1926 | E56: 45834 | F56: =IF(G56="no data","",G56/H56) -> 0 | G56: =VLOOKUP(A56,RANGE2,9,FALSE()) -> 0 | H56: 32000 | I56: 1 | J56: 0 | K56: 0 | L56: =$C56*I56 -> 154 | M56: =$C56*J56 -> 0 | N56: =$C56*K56 -> 0 | O56: =IF($G56="No Data","",$G56*I56) -> 0 | P56: =IF($G56="No Data","",$G56*J56) -> 0 | Q56: =IF($G56="No Data","",$G56*K56) -> 0 | R56: =H56*I56 -> 32000 | S56: =H56*J56 -> 0 | T56: =H56*K56 -> 0
A57: 8059 | B57: BLANDY SILO #2 | C57: 314 | D57: 1926 | E57: 45834 | F57: =IF(G57="no data","",G57/H57) -> 0.16085937 | G57: =VLOOKUP(A57,RANGE2,9,FALSE()) -> 5147.5 | H57: 32000 | I57: 1 | J57: 0 | K57: 0 | L57: =$C57*I57 -> 314 | M57: =$C57*J57 -> 0 | N57: =$C57*K57 -> 0 | O57: =IF($G57="No Data","",$G57*I57) -> 5147.5 | P57: =IF($G57="No Data","",$G57*J57) -> 0 | Q57: =IF($G57="No Data","",$G57*K57) -> 0 | R57: =H57*I57 -> 32000 | S57: =H57*J57 -> 0 | T57: =H57*K57 -> 0
A58: 8062 | B58: BLANDY STONE COTTAGE | C58: 2784 | D58: 1926 | E58: 45846 | F58: =IF(G58="no data","",G58/H58) -> 0.11698693 | G58: =VLOOKUP(A58,RANGE2,9,FALSE()) -> 70777.095 | H58: 605000 | I58: 1 | J58: 0 | K58: 0 | L58: =$C58*I58 -> 2784 | M58: =$C58*J58 -> 0 | N58: =$C58*K58 -> 0 | O58: =IF($G58="No Data","",$G58*I58) -> 70777.095 | P58: =IF($G58="No Data","",$G58*J58) -> 0 | Q58: =IF($G58="No Data","",$G58*K58) -> 0 | R58: =H58*I58 -> 605000 | S58: =H58*J58 -> 0 | T58: =H58*K58 -> 0
A59: 8051 | B59: BLANDY TENANT FARMHOUSE | C59: 1146 | D59: 1926 | E59: 45846 | F59: =IF(G59="no data","",G59/H59) -> 0.18075743 | G59: =VLOOKUP(A59,RANGE2,9,FALSE()) -> 80075.539 | H59: 443000 | I59: 1 | J59: 0 | K59: 0 | L59: =$C59*I59 -> 1146 | M59: =$C59*J59 -> 0 | N59: =$C59*K59 -> 0 | O59: =IF($G59="No Data","",$G59*I59) -> 80075.539 | P59: =IF($G59="No Data","",$G59*J59) -> 0 | Q59: =IF($G59="No Data","",$G59*K59) -> 0 | R59: =H59*I59 -> 443000 | S59: =H59*J59 -> 0 | T59: =H59*K59 -> 0
A60: 8050 | B60: BLANDY THE QUARTERS | C60: 15441 | D60: 1926 | E60: 45846 | F60: =IF(G60="no data","",G60/H60) -> 0.036193275 | G60: =VLOOKUP(A60,RANGE2,9,FALSE()) -> 151106.92 | H60: 4175000 | I60: 1 | J60: 0 | K60: 0 | L60: =$C60*I60 -> 15441 | M60: =$C60*J60 -> 0 | N60: =$C60*K60 -> 0 | O60: =IF($G60="No Data","",$G60*I60) -> 151106.92 | P60: =IF($G60="No Data","",$G60*J60) -> 0 | Q60: =IF($G60="No Data","",$G60*K60) -> 0 | R60: =H60*I60 -> 4175000 | S60: =H60*J60 -> 0 | T60: =H60*K60 -> 0
... A62: 8061 | B62: BLANDY WORKSHOP | C62: 828 | D62: 1926 | E62: 45845 | F62: =IF(G62="no data","",G62/H62) -> 0.065311325 | G62: =VLOOKUP(A62,RANGE2,9,FALSE()) -> 17372.812 | H62: 266000 | I62: 1 | J62: 0 | K62: 0 | L62: =$C62*I62 -> 828 | M62: =$C62*J62 -> 0 | N62: =$C62*K62 -> 0 | O62: =IF($G62="No Data","",$G62*I62) -> 17372.812 | P62: =IF($G62="No Data","",$G62*J62) -> 0 | Q62: =IF($G62="No Data","",$G62*K62) -> 0 | R62: =H62*I62 -> 266000 | S62: =H62*J62 -> 0 | T62: =H62*K62 -> 0
A63: 2150 | B63: BOND HOUSE | C63: 209617 | D63: 2019 | F63: =IF(G63="no data","",G63/H63) | G63: No Data | H63: 34998000 | I63: 0.04 | J63: 0.96 | K63: 0 | L63: =$C63*I63 -> 8384.68 | M63: =$C63*J63 -> 201232.32 | N63: =$C63*K63 -> 0 | O63: =IF($G63="No Data","",$G63*I63) | P63: =IF($G63="No Data","",$G63*J63) | Q63: =IF($G63="No Data","",$G63*K63) | R63: =H63*I63 -> 1399920 | S63: =H63*J63 -> 33598080 | T63: =H63*K63 -> 0
A64: 2218 | B64: BONNYCASTLE HOUSE | C64: 35407 | D64: 1955 | E64: 45782 | F64: =IF(G64="no data","",G64/H64) -> 0.0041411907 | G64: =VLOOKUP(A64,RANGE2,9,FALSE()) -> 20590 | H64: 4972000 | I64: 0 | J64: 1 | K64: 0 | L64: =$C64*I64 -> 0 | M64: =$C64*J64 -> 35407 | N64: =$C64*K64 -> 0 | O64: =IF($G64="No Data","",$G64*I64) -> 0 | P64: =IF($G64="No Data","",$G64*J64) -> 20590 | Q64: =IF($G64="No Data","",$G64*K64) -> 0 | R64: =H64*I64 -> 0 | S64: =H64*J64 -> 4972000 | T64: =H64*K64 -> 0
A65: 125 | B65: BOOKSTORE/CENTRAL GROUNDS PARKING | C65: 237704 | D65: 1994 | E65: 43973 | F65: =IF(G65="no data","",G65/H65) | G65: No Data | H65: 36248000 | I65: 0 | J65: 1 | K65: 0 | L65: =$C65*I65 -> 0 | M65: =$C65*J65 -> 237704 | N65: =$C65*K65 -> 0 | O65: =IF($G65="No Data","",$G65*I65) | P65: =IF($G65="No Data","",$G65*J65) | Q65: =IF($G65="No Data","",$G65*K65) | R65: =H65*I65 -> 0 | S65: =H65*J65 -> 36248000 | T65: =H65*K65 -> 0
A66: 2831 | B66: BOYD HOUSE #831 | C66: 6184 | D66: 1976 | E66: 45511 | F66: =IF(G66="no data","",G66/H66) -> 0.056429813 | G66: =VLOOKUP(A66,RANGE2,9,FALSE()) -> 42209.5 | H66: 748000 | I66: 0 | J66: 1 | K66: 0 | L66: =$C66*I66 -> 0 | M66: =$C66*J66 -> 6184 | N66: =$C66*K66 -> 0 | O66: =IF($G66="No Data","",$G66*I66) -> 0 | P66: =IF($G66="No Data","",$G66*J66) -> 42209.5 | Q66: =IF($G66="No Data","",$G66*K66) -> 0 | R66: =H66*I66 -> 0 | S66: =H66*J66 -> 748000 | T66: =H66*K66 -> 0
A67: 2832 | B67: BOYD HOUSE #832 | C67: 6184 | D67: 1976 | E67: 45511 | F67: =IF(G67="no data","",G67/H67) -> 0.063341511 | G67: =VLOOKUP(A67,RANGE2,9,FALSE()) -> 40665.25 | H67: 642000 | I67: 0 | J67: 1 | K67: 0 | L67: =$C67*I67 -> 0 | M67: =$C67*J67 -> 6184 | N67: =$C67*K67 -> 0 | O67: =IF($G67="No Data","",$G67*I67) -> 0 | P67: =IF($G67="No Data","",$G67*J67) -> 40665.25 | Q67: =IF($G67="No Data","",$G67*K67) -> 0 | R67: =H67*I67 -> 0 | S67: =H67*J67 -> 642000 | T67: =H67*K67 -> 0
A68: 64 | B68: BROOKS HALL | C68: 20727 | D68: 1877 | E68: 45308 | F68: =IF(G68="no data","",G68/H68) -> 0.051078753 | G68: =VLOOKUP(A68,RANGE2,9,FALSE()) -> 424668.75 | H68: 8314000 | I68: 1 | J68: 0 | K68: 0 | L68: =$C68*I68 -> 20727 | M68: =$C68*J68 -> 0 | N68: =$C68*K68 -> 0 | O68: =IF($G68="No Data","",$G68*I68) -> 424668.75 | P68: =IF($G68="No Data","",$G68*J68) -> 0 | Q68: =IF($G68="No Data","",$G68*K68) -> 0 | R68: =H68*I68 -> 8314000 | S68: =H68*J68 -> 0 | T68: =H68*K68 -> 0
A69: 527 | B69: BROWN HALL | C69: 249265 | D69: 1974 | E69: 45777 | F69: =IF(G69="no data","",G69/H69) -> 0.0067120825 | G69: =VLOOKUP(A69,RANGE2,9,FALSE()) -> 440111.25 | H69: 65570000 | I69: 1 | J69: 0 | K69: 0 | L69: =$C69*I69 -> 249265 | M69: =$C69*J69 -> 0 | N69: =$C69*K69 -> 0 | O69: =IF($G69="No Data","",$G69*I69) -> 440111.25 | P69: =IF($G69="No Data","",$G69*J69) -> 0 | Q69: =IF($G69="No Data","",$G69*K69) -> 0 | R69: =H69*I69 -> 65570000 | S69: =H69*J69 -> 0 | T69: =H69*K69 -> 0
A70: 94 | B70: BRYAN HALL | C70: 42755 | D70: 1995 | E70: 45208 | F70: =IF(G70="no data","",G70/H70) -> 0.048033724 | G70: =VLOOKUP(A70,RANGE2,9,FALSE()) -> 823394.1 | H70: 17142000 | I70: 1 | J70: 0 | K70: 0 | L70: =$C70*I70 -> 42755 | M70: =$C70*J70 -> 0 | N70: =$C70*K70 -> 0 | O70: =IF($G70="No Data","",$G70*I70) -> 823394.1 | P70: =IF($G70="No Data","",$G70*J70) -> 0 | Q70: =IF($G70="No Data","",$G70*K70) -> 0 | R70: =H70*I70 -> 17142000 | S70: =H70*J70 -> 0 | T70: =H70*K70 -> 0
A71: 5280 | B71: BRYANT HALL AT SCOTT STADIUM | C71: 73488 | D71: 2000 | E71: 40302 | F71: =IF(G71="no data","",G71/H71) | G71: No Data | H71: 35660000 | I71: 0.15 | J71: 0.85 | K71: 0 | L71: =$C71*I71 -> 11023.2 | M71: =$C71*J71 -> 62464.8 | N71: =$C71*K71 -> 0 | O71: =IF($G71="No Data","",$G71*I71) | P71: =IF($G71="No Data","",$G71*J71) | Q71: =IF($G71="No Data","",$G71*K71) | R71: =H71*I71 -> 5349000 | S71: =H71*J71 -> 30311000 | T71: =H71*K71 -> 0
A72: 438 | B72: CAMPBELL HALL | C72: 121156 | D72: 1969 | E72: 45498 | F72: =IF(G72="no data","",G72/H72) -> 0.076737028 | G72: =VLOOKUP(A72,RANGE2,9,FALSE()) -> 4394729.6 | H72: 57270000 | I72: 1 | J72: 0 | K72: 0 | L72: =$C72*I72 -> 121156 | M72: =$C72*J72 -> 0 | N72: =$C72*K72 -> 0 | O72: =IF($G72="No Data","",$G72*I72) -> 4394729.6 | P72: =IF($G72="No Data","",$G72*J72) -> 0 | Q72: =IF($G72="No Data","",$G72*K72) -> 0 | R72: =H72*I72 -> 57270000 | S72: =H72*J72 -> 0 | T72: =H72*K72 -> 0
A73: 5272 | B73: CARL SMITH CLOCK TOWER | C73: 100 | D73: 2000 | E73: 40302 | F73: =IF(G73="no data","",G73/H73) | G73: No Data | H73: 641000 | I73: 0 | J73: 1 | K73: 0 | L73: =$C73*I73 -> 0 | M73: =$C73*J73 -> 100 | N73: =$C73*K73 -> 0 | O73: =IF($G73="No Data","",$G73*I73) | P73: =IF($G73="No Data","",$G73*J73) | Q73: =IF($G73="No Data","",$G73*K73) | R73: =H73*I73 -> 0 | S73: =H73*J73 -> 641000 | T73: =H73*K73 -> 0
A74: 2401 | B74: Carr's Hill / Buckingham Palace | C74: 392 | D74: 1856 | E74: 46079 | F74: =IF(G74="no data","",G74/H74) -> 0 | G74: =VLOOKUP(A74,RANGE2,9,FALSE()) -> 0 | H74: 117000 | I74: 1 | J74: 0 | K74: 0 | L74: =$C74*I74 -> 392 | M74: =$C74*J74 -> 0 | N74: =$C74*K74 -> 0 | O74: =IF($G74="No Data","",$G74*I74) -> 0 | P74: =IF($G74="No Data","",$G74*J74) -> 0 | Q74: =IF($G74="No Data","",$G74*K74) -> 0 | R74: =H74*I74 -> 117000 | S74: =H74*J74 -> 0 | T74: =H74*K74 -> 0
A75: 2404 | B75: Carr's Hill / Guest House | C75: 1023 | D75: 1910 | E75: 46078 | F75: =IF(G75="no data","",G75/H75) -> 0 | G75: =VLOOKUP(A75,RANGE2,9,FALSE()) -> 0 | H75: 246000 | I75: 1 | J75: 0 | K75: 0 | L75: =$C75*I75 -> 1023 | M75: =$C75*J75 -> 0 | N75: =$C75*K75 -> 0 | O75: =IF($G75="No Data","",$G75*I75) -> 0 | P75: =IF($G75="No Data","",$G75*J75) -> 0 | Q75: =IF($G75="No Data","",$G75*K75) -> 0 | R75: =H75*I75 -> 246000 | S75: =H75*J75 -> 0 | T75: =H75*K75 -> 0
A76: 2403 | B76: Carr's Hill / Leake Cottage | C76: 1036 | D76: 1907 | E76: 46076 | F76: =IF(G76="no data","",G76/H76) -> 0 | G76: =VLOOKUP(A76,RANGE2,9,FALSE()) -> 0 | H76: 231000 | I76: 1 | J76: 0 | K76: 0 | L76: =$C76*I76 -> 1036 | M76: =$C76*J76 -> 0 | N76: =$C76*K76 -> 0 | O76: =IF($G76="No Data","",$G76*I76) -> 0 | P76: =IF($G76="No Data","",$G76*J76) -> 0 | Q76: =IF($G76="No Data","",$G76*K76) -> 0 | R76: =H76*I76 -> 231000 | S76: =H76*J76 -> 0 | T76: =H76*K76 -> 0
A77: 2402 | B77: Carr's Hill / President's Garage | C77: 2002 | D77: 1907 | E77: 46080 | F77: =IF(G77="no data","",G77/H77) -> 0.02204684 | G77: =VLOOKUP(A77,RANGE2,9,FALSE()) -> 11684.825 | H77: 530000 | I77: 1 | J77: 0 | K77: 0 | L77: =$C77*I77 -> 2002 | M77: =$C77*J77 -> 0 | N77: =$C77*K77 -> 0 | O77: =IF($G77="No Data","",$G77*I77) -> 11684.825 | P77: =IF($G77="No Data","",$G77*J77) -> 0 | Q77: =IF($G77="No Data","",$G77*K77) -> 0 | R77: =H77*I77 -> 530000 | S77: =H77*J77 -> 0 | T77: =H77*K77 -> 0
A78: 2400 | B78: Carr's Hill / President's House | C78: 15664 | D78: 1907 | E78: 46072 | F78: =IF(G78="no data","",G78/H78) -> 0.00031978175 | G78: =VLOOKUP(A78,RANGE2,9,FALSE()) -> 1168.4825 | H78: 3654000 | I78: 1 | J78: 0 | K78: 0 | L78: =$C78*I78 -> 15664 | M78: =$C78*J78 -> 0 | N78: =$C78*K78 -> 0 | O78: =IF($G78="No Data","",$G78*I78) -> 1168.4825 | P78: =IF($G78="No Data","",$G78*J78) -> 0 | Q78: =IF($G78="No Data","",$G78*K78) -> 0 | R78: =H78*I78 -> 3654000 | S78: =H78*J78 -> 0 | T78: =H78*K78 -> 0
A79: 447 | B79: CARR'S HILL FIELD SUPPORT FACILITY | C79: 2966 | D79: 2006 | E79: 45379 | F79: =IF(G79="no data","",G79/H79) -> 0 | G79: =VLOOKUP(A79,RANGE2,9,FALSE()) -> 0 | H79: 1632000 | I79: 1 | J79: 0 | K79: 0 | L79: =$C79*I79 -> 2966 | M79: =$C79*J79 -> 0 | N79: =$C79*K79 -> 0 | O79: =IF($G79="No Data","",$G79*I79) -> 0 | P79: =IF($G79="No Data","",$G79*J79) -> 0 | Q79: =IF($G79="No Data","",$G79*K79) -> 0 | R79: =H79*I79 -> 1632000 | S79: =H79*J79 -> 0 | T79: =H79*K79 -> 0
A80: 580 | B80: CARRUTHERS HALL | C80: 103138 | D80: 1950 | E80: 45330 | F80: =IF(G80="no data","",G80/H80) -> 0.0174862 | G80: =VLOOKUP(A80,RANGE2,9,FALSE()) -> 477688 | H80: 27318000 | I80: 1 | J80: 0 | K80: 0 | L80: =$C80*I80 -> 103138 | M80: =$C80*J80 -> 0 | N80: =$C80*K80 -> 0 | O80: =IF($G80="No Data","",$G80*I80) -> 477688 | P80: =IF($G80="No Data","",$G80*J80) -> 0 | Q80: =IF($G80="No Data","",$G80*K80) -> 0 | R80: =H80*I80 -> 27318000 | S80: =H80*J80 -> 0 | T80: =H80*K80 -> 0
A81: 1161 | B81: CARTER-HARRISON RESEARCH BUILDING (MR-6) | C81: 200442 | D81: 2009 | E81: 44699 | F81: =IF(G81="no data","",G81/H81) -> 9.0257491e-05 | G81: =VLOOKUP(A81,RANGE2,9,FALSE()) -> 11684.825 | H81: 129461000 | I81: 1 | J81: 0 | K81: 0 | L81: =$C81*I81 -> 200442 | M81: =$C81*J81 -> 0 | N81: =$C81*K81 -> 0 | O81: =IF($G81="No Data","",$G81*I81) -> 11684.825 | P81: =IF($G81="No Data","",$G81*J81) -> 0 | Q81: =IF($G81="No Data","",$G81*K81) -> 0 | R81: =H81*I81 -> 129461000 | S81: =H81*J81 -> 0 | T81: =H81*K81 -> 0
A82: 2132 | B82: CASA BOLIVAR/SPANISH HOUSE | C82: 7422 | D82: 1934 | E82: 44993 | F82: =IF(G82="no data","",G82/H82) -> 0.0056359489 | G82: =VLOOKUP(A82,RANGE2,9,FALSE()) -> 4632.75 | H82: 822000 | I82: 0 | J82: 1 | K82: 0 | L82: =$C82*I82 -> 0 | M82: =$C82*J82 -> 7422 | N82: =$C82*K82 -> 0 | O82: =IF($G82="No Data","",$G82*I82) -> 0 | P82: =IF($G82="No Data","",$G82*J82) -> 4632.75 | Q82: =IF($G82="No Data","",$G82*K82) -> 0 | R82: =H82*I82 -> 0 | S82: =H82*J82 -> 822000 | T82: =H82*K82 -> 0
A83: 2360 | B83: CAUTHEN HOUSE | C83: 38789 | D83: 1996 | E83: 45883 | F83: =IF(G83="no data","",G83/H83) -> 0.028354329 | G83: =VLOOKUP(A83,RANGE2,9,FALSE()) -> 438414.63 | H83: 15462000 | I83: 0.01 | J83: 0.99 | K83: 0 | L83: =$C83*I83 -> 387.89 | M83: =$C83*J83 -> 38401.11 | N83: =$C83*K83 -> 0 | O83: =IF($G83="No Data","",$G83*I83) -> 4384.1463 | P83: =IF($G83="No Data","",$G83*J83) -> 434030.49 | Q83: =IF($G83="No Data","",$G83*K83) -> 0 | R83: =H83*I83 -> 154620 | S83: =H83*J83 -> 15307380 | T83: =H83*K83 -> 0
A84: 7140 | B84: CAVALIER SUBSTATION | C84: 2595 | D84: 1988 | E84: 44748 | F84: =IF(G84="no data","",G84/H84) -> 0 | G84: =VLOOKUP(A84,RANGE2,9,FALSE()) -> 0 | H84: 6954000 | I84: 1 | J84: 0 | K84: 0 | L84: =$C84*I84 -> 2595 | M84: =$C84*J84 -> 0 | N84: =$C84*K84 -> 0 | O84: =IF($G84="No Data","",$G84*I84) -> 0 | P84: =IF($G84="No Data","",$G84*J84) -> 0 | Q84: =IF($G84="No Data","",$G84*K84) -> 0 | R84: =H84*I84 -> 6954000 | S84: =H84*J84 -> 0 | T84: =H84*K84 -> 0
A85: 1189 | B85: CDW UTILITY | C85: 252 | D85: 1986 | E85: 44802 | F85: =IF(G85="no data","",G85/H85) -> 0 | G85: =VLOOKUP(A85,RANGE2,9,FALSE()) -> 0 | H85: 225000 | I85: 0.5 | J85: 0 | K85: 0.5 | L85: =$C85*I85 -> 126 | M85: =$C85*J85 -> 0 | N85: =$C85*K85 -> 126 | O85: =IF($G85="No Data","",$G85*I85) -> 0 | P85: =IF($G85="No Data","",$G85*J85) -> 0 | Q85: =IF($G85="No Data","",$G85*K85) -> 0 | R85: =H85*I85 -> 112500 | S85: =H85*J85 -> 0 | T85: =H85*K85 -> 112500
... A87: 222 | B87: CHEMICAL ENGINEERING RESEARCH | C87: 28878 | D87: 1992 | E87: 45489 | F87: =IF(G87="no data","",G87/H87) -> 0.15401467 | G87: =VLOOKUP(A87,RANGE2,9,FALSE()) -> 1854798.7 | H87: 12043000 | I87: 1 | J87: 0 | K87: 0 | L87: =$C87*I87 -> 28878 | M87: =$C87*J87 -> 0 | N87: =$C87*K87 -> 0 | O87: =IF($G87="No Data","",$G87*I87) -> 1854798.7 | P87: =IF($G87="No Data","",$G87*J87) -> 0 | Q87: =IF($G87="No Data","",$G87*K87) -> 0 | R87: =H87*I87 -> 12043000 | S87: =H87*J87 -> 0 | T87: =H87*K87 -> 0
A88: 256 | B88: CHEMISTRY BUILDING | C88: 285503 | D88: 1968 | E88: 45518 | F88: =IF(G88="no data","",G88/H88) -> 0.013617193 | G88: 1801650 | H88: 132307000 | I88: 1 | J88: 0 | K88: 0 | L88: =$C88*I88 -> 285503 | M88: =$C88*J88 -> 0 | N88: =$C88*K88 -> 0 | O88: =IF($G88="No Data","",$G88*I88) -> 1801650 | P88: =IF($G88="No Data","",$G88*J88) -> 0 | Q88: =IF($G88="No Data","",$G88*K88) -> 0 | R88: =H88*I88 -> 132307000 | S88: =H88*J88 -> 0 | T88: =H88*K88 -> 0
A89: 800 | B89: CHILD CARE CENTER | C89: 7730 | D89: 1991 | E89: 45204 | F89: =IF(G89="no data","",G89/H89) -> 0.29737911 | G89: =VLOOKUP(A89,RANGE2,9,FALSE()) -> 512384.21 | H89: 1723000 | I89: 0 | J89: 1 | K89: 0 | L89: =$C89*I89 -> 0 | M89: =$C89*J89 -> 7730 | N89: =$C89*K89 -> 0 | O89: =IF($G89="No Data","",$G89*I89) -> 0 | P89: =IF($G89="No Data","",$G89*J89) -> 512384.21 | Q89: =IF($G89="No Data","",$G89*K89) -> 0 | R89: =H89*I89 -> 0 | S89: =H89*J89 -> 1723000 | T89: =H89*K89 -> 0
A90: 68 | B90: CLARK HALL | C90: 181328 | D90: 1932 | E90: 45271 | F90: =IF(G90="no data","",G90/H90) -> 0.021429843 | G90: =VLOOKUP(A90,RANGE2,9,FALSE()) -> 2136212.5 | H90: 99684000 | I90: 1 | J90: 0 | K90: 0 | L90: =$C90*I90 -> 181328 | M90: =$C90*J90 -> 0 | N90: =$C90*K90 -> 0 | O90: =IF($G90="No Data","",$G90*I90) -> 2136212.5 | P90: =IF($G90="No Data","",$G90*J90) -> 0 | Q90: =IF($G90="No Data","",$G90*K90) -> 0 | R90: =H90*I90 -> 99684000 | S90: =H90*J90 -> 0 | T90: =H90*K90 -> 0
A91: 1141 | B91: CLAUDE MOORE HEALTH SCIENCES LIBRARY | C91: 76537 | D91: 1975 | E91: 45498 | F91: =IF(G91="no data","",G91/H91) -> 0.027158986 | G91: =VLOOKUP(A91,RANGE2,9,FALSE()) -> 561077.5 | H91: 20659000 | I91: 1 | J91: 0 | K91: 0 | L91: =$C91*I91 -> 76537 | M91: =$C91*J91 -> 0 | N91: =$C91*K91 -> 0 | O91: =IF($G91="No Data","",$G91*I91) -> 561077.5 | P91: =IF($G91="No Data","",$G91*J91) -> 0 | Q91: =IF($G91="No Data","",$G91*K91) -> 0 | R91: =H91*I91 -> 20659000 | S91: =H91*J91 -> 0 | T91: =H91*K91 -> 0
A92: 1147 | B92: CLAUDE MOORE MEDICAL EDUCATION BUILDING | C92: 60582 | D92: 2010 | E92: 44798 | F92: =IF(G92="no data","",G92/H92) -> 0.0069912812 | G92: =VLOOKUP(A92,RANGE2,9,FALSE()) -> 367335.9 | H92: 52542000 | I92: 1 | J92: 0 | K92: 0 | L92: =$C92*I92 -> 60582 | M92: =$C92*J92 -> 0 | N92: =$C92*K92 -> 0 | O92: =IF($G92="No Data","",$G92*I92) -> 367335.9 | P92: =IF($G92="No Data","",$G92*J92) -> 0 | Q92: =IF($G92="No Data","",$G92*K92) -> 0 | R92: =H92*I92 -> 52542000 | S92: =H92*J92 -> 0 | T92: =H92*K92 -> 0
A93: 106 | B93: CLAUDE MOORE NURSING EDUCATION BUILDING | C93: 35233 | D93: 2008 | E93: 44687 | F93: =IF(G93="no data","",G93/H93) -> 0.00030084513 | G93: =VLOOKUP(A93,RANGE2,9,FALSE()) -> 7010.895 | H93: 23304000 | I93: 1 | J93: 0 | K93: 0 | L93: =$C93*I93 -> 35233 | M93: =$C93*J93 -> 0 | N93: =$C93*K93 -> 0 | O93: =IF($G93="No Data","",$G93*I93) -> 7010.895 | P93: =IF($G93="No Data","",$G93*J93) -> 0 | Q93: =IF($G93="No Data","",$G93*K93) -> 0 | R93: =H93*I93 -> 23304000 | S93: =H93*J93 -> 0 | T93: =H93*K93 -> 0
A94: 526 | B94: CLAY HALL | C94: 10440 | D94: 1997 | E94: 45777 | F94: =IF(G94="no data","",G94/H94) -> 0.0012702036 | G94: =VLOOKUP(A94,RANGE2,9,FALSE()) -> 14413 | H94: 11347000 | I94: 1 | J94: 0 | K94: 0 | L94: =$C94*I94 -> 10440 | M94: =$C94*J94 -> 0 | N94: =$C94*K94 -> 0 | O94: =IF($G94="No Data","",$G94*I94) -> 14413 | P94: =IF($G94="No Data","",$G94*J94) -> 0 | Q94: =IF($G94="No Data","",$G94*K94) -> 0 | R94: =H94*I94 -> 11347000 | S94: =H94*J94 -> 0 | T94: =H94*K94 -> 0
A95: 126 | B95: CLEMONS LIBRARY | C95: 83066 | D95: 1981 | E95: 45559 | F95: =IF(G95="no data","",G95/H95) -> 0.0085688057 | G95: =VLOOKUP(A95,RANGE2,9,FALSE()) -> 262522.5 | H95: 30637000 | I95: 1 | J95: 0 | K95: 0 | L95: =$C95*I95 -> 83066 | M95: =$C95*J95 -> 0 | N95: =$C95*K95 -> 0 | O95: =IF($G95="No Data","",$G95*I95) -> 262522.5 | P95: =IF($G95="No Data","",$G95*J95) -> 0 | Q95: =IF($G95="No Data","",$G95*K95) -> 0 | R95: =H95*I95 -> 30637000 | S95: =H95*J95 -> 0 | T95: =H95*K95 -> 0
A96: 1176 | B96: CLINICAL DEPARTMENT WING | C96: 117746 | D96: 1935 | E96: 45315 | F96: =IF(G96="no data","",G96/H96) -> 0.48183859 | G96: =VLOOKUP(A96,RANGE2,9,FALSE()) -> 20332625 | H96: 42198000 | I96: 0.88 | J96: 0 | K96: 0.12 | L96: =$C96*I96 -> 103616.48 | M96: =$C96*J96 -> 0 | N96: =$C96*K96 -> 14129.52 | O96: =IF($G96="No Data","",$G96*I96) -> 17892710 | P96: =IF($G96="No Data","",$G96*J96) -> 0 | Q96: =IF($G96="No Data","",$G96*K96) -> 2439915 | R96: =H96*I96 -> 37134240 | S96: =H96*J96 -> 0 | T96: =H96*K96 -> 5063760
A97: 7101 | B97: COAL SILOS (4) | C97: 3084 | D97: 1988 | F97: =IF(G97="no data","",G97/H97) | G97: No Data | H97: 8313000 | I97: 1 | J97: 0 | K97: 0 | L97: =$C97*I97 -> 3084 | M97: =$C97*J97 -> 0 | N97: =$C97*K97 -> 0 | O97: =IF($G97="No Data","",$G97*I97) | P97: =IF($G97="No Data","",$G97*J97) | Q97: =IF($G97="No Data","",$G97*K97) | R97: =H97*I97 -> 8313000 | S97: =H97*J97 -> 0 | T97: =H97*K97 -> 0
A98: 7100 | B98: COAL UNLOADING FACILITY | C98: 10398 | D98: 1988 | E98: 46078 | F98: =IF(G98="no data","",G98/H98) -> 0.0023027527 | G98: =VLOOKUP(A98,RANGE2,9,FALSE()) -> 8179.3775 | H98: 3552000 | I98: 1 | J98: 0 | K98: 0 | L98: =$C98*I98 -> 10398 | M98: =$C98*J98 -> 0 | N98: =$C98*K98 -> 0 | O98: =IF($G98="No Data","",$G98*I98) -> 8179.3775 | P98: =IF($G98="No Data","",$G98*J98) -> 0 | Q98: =IF($G98="No Data","",$G98*K98) -> 0 | R98: =H98*I98 -> 3552000 | S98: =H98*J98 -> 0 | T98: =H98*K98 -> 0
A99: 1194 | B99: COBB HALL | C99: 62242 | D99: 1917 | E99: 43360 | F99: =IF(G99="no data","",G99/H99) -> 0 | G99: =VLOOKUP(A99,RANGE2,9,FALSE()) -> 0 | H99: 16418000 | I99: 1 | J99: 0 | K99: 0 | L99: =$C99*I99 -> 62242 | M99: =$C99*J99 -> 0 | N99: =$C99*K99 -> 0 | O99: =IF($G99="No Data","",$G99*I99) -> 0 | P99: =IF($G99="No Data","",$G99*J99) -> 0 | Q99: =IF($G99="No Data","",$G99*K99) -> 0 | R99: =H99*I99 -> 16418000 | S99: =H99*J99 -> 0 | T99: =H99*K99 -> 0
A100: 61 | B100: COCKE HALL | C100: 27646 | D100: 1896 | E100: 46121 | F100: =IF(G100="no data","",G100/H100) -> 0.0086180958 | G100: =VLOOKUP(A100,RANGE2,9,FALSE()) -> 110156.5 | H100: 12782000 | I100: 1 | J100: 0 | K100: 0 | L100: =$C100*I100 -> 27646 | M100: =$C100*J100 -> 0 | N100: =$C100*K100 -> 0 | O100: =IF($G100="No Data","",$G100*I100) -> 110156.5 | P100: =IF($G100="No Data","",$G100*J100) -> 0 | Q100: =IF($G100="No Data","",$G100*K100) -> 0 | R100: =H100*I100 -> 12782000 | S100: =H100*J100 -> 0 | T100: =H100*K100 -> 0
A101: 1174 | B101: COLLINS WING | C101: 51498 | D101: 1936 | E101: 45317 | F101: =IF(G101="no data","",G101/H101) -> 0.64336876 | G101: =VLOOKUP(A101,RANGE2,9,FALSE()) -> 12045150 | H101: 18722000 | I101: 0.77 | J101: 0 | K101: 0.23 | L101: =$C101*I101 -> 39653.46 | M101: =$C101*J101 -> 0 | N101: =$C101*K101 -> 11844.54 | O101: =IF($G101="No Data","",$G101*I101) -> 9274765.5 | P101: =IF($G101="No Data","",$G101*J101) -> 0 | Q101: =IF($G101="No Data","",$G101*K101) -> 2770384.5 | R101: =H101*I101 -> 14415940 | S101: =H101*J101 -> 0 | T101: =H101*K101 -> 4306060
A102: 217 | B102: Contemplative Commons | C102: 94215 | D102: 2024 | F102: =IF(G102="no data","",G102/H102) -> 0 | G102: =VLOOKUP(A102,RANGE2,9,FALSE()) -> 0 | H102: 54620000 | I102: 1 | J102: 0 | K102: 0 | L102: =$C102*I102 -> 94215 | M102: =$C102*J102 -> 0 | N102: =$C102*K102 -> 0 | O102: =IF($G102="No Data","",$G102*I102) -> 0 | P102: =IF($G102="No Data","",$G102*J102) -> 0 | Q102: =IF($G102="No Data","",$G102*K102) -> 0 | R102: =H102*I102 -> 54620000 | S102: =H102*J102 -> 0 | T102: =H102*K102 -> 0
...

Sheet ENR BCI
B3: Engineering News-Record
B4: Building Cost Index (BCI) as of each July
B6: FY_END | C6: BCI_July | D6: Yr-to-Yr
D7: Delta
B8: 1996 | C8: 3190 | D8: -
B9: 1997 | C9: 3392 | D9: 0.063
B10: 1998 | C10: 3382 | D10: -0.003
B11: 1999 | C11: 3460 | D11: 0.023
B12: 2000 | C12: 3545 | D12: 0.025
B13: 2001 | C13: 3625 | D13: 0.023
B14: 2002 | C14: 3652 | D14: 0.007
B15: 2003 | C15: 3683 | D15: 0.008
B16: 2004 | C16: 4013 | D16: 0.09
B17: 2005 | C17: 4197 | D17: 0.046
B18: 2006 | C18: 4356 | D18: 0.038
B19: 2007 | C19: 4493 | D19: 0.031
B20: 2008 | C20: 4723 | D20: 0.051
... B37: 2025 | C37: 8577 | D37: 0.03

Sheet Working Draft
A1: Property ID | B1: Property Description | C1: Current Replacement Value | D1: GSF | E1: Year Built | F1: 207 E&G | G1: 207 AUX | H1: 209 HOS | I1: Building Agency | J1: Inflated Deficiencies
A2: 3730 | B2: 1003 WEST MAIN | C2: 4532000 | D2: 10796 | E2: 1948 | F2: 0 | G2: 0 | H2: 1 | I2: 209 HOS | J2: No Data
A3: 3991 | B3: 1018 WEST MAIN ST | C3: 4633000 | D3: 5668 | E3: 1903 | F3: 0 | G3: 0 | H3: 1 | I3: 209 HOS | J3: No Data
A4: 2447 | B4: 102 CRESAP ROAD | C4: 693000 | D4: 3708 | E4: 1956 | F4: 0 | G4: 1 | H4: 0 | I4: 207 AUX | J4: =VLOOKUP(A4,RANGE2,9,FALSE()) -> 41180
A5: 2448 | B5: 108 CRESAP ROAD | C5: 693000 | D5: 2916 | E5: 1956 | F5: 0 | G5: 1 | H5: 0 | I5: 207 AUX | J5: 71300
A6: 3992 | B6: 1107 WEST MAIN STREET | C6: 5468000 | D6: 6663 | E6: 1958 | F6: 0 | G6: 0 | H6: 1 | I6: 209 HOS | J6: No Data
A7: 1149 | B7: 11TH STREET PARKING GARAGE | C7: 38238000 | D7: 339902 | E7: 2008 | F7: 0 | G7: 0 | H7: 1 | I7: 209 HOS | J7: No Data
A8: 211 | B8: 200 MIDMONT LANE | C8: 749000 | D8: 6601 | E8: 1761 | F8: 0 | G8: 0 | H8: 0 | I8: 207 E&G | J8: =VLOOKUP(A8,RANGE2,9,FALSE()) -> 823600
A9: 3656 | B9: 2400 OLD IVY ROAD | C9: 8896000 | D9: 30300 | E9: 1984 | F9: 1 | G9: 0 | H9: 0 | I9: 207 E&G | J9: =VLOOKUP(A9,RANGE2,9,FALSE()) -> 8236
A10: 599 | B10: 2476 OLD IVY ROAD | C10: 13902000 | D10: 13238 | E10: 2011 | F10: 1 | G10: 0 | H10: 0 | I10: 207 E&G | J10: =VLOOKUP(A10,RANGE2,9,FALSE()) -> 0
A11: 131 | B11: 400 BRANDON AVE | C11: 12993000 | D11: 35354 | E11: 1990 | F11: 0.79 | G11: 0 | H11: 0.21 | I11: 207 E&G | J11: =VLOOKUP(A11,RANGE2,9,FALSE()) -> 2059 | K11: Shown as AUX
A12: 2163 | B12: 506 Valley Road | C12: 639000 | D12: 2148 | E12: 1930 | F12: 0 | G12: 1 | H12: 0 | I12: 207 AUX | J12: =VLOOKUP(A12,RANGE2,9,FALSE()) -> 0
A13: 553 | B13: ABBOTT CENTER | C13: 34706000 | D13: 64743 | E13: 2002 | F13: 1 | G13: 0 | H13: 0 | I13: 207 E&G | J13: =VLOOKUP(A13,RANGE2,9,FALSE()) -> 3036098.5
A14: 2835 | B14: ABBOTT HOUSE #835 | C14: 1199000 | D14: 8264 | E14: 1973 | F14: 0 | G14: 1 | H14: 0 | I14: 207 AUX | J14: =VLOOKUP(A14,RANGE2,9,FALSE()) -> 32429.25
A15: 2836 | B15: ABBOTT HOUSE #836 | C15: 1224000 | D15: 8458 | E15: 1973 | F15: 0 | G15: 1 | H15: 0 | I15: 207 AUX | J15: =VLOOKUP(A15,RANGE2,9,FALSE()) -> 41180
A16: 816 | B16: ACADEMIC LOUNGE | C16: 2382000 | D16: 2613 | E16: 2018 | F16: 0 | G16: 1 | H16: 0 | I16: 207 AUX | J16: No Data
A17: 322 | B17: AERO RESEARCH BLOCK HOUSE | C17: 174000 | D17: 1756 | E17: 1950 | F17: 1 | G17: 0 | H17: 0 | I17: 207 E&G | J17: =VLOOKUP(A17,RANGE2,9,FALSE()) -> 25222.75
A18: 323 | B18: AERO RESEARCH QUONSET #1 | C18: 231000 | D18: 646 | E18: 1948 | F18: 1 | G18: 0 | H18: 0 | I18: 207 E&G | J18: =VLOOKUP(A18,RANGE2,9,FALSE()) -> 4090.2035
A19: 325 | B19: AERO RESEARCH QUONSET #2 | C19: 173000 | D19: 720 | E19: 1950 | F19: 1 | G19: 0 | H19: 0 | I19: 207 E&G | J19: 3973
A20: 326 | B20: AERO RESEARCH QUONSET #3 | C20: 173000 | D20: 720 | E20: 1950 | F20: 1 | G20: 0 | H20: 0 | I20: 207 E&G | J20: =VLOOKUP(A20,RANGE2,9,FALSE()) -> 0
A21: 324 | B21: AERO RESEARCH STORAGE BUILDING | C21: 147000 | D21: 612 | E21: 1948 | F21: 1 | G21: 0 | H21: 0 | I21: 207 E&G | J21: =VLOOKUP(A21,RANGE2,9,FALSE()) -> 0
A22: 321 | B22: AEROSPACE RESEARCH LABORATORY | C22: 4032000 | D22: 15067 | E22: 1948 | F22: 1 | G22: 0 | H22: 0 | I22: 207 E&G | J22: =VLOOKUP(A22,RANGE2,9,FALSE()) -> 236785
A23: 203 | B23: ALBERT H SMALL BUILDING | C23: 3351000 | D23: 10526 | E23: 1948 | F23: 1 | G23: 0 | H23: 0 | I23: 207 E&G | J23: =VLOOKUP(A23,RANGE2,9,FALSE()) -> 1087152
A24: 7273 | B24: ALDERMAN ROAD PUMPING STATION | C24: 77000 | D24: 1189 | E24: 1999 | F24: 1 | G24: 0 | H24: 0 | I24: 207 E&G | J24: =VLOOKUP(A24,RANGE2,9,FALSE()) -> 27229.246
A25: 7258 | B25: ALDERMAN SUBSTATION 15KV | C25: 5770000 | D25: 1447 | E25: 1989 | F25: 1 | G25: 0 | H25: 0 | I25: 207 E&G | J25: =VLOOKUP(A25,RANGE2,9,FALSE()) -> 0
A26: 62 | B26: AMPHITHEATER | C26: 1778000 | D26: 3675 | E26: 1920 | F26: 1 | G26: 0 | H26: 0 | I26: 207 E&G | J26: =VLOOKUP(A26,RANGE2,9,FALSE()) -> 10295
A27: 5271 | B27: AQUATIC & FITNESS CENTER | C27: 48587000 | D27: 180806 | E27: 1996 | F27: 0 | G27: 1 | H27: 0 | I27: 207 AUX | J27: No Data
A28: 5575 | B28: ARENA PARKING GARAGE | C28: 20871000 | D28: 263514 | E28: 2006 | F28: 0 | G28: 1 | H28: 0 | I28: 207 AUX | J28: No Data
A29: 252 | B29: ASTRONOMY BUILDING | C29: 10047000 | D29: 37917 | E29: 1952 | F29: 1 | G29: 0 | H29: 0 | I29: 207 E&G | J29: =VLOOKUP(A29,RANGE2,9,FALSE()) -> 213621.25
A30: 3761 | B30: AURBACH MEDICAL RESEARCH BUILDING | C30: 34717000 | D30: 73813 | E30: 2001 | F30: 1 | G30: 0 | H30: 0 | I30: 207 E&G | J30: =VLOOKUP(A30,RANGE2,9,FALSE()) -> 483865
A31: 7375 | B31: BALZ PUMP HOUSE | C31: 1123000 | D31: 569 | E31: 1967 | F31: 1 | G31: 0 | H31: 0 | I31: 207 E&G | J31: =VLOOKUP(A31,RANGE2,9,FALSE()) -> 6691.75
A32: 2369 | B32: BALZ-DOBIE HOUSE | C32: 25379000 | D32: 66636 | E32: 2011 | F32: 0 | G32: 1 | H32: 0 | I32: 207 AUX | J32: =VLOOKUP(A32,RANGE2,9,FALSE()) -> 10470.015
A33: 1991 | B33: BATTLE BUILDING AT THE UVA CHILDREN'S HOSPITAL | C33: 136410000 | D33: 201064 | E33: 2014 | F33: 0 | G33: 0 | H33: 1 | I33: 209 HOS | J33: No Data
A34: 264 | B34: BAVARO HALL | C34: 49766000 | D34: 68050 | E34: 2010 | F34: 1 | G34: 0 | H34: 0 | I34: 207 E&G | J34: =VLOOKUP(A34,RANGE2,9,FALSE()) -> 85963.25
A35: 407 | B35: BAYLY BUILDING | C35: 4120000 | D35: 14360 | E35: 1934 | F35: 1 | G35: 0 | H35: 0 | I35: 207 E&G | J35: =VLOOKUP(A35,RANGE2,9,FALSE()) -> 30885
A36: 436 | B36: BEMISS HOUSE | C36: 1162000 | D36: 4892 | E36: 1936 | F36: 1 | G36: 0 | H36: 0 | I36: 207 E&G | J36: =VLOOKUP(A36,RANGE2,9,FALSE()) -> 43650.8
A37: 2146 | B37: BICE HOUSE | C37: 17279000 | D37: 73207 | E37: 1974 | F37: 0 | G37: 1 | H37: 0 | I37: 207 AUX | J37: =VLOOKUP(A37,RANGE2,9,FALSE()) -> 10516.343
A38: 257 | B38: BIOLOGY GREENHOUSE | C38: 1820000 | D38: 8137 | E38: 1967 | F38: 1 | G38: 0 | H38: 0 | I38: 207 E&G | J38: =VLOOKUP(A38,RANGE2,9,FALSE()) -> 78242
A39: 1155 | B39: BIOMED. ENG. & MEDICAL SCI. BLD. (MR-5) | C39: 81447000 | D39: 164206 | E39: 2002 | F39: 1 | G39: 0 | H39: 0 | I39: 207 E&G | J39: =VLOOKUP(A39,RANGE2,9,FALSE()) -> 16358.755
A40: 8060 | B40: BLANDY FARM HOUSE | C40: 338000 | D40: 2783 | E40: 1926 | F40: 1 | G40: 0 | H40: 0 | I40: 207 E&G | J40: =VLOOKUP(A40,RANGE2,9,FALSE()) -> 46494.279
A41: 8075 | B41: BLANDY FIELD LAB | C41: 1574000 | D41: 4258 | E41: 2012 | F41: 1 | G41: 0 | H41: 0 | I41: 207 E&G | J41: =VLOOKUP(A41,RANGE2,9,FALSE()) -> 2962.901
A42: 8076 | B42: BLANDY FIELD LAB GREENHOUSE | C42: 1233000 | D42: 3245 | E42: 2016 | F42: 1 | G42: 0 | H42: 0 | I42: 207 E&G | J42: =VLOOKUP(A42,RANGE2,9,FALSE()) -> 489.0125
A43: 8065 | B43: BLANDY GENETICS BUILDING | C43: 295000 | D43: 960 | E43: 1926 | F43: 1 | G43: 0 | H43: 0 | I43: 207 E&G | J43: =VLOOKUP(A43,RANGE2,9,FALSE()) -> 6460.1125
A44: 8063 | B44: BLANDY GROUNDS MAINTENANCE SHOP/OLD PROPOGATION GREENHOUSE | C44: 638000 | D44: 2099 | E44: 1926 | F44: 1 | G44: 0 | H44: 0 | I44: 207 E&G | J44: =VLOOKUP(A44,RANGE2,9,FALSE()) -> 152198.19
A45: 8079 | B45: Blandy Hay Barn | C45: 2905760 | D45: 12770 | E45: 1926 | F45: 1 | G45: 0 | H45: 0 | I45: 207 E&G | J45: 100000 | K45: values updated?
A46: 8066 | B46: BLANDY HEWLETT LEWIS OVERLOOK PAVILION | C46: 146000 | D46: 1288 | E46: 2002 | F46: 1 | G46: 0 | H46: 0 | I46: 207 E&G | J46: =VLOOKUP(A46,RANGE2,9,FALSE()) -> 10283.675
A47: 8070 | B47: BLANDY INFORMATION KIOSK | C47: 35000 | D47: 225 | E47: 1979 | F47: 1 | G47: 0 | H47: 0 | I47: 207 E&G | J47: =VLOOKUP(A47,RANGE2,9,FALSE()) -> 0
A48: 8069 | B48: BLANDY NEW PROPAGATION GREENHOUSE | C48: 89000 | D48: 1320 | E48: 2009 | F48: 1 | G48: 0 | H48: 0 | I48: 207 E&G | J48: =VLOOKUP(A48,RANGE2,9,FALSE()) -> 0
A49: 8068 | B49: BLANDY NEW TRAILER LAB | C49: 59000 | D49: 846 | E49: 2009 | F49: 1 | G49: 0 | H49: 0 | I49: 207 E&G | J49: =VLOOKUP(A49,RANGE2,9,FALSE()) -> 7265.1815
A50: 8054 | B50: BLANDY PARKFIELD LEARNING CENTER | C50: 487000 | D50: 972 | E50: 1926 | F50: 1 | G50: 0 | H50: 0 | I50: 207 E&G | J50: =VLOOKUP(A50,RANGE2,9,FALSE()) -> 42630.565
A51: 8067 | B51: BLANDY PEETWOOD PAVILION | C51: 233000 | D51: 836 | E51: 2003 | F51: 1 | G51: 0 | H51: 0 | I51: 207 E&G | J51: =VLOOKUP(A51,RANGE2,9,FALSE()) -> 2521.2455
A52: 8071 | B52: BLANDY RESEARCH VILLAGE COTTAGE 1 (RV1) | C52: 300000 | D52: 1333 | E52: 1999 | F52: 1 | G52: 0 | H52: 0 | I52: 207 E&G | J52: =VLOOKUP(A52,RANGE2,9,FALSE()) -> 0
A53: 8072 | B53: BLANDY RESEARCH VILLAGE COTTAGE 2 (RV2) | C53: 300000 | D53: 1333 | E53: 1999 | F53: 1 | G53: 0 | H53: 0 | I53: 207 E&G | J53: =VLOOKUP(A53,RANGE2,9,FALSE()) -> 2264.9
A54: 8077 | B54: BLANDY RESEARCH VILLAGE COTTAGE 3 (RV3) | C54: 475000 | D54: 1373 | E54: 2016 | F54: 1 | G54: 0 | H54: 0 | I54: 207 E&G | J54: =VLOOKUP(A54,RANGE2,9,FALSE()) -> 2264.9
A55: 8078 | B55: BLANDY RESEARCH VILLAGE COTTAGE 4 (RV4) | C55: 475000 | D55: 1373 | E55: 2016 | F55: 1 | G55: 0 | H55: 0 | I55: 207 E&G | J55: =VLOOKUP(A55,RANGE2,9,FALSE()) -> 2264.9
A56: 8058 | B56: BLANDY SILO #1 | C56: 32000 | D56: 154 | E56: 1926 | F56: 1 | G56: 0 | H56: 0 | I56: 207 E&G | J56: =VLOOKUP(A56,RANGE2,9,FALSE()) -> 0
A57: 8059 | B57: BLANDY SILO #2 | C57: 32000 | D57: 314 | E57: 1926 | F57: 1 | G57: 0 | H57: 0 | I57: 207 E&G | J57: =VLOOKUP(A57,RANGE2,9,FALSE()) -> 5147.5
... A61: 8052 | B61: BLANDY TRACTOR BARN COMPLEX | C61: 424000 | D61: 6128 | E61: 1998 | F61: 1 | G61: 0 | H61: 0 | I61: 207 E&G | J61: =VLOOKUP(A61,RANGE2,9,FALSE()) -> 32887.378
A62: 8081 | B62: Blandy Village Cottages Pumphouse | F62: 1 | G62: 0 | H62: 0 | I62: 207 E&G | J62: 0 | K62: Remove
A63: 8061 | B63: BLANDY WORKSHOP | C63: 266000 | D63: 828 | E63: 1926 | F63: 1 | G63: 0 | H63: 0 | I63: 207 E&G | J63: =VLOOKUP(A63,RANGE2,9,FALSE()) -> 17372.812
A64: 2150 | B64: BOND HOUSE | C64: 34998000 | D64: 209617 | E64: 2019 | F64: 0.04 | G64: 0.96 | H64: 0 | I64: 207 AUX | J64: =VLOOKUP(A64,RANGE2,9,FALSE()) -> 0
A65: 2218 | B65: BONNYCASTLE HOUSE | C65: 4972000 | D65: 35407 | E65: 1955 | F65: 0 | G65: 1 | H65: 0 | I65: 207 AUX | J65: =VLOOKUP(A65,RANGE2,9,FALSE()) -> 20590
A66: 125 | B66: BOOKSTORE/CENTRAL GROUNDS PARKING | C66: 36248000 | D66: 237704 | E66: 1994 | F66: 0 | G66: 1 | H66: 0 | I66: 207 AUX | J66: No Data
A67: 2831 | B67: BOYD HOUSE #831 | C67: 748000 | D67: 6184 | E67: 1976 | F67: 0 | G67: 1 | H67: 0 | I67: 207 AUX | J67: =VLOOKUP(A67,RANGE2,9,FALSE()) -> 42209.5
A68: 2832 | B68: BOYD HOUSE #832 | C68: 642000 | D68: 6184 | E68: 1976 | F68: 0 | G68: 1 | H68: 0 | I68: 207 AUX | J68: =VLOOKUP(A68,RANGE2,9,FALSE()) -> 40665.25
A69: 64 | B69: BROOKS HALL | C69: 8314000 | D69: 20727 | E69: 1877 | F69: 1 | G69: 0 | H69: 0 | I69: 207 E&G | J69: =VLOOKUP(A69,RANGE2,9,FALSE()) -> 424668.75
A70: 527 | B70: BROWN HALL | C70: 65570000 | D70: 249265 | E70: 1974 | F70: 1 | G70: 0 | H70: 0 | I70: 207 E&G | J70: =VLOOKUP(A70,RANGE2,9,FALSE()) -> 440111.25
A71: 94 | B71: BRYAN HALL | C71: 17142000 | D71: 42755 | E71: 1995 | F71: 1 | G71: 0 | H71: 0 | I71: 207 E&G | J71: =VLOOKUP(A71,RANGE2,9,FALSE()) -> 823394.1
A72: 5280 | B72: BRYANT HALL AT SCOTT STADIUM | C72: 35660000 | D72: 73488 | E72: 2000 | F72: 0.15 | G72: 0.85 | H72: 0 | I72: 207 AUX | J72: No Data
A73: 438 | B73: CAMPBELL HALL | C73: 57270000 | D73: 121156 | E73: 1969 | F73: 1 | G73: 0 | H73: 0 | I73: 207 E&G | J73: =VLOOKUP(A73,RANGE2,9,FALSE()) -> 4394729.6
A74: 5272 | B74: CARL SMITH CLOCK TOWER | C74: 641000 | D74: 100 | E74: 2000 | F74: 0 | G74: 1 | H74: 0 | I74: 207 AUX | J74: No Data
A75: 2401 | B75: Carr's Hill / Buckingham Palace | C75: 117000 | D75: 392 | E75: 1856 | F75: 1 | G75: 0 | H75: 0 | I75: 207 E&G | J75: =VLOOKUP(A75,RANGE2,9,FALSE()) -> 0
A76: 2404 | B76: Carr's Hill / Guest House | C76: 246000 | D76: 1023 | E76: 1910 | F76: 1 | G76: 0 | H76: 0 | I76: 207 E&G | J76: =VLOOKUP(A76,RANGE2,9,FALSE()) -> 0
A77: 2403 | B77: Carr's Hill / Leake Cottage | C77: 231000 | D77: 1036 | E77: 1907 | F77: 1 | G77: 0 | H77: 0 | I77: 207 E&G | J77: =VLOOKUP(A77,RANGE2,9,FALSE()) -> 0
A78: 2402 | B78: Carr's Hill / President's Garage | C78: 530000 | D78: 2002 | E78: 1907 | F78: 1 | G78: 0 | H78: 0 | I78: 207 E&G | J78: =VLOOKUP(A78,RANGE2,9,FALSE()) -> 11684.825
A79: 2400 | B79: Carr's Hill / President's House | C79: 3654000 | D79: 15664 | E79: 1907 | F79: 1 | G79: 0 | H79: 0 | I79: 207 E&G | J79: =VLOOKUP(A79,RANGE2,9,FALSE()) -> 1168.4825
A80: 447 | B80: CARR'S HILL FIELD SUPPORT FACILITY | C80: 1632000 | D80: 2966 | E80: 2006 | F80: 1 | G80: 0 | H80: 0 | I80: 207 E&G | J80: =VLOOKUP(A80,RANGE2,9,FALSE()) -> 0
A81: 580 | B81: CARRUTHERS HALL | C81: 27318000 | D81: 103138 | E81: 1950 | F81: 1 | G81: 0 | H81: 0 | I81: 207 E&G | J81: =VLOOKUP(A81,RANGE2,9,FALSE()) -> 477688
A82: 1161 | B82: CARTER-HARRISON RESEARCH BUILDING (MR-6) | C82: 129461000 | D82: 200442 | E82: 2009 | F82: 1 | G82: 0 | H82: 0 | I82: 207 E&G | J82: =VLOOKUP(A82,RANGE2,9,FALSE()) -> 11684.825
A83: 2132 | B83: CASA BOLIVAR/SPANISH HOUSE | C83: 822000 | D83: 7422 | E83: 1934 | F83: 0 | G83: 1 | H83: 0 | I83: 207 AUX | J83: =VLOOKUP(A83,RANGE2,9,FALSE()) -> 4632.75
A84: 2360 | B84: CAUTHEN HOUSE | C84: 15462000 | D84: 38789 | E84: 1996 | F84: 0.01 | G84: 0.99 | H84: 0 | I84: 207 AUX | J84: =VLOOKUP(A84,RANGE2,9,FALSE()) -> 438414.63
A85: 7140 | B85: CAVALIER SUBSTATION | C85: 6954000 | D85: 2595 | E85: 1988 | F85: 1 | G85: 0 | H85: 0 | I85: 207 E&G | J85: =VLOOKUP(A85,RANGE2,9,FALSE()) -> 0
A86: 1189 | B86: CDW UTILITY | C86: 225000 | D86: 252 | E86: 1986 | F86: 0.5 | G86: 0 | H86: 0.5 | I86: 207 E&G | J86: =VLOOKUP(A86,RANGE2,9,FALSE()) -> 0
A87: 1177 | B87: CENTRAL WING | C87: 2639000 | D87: 7341 | E87: 1901 | F87: 0.84 | G87: 0 | H87: 0.16 | I87: 207 E&G | J87: =VLOOKUP(A87,RANGE2,9,FALSE()) -> 1255990 | K87: % incorrect
A88: 222 | B88: CHEMICAL ENGINEERING RESEARCH | C88: 12043000 | D88: 28878 | E88: 1992 | F88: 1 | G88: 0 | H88: 0 | I88: 207 E&G | J88: =VLOOKUP(A88,RANGE2,9,FALSE()) -> 1854798.7
A89: 256 | B89: CHEMISTRY BUILDING | C89: 132307000 | D89: 285503 | E89: 1968 | F89: 1 | G89: 0 | H89: 0 | I89: 207 E&G | J89: 1801650
A90: 800 | B90: CHILD CARE CENTER | C90: 1723000 | D90: 7730 | E90: 1991 | F90: 0 | G90: 1 | H90: 0 | I90: 207 AUX | J90: =VLOOKUP(A90,RANGE2,9,FALSE()) -> 512384.21
A91: 68 | B91: CLARK HALL | C91: 99684000 | D91: 181328 | E91: 1932 | F91: 1 | G91: 0 | H91: 0 | I91: 207 E&G | J91: =VLOOKUP(A91,RANGE2,9,FALSE()) -> 2136212.5
A92: 1141 | B92: CLAUDE MOORE HEALTH SCIENCES LIBRARY | C92: 20659000 | D92: 76537 | E92: 1975 | F92: 1 | G92: 0 | H92: 0 | I92: 207 E&G | J92: =VLOOKUP(A92,RANGE2,9,FALSE()) -> 561077.5
A93: 1147 | B93: CLAUDE MOORE MEDICAL EDUCATION BUILDING | C93: 52542000 | D93: 60582 | E93: 2010 | F93: 1 | G93: 0 | H93: 0 | I93: 207 E&G | J93: =VLOOKUP(A93,RANGE2,9,FALSE()) -> 367335.9
A94: 106 | B94: CLAUDE MOORE NURSING EDUCATION BUILDING | C94: 23304000 | D94: 35233 | E94: 2008 | F94: 1 | G94: 0 | H94: 0 | I94: 207 E&G | J94: =VLOOKUP(A94,RANGE2,9,FALSE()) -> 7010.895
A95: 526 | B95: CLAY HALL | C95: 11347000 | D95: 10440 | E95: 1997 | F95: 1 | G95: 0 | H95: 0 | I95: 207 E&G | J95: =VLOOKUP(A95,RANGE2,9,FALSE()) -> 14413
A96: 126 | B96: CLEMONS LIBRARY | C96: 30637000 | D96: 83066 | E96: 1981 | F96: 1 | G96: 0 | H96: 0 | I96: 207 E&G | J96: =VLOOKUP(A96,RANGE2,9,FALSE()) -> 262522.5
A97: 1176 | B97: CLINICAL DEPARTMENT WING | C97: 42198000 | D97: 117746 | E97: 1935 | F97: 0.88 | G97: 0 | H97: 0.12 | I97: 207 E&G | J97: =VLOOKUP(A97,RANGE2,9,FALSE()) -> 20332625
A98: 7101 | B98: COAL SILOS (4) | C98: 8313000 | D98: 3084 | E98: 1988 | F98: 1 | G98: 0 | H98: 0 | I98: 207 E&G | J98: =VLOOKUP(A98,RANGE2,9,FALSE()) -> 0
A99: 7100 | B99: COAL UNLOADING FACILITY | C99: 3552000 | D99: 10398 | E99: 1988 | F99: 1 | G99: 0 | H99: 0 | I99: 207 E&G | J99: =VLOOKUP(A99,RANGE2,9,FALSE()) -> 8179.3775
A100: 1194 | B100: COBB HALL | C100: 16418000 | D100: 62242 | E100: 1917 | F100: 1 | G100: 0 | H100: 0 | I100: 207 E&G | J100: =VLOOKUP(A100,RANGE2,9,FALSE()) -> 0
A101: 61 | B101: COCKE HALL | C101: 12782000 | D101: 27646 | E101: 1896 | F101: 1 | G101: 0 | H101: 0 | I101: 207 E&G | J101: =VLOOKUP(A101,RANGE2,9,FALSE()) -> 110156.5
A102: 1174 | B102: COLLINS WING | C102: 18722000 | D102: 51498 | E102: 1936 | F102: 0.77 | G102: 0 | H102: 0.23 | I102: 207 E&G | J102: =VLOOKUP(A102,RANGE2,9,FALSE()) -> 12045150
A103: 217 | B103: Contemplative Commons | C103: 54620000 | D103: 94215 | E103: 2024 | F103: 1 | G103: 0 | H103: 0 | I103: 207 E&G | J103: =VLOOKUP(A103,RANGE2,9,FALSE()) -> 0
...

Sheet supporting1
A1: Property ID | B1: Property Description | C1: Current Replacement Value | D1: Current Replacement based on Index | E1: Percentage Increase | F1: Total Deficiences | G1: % increase | H1: Def * increase | I1: Total Deficiences Inflated
A2: 2447 | B2: 102 CRESAP ROAD | C2: 677082 | D2: 693224.73 | E2: 2.3286437 | F2: 40000 | G2: 0.0295 | H2: =F2*G2 -> 1180 | I2: =F2+H2 -> 41180
A3: 211 | B3: 200 MIDMONT LANE | C3: 648631 | D3: 764203.57 | E3: 15.12327 | F3: 800000 | G3: 0.0295 | H3: =F3*G3 -> 23600 | I3: =F3+H3 -> 823600
A4: 3656 | B4: 2400 OLD IVY ROAD | C4: 8684965 | D4: 8896092.4 | E4: 2.3732596 | F4: 8000 | G4: 0.0295 | H4: =F4*G4 -> 236 | I4: =F4+H4 -> 8236
A5: 599 | B5: 2476 OLD IVY ROAD | C5: 13577646 | D5: 13902047 | E5: 2.3334795 | F5: 0 | G5: 0.0295 | H5: =F5*G5 -> 0 | I5: =F5+H5 -> 0
A6: 131 | B6: 400 BRANDON AVE | C6: 12690565 | D6: 12993058 | E6: 2.3281093 | F6: 2000 | G6: 0.0295 | H6: =F6*G6 -> 59 | I6: =F6+H6 -> 2059
A7: 553 | B7: ABBOTT CENTER | C7: 33875837 | D7: 34705627 | E7: 2.3909376 | F7: 2949100 | G7: 0.0295 | H7: =F7*G7 -> 86998.45 | I7: =F7+H7 -> 3036098.5
A8: 322 | B8: AERO RESEARCH BLOCK HOUSE | C8: 170280 | D8: 174343.82 | E8: 2.3309244 | F8: 24500 | G8: 0.0295 | H8: =F8*G8 -> 722.75 | I8: =F8+H8 -> 25222.75
A9: 323 | B9: AERO RESEARCH QUONSET #1 | C9: 225649 | D9: 231027.23 | E9: 2.3279625 | F9: 3973 | G9: 0.0295 | H9: =F9*G9 -> 117.2035 | I9: =F9+H9 -> 4090.2035
A10: 325 | B10: AERO RESEARCH QUONSET #2 | C10: 169233 | D10: 173270.93 | E10: 2.3304148 | F10: 0 | G10: 0.0295 | H10: =F10*G10 -> 0 | I10: =F10+H10 -> 0
A11: 326 | B11: AERO RESEARCH QUONSET #3 | C11: 169233 | D11: 173270.93 | E11: 2.3304148 | F11: 0 | G11: 0.0295 | H11: =F11*G11 -> 0 | I11: =F11+H11 -> 0
A12: 324 | B12: AERO RESEARCH STORAGE BUILDING | C12: 143851 | D12: 147280.39 | E12: 2.3284796 | F12: 0 | G12: 0.0295 | H12: =F12*G12 -> 0 | I12: =F12+H12 -> 0
A13: 329 | B13: AERO RESEARCH TRAILER | C13: 118710 | D13: - | F13: 0 | G13: 0.0295 | H13: =F13*G13 -> 0 | I13: =F13+H13 -> 0
A14: 321 | B14: AEROSPACE RESEARCH LABORATORY | C14: 3938182 | D14: 4032054.4 | E14: 2.3281542 | F14: 230000 | G14: 0.0295 | H14: =F14*G14 -> 6785 | I14: =F14+H14 -> 236785
A15: 203 | B15: ALBERT H SMALL BUILDING | C15: 3273465 | D15: 3351489.8 | E15: 2.328064 | F15: 1056000 | G15: 0.0295 | H15: =F15*G15 -> 31152 | I15: =F15+H15 -> 1087152
A16: 7273 | B16: ALDERMAN ROAD PUMPING STATION | C16: 75214 | D16: 77009.076 | E16: 2.3309925 | F16: 26449 | G16: 0.0295 | H16: =F16*G16 -> 780.2455 | I16: =F16+H16 -> 27229.246
A17: 7258 | B17: ALDERMAN SUBSTATION 15KV | C17: 5635962 | D17: 5770299.9 | E17: 2.3280918 | F17: 0 | G17: 0.0295 | H17: =F17*G17 -> 0 | I17: =F17+H17 -> 0
A18: 62 | B18: AMPHITHEATER | C18: 1736795 | D18: 1778193.8 | E18: 2.3281364 | F18: 10000 | G18: 0.0295 | H18: =F18*G18 -> 295 | I18: =F18+H18 -> 10295
A19: 252 | B19: ASTRONOMY BUILDING | C19: 9812633 | D19: 10046528 | E19: 2.3281182 | F19: 207500 | G19: 0.0295 | H19: =F19*G19 -> 6121.25 | I19: =F19+H19 -> 213621.25
A20: 3761 | B20: AURBACH MEDICAL RESEARCH BUILDING | C20: 33908351 | D20: 34716577 | E20: 2.3280707 | F20: 470000 | G20: 0.0295 | H20: =F20*G20 -> 13865 | I20: =F20+H20 -> 483865
A21: 7375 | B21: BALZ PUMP HOUSE | C21: 1096950 | D21: 1123096.5 | E21: 2.3280755 | F21: 6500 | G21: 0.0295 | H21: =F21*G21 -> 191.75 | I21: =F21+H21 -> 6691.75
A22: 264 | B22: BAVARO HALL | C22: 48619689 | D22: 49765701 | E22: 2.3028156 | F22: 83500 | G22: 0.0295 | H22: =F22*G22 -> 2463.25 | I22: =F22+H22 -> 85963.25
A23: 407 | B23: BAYLY BUILDING | C23: 4024479 | D23: 4120409.6 | E23: 2.3281812 | F23: 30000 | G23: 0.0295 | H23: =F23*G23 -> 885 | I23: =F23+H23 -> 30885
A24: 436 | B24: BEMISS HOUSE | C24: 1134543 | D24: 1161589.8 | E24: 2.3284323 | F24: 42400 | G24: 0.0295 | H24: =F24*G24 -> 1250.8 | I24: =F24+H24 -> 43650.8
A25: 257 | B25: BIOLOGY GREENHOUSE | C25: 1777604 | D25: 1819975.2 | E25: 2.3281213 | F25: 76000 | G25: 0.0295 | H25: =F25*G25 -> 2242 | I25: =F25+H25 -> 78242
... A31: 8063 | B31: BLANDY GROUNDS MAINTENANCE SHOP/OLD PROPOGATION GREENHOUSE | C31: 622722 | D31: 637569.26 | E31: 2.3287292 | F31: 147837 | G31: 0.0295 | H31: =F31*G31 -> 4361.1915 | I31: =F31+H31 -> 152198.19
A32: 8057 | B32: BLANDY HAY BARN/CATTLE SHADE BARN/CORN CRIB | C32: 2990027 | D32: - | F32: 67882 | G32: 0.0295 | H32: =F32*G32 -> 2002.519 | I32: =F32+H32 -> 69884.519
A33: 8066 | B33: BLANDY HEWLETT LEWIS OVERLOOK PAVILION | C33: 142793 | D33: 146203.42 | E33: 2.3326509 | F33: 9989 | G33: 0.0295 | H33: =F33*G33 -> 294.6755 | I33: =F33+H33 -> 10283.675
A34: 8070 | B34: BLANDY INFORMATION KIOSK | C34: 34122 | D34: 34923.299 | E34: 2.2944544 | F34: 0 | G34: 0.0295 | H34: =F34*G34 -> 0 | I34: =F34+H34 -> 0
A35: 8069 | B35: BLANDY NEW PROPAGATION GREENHOUSE | C35: 86562 | D35: 88603.081 | E35: 2.3036228 | F35: 0 | G35: 0.0295 | H35: =F35*G35 -> 0 | I35: =F35+H35 -> 0
A36: 8068 | B36: BLANDY NEW TRAILER LAB | C36: 57391 | D36: 58742.477 | E36: 2.3006806 | F36: 7057 | G36: 0.0295 | H36: =F36*G36 -> 208.1815 | I36: =F36+H36 -> 7265.1815
A37: 8054 | B37: BLANDY PARKFIELD LEARNING CENTER | C37: 475737 | D37: 487134.61 | E37: 2.3397257 | F37: 41409 | G37: 0.0295 | H37: =F37*G37 -> 1221.5655 | I37: =F37+H37 -> 42630.565
A38: 8067 | B38: BLANDY PEETWOOD PAVILION | C38: 228011 | D38: 233481.06 | E38: 2.342829 | F38: 2449 | G38: 0.0295 | H38: =F38*G38 -> 72.2455 | I38: =F38+H38 -> 2521.2455
A39: 8071 | B39: BLANDY RESEARCH VILLAGE COTTAGE 1 (RV1) | C39: 293339 | D39: 300333.96 | E39: 2.3290622 | F39: 0 | G39: 0.0295 | H39: =F39*G39 -> 0 | I39: =F39+H39 -> 0
A40: 8072 | B40: BLANDY RESEARCH VILLAGE COTTAGE 2 (RV2) | C40: 293339 | D40: 300333.96 | E40: 2.3290622 | F40: 2200 | G40: 0.0295 | H40: =F40*G40 -> 64.9 | I40: =F40+H40 -> 2264.9
A41: 8077 | B41: BLANDY RESEARCH VILLAGE COTTAGE 3 (RV3) | C41: 462220 | D41: 475421.76 | E41: 2.7768522 | F41: 2200 | G41: 0.0295 | H41: =F41*G41 -> 64.9 | I41: =F41+H41 -> 2264.9
A42: 8078 | B42: BLANDY RESEARCH VILLAGE COTTAGE 4 (RV4) | C42: 462220 | D42: 475421.76 | E42: 2.7768522 | F42: 2200 | G42: 0.0295 | H42: =F42*G42 -> 64.9 | I42: =F42+H42 -> 2264.9
A43: 8058 | B43: BLANDY SILO #1 | C43: 31337 | D43: 32086.604 | E43: 2.3361899 | F43: 0 | G43: 0.0295 | H43: =F43*G43 -> 0 | I43: =F43+H43 -> 0
A44: 8059 | B44: BLANDY SILO #2 | C44: 31337 | D44: 32086.604 | E44: 2.3361899 | F44: 5000 | G44: 0.0295 | H44: =F44*G44 -> 147.5 | I44: =F44+H44 -> 5147.5
... A53: 94 | B53: BRYAN HALL | C53: 16742475 | D53: 17141542 | E53: 2.3280706 | F53: 799800 | G53: 0.0295 | H53: =F53*G53 -> 23594.1 | I53: =F53+H53 -> 823394.1
A54: 5280 | B54: BRYANT HALL AT SCOTT STADIUM | C54: 34825004 | D54: 35659707 | E54: 2.3407462 | F54: No Data | G54: 0.0295 | H54: =F54*G54 -> #VALUE! | I54: =F54+H54 -> #VALUE!
A55: 438 | B55: CAMPBELL HALL | C55: 55924709 | D55: 57269555 | E55: 2.3482735 | F55: 4268800 | G55: 0.0295 | H55: =F55*G55 -> 125929.6 | I55: =F55+H55 -> 4394729.6
A56: 2401 | B56: Carr's Hill / Buckingham Palace | C56: 114256 | D56: 116988.07 | E56: 2.3353431 | F56: 0 | G56: 0.0295 | H56: =F56*G56 -> 0 | I56: =F56+H56 -> 0
A57: 2404 | B57: Carr's Hill / Guest House | C57: 240454 | D57: 246186.67 | E57: 2.3285872 | F57: 0 | G57: 0.0295 | H57: =F57*G57 -> 0 | I57: =F57+H57 -> 0
A58: 2403 | B58: Carr's Hill / Leake Cottage | C58: 225664 | D58: 231045.62 | E58: 2.3292455 | F58: 0 | G58: 0.0295 | H58: =F58*G58 -> 0 | I58: =F58+H58 -> 0
A59: 2402 | B59: Carr's Hill / President's Garage | C59: 518101 | D59: 530451.79 | E59: 2.3283528 | F59: 11350 | G59: 0.0295 | H59: =F59*G59 -> 334.825 | I59: =F59+H59 -> 11684.825
A60: 2400 | B60: Carr's Hill / President's House | C60: 3568613 | D60: 3653673.3 | E60: 2.328075 | F60: 1135 | G60: 0.0295 | H60: =F60*G60 -> 33.4825 | I60: =F60+H60 -> 1168.4825
A61: 447 | B61: CARR'S HILL FIELD SUPPORT FACILITY | C61: 1593245 | D61: 1632275.8 | E61: 2.3911909 | F61: 0 | G61: 0.0295 | H61: =F61*G61 -> 0 | I61: =F61+H61 -> 0
A62: 580 | B62: CARRUTHERS HALL | C62: 26681768 | D62: 27317747 | E62: 2.3280801 | F62: 464000 | G62: 0.0295 | H62: =F62*G62 -> 13688 | I62: =F62+H62 -> 477688
A63: 1161 | B63: CARTER-HARRISON RESEARCH BUILDING (MR-6) | C63: 126420837 | D63: 1.2946093e+08 | E63: 2.3482693 | F63: 11350 | G63: 0.0295 | H63: =F63*G63 -> 334.825 | I63: =F63+H63 -> 11684.825
A64: 2360 | B64: CAUTHEN HOUSE | C64: 15102256 | D64: 15462228 | E64: 2.3280741 | F64: 425852 | G64: 0.0295 | H64: =F64*G64 -> 12562.634 | I64: =F64+H64 -> 438414.63
A65: 7140 | B65: CAVALIER SUBSTATION | C65: 6792063 | D65: 6953958.6 | E65: 2.3281067 | F65: 0 | G65: 0.0295 | H65: =F65*G65 -> 0 | I65: =F65+H65 -> 0
A66: 1189 | B66: CDW UTILITY | C66: 219506 | D66: 224741.11 | E66: 2.329394 | F66: 0 | G66: 0.0295 | H66: =F66*G66 -> 0 | I66: =F66+H66 -> 0
... A91: 7523 | B91: COPELEY APT 21 TRANSFORMER | C91: 1325330 | D91: 1356923.5 | E91: 2.3283183 | F91: 0 | G91: 0.0295 | H91: =F91*G91 -> 0 | I91: =F91+H91 -> 0
A92: 7524 | B92: COPELEY APT 23 TRANSFORMER | C92: 1325330 | D92: - | F92: 0 | G92: 0.0295 | H92: =F92*G92 -> 0 | I92: =F92+H92 -> 0
A93: 7525 | B93: COPELEY APT 27 TRANSFORMER | C93: 1325330 | D93: - | F93: 0 | G93: 0.0295 | H93: =F93*G93 -> 0 | I93: =F93+H93 -> 0
A94: 7541 | B94: COPELEY MECH. PLANT PUMPING STATION | C94: 1378008 | D94: 1410856.2 | E94: 2.3282467 | F94: 6000 | G94: 0.0295 | H94: =F94*G94 -> 177 | I94: =F94+H94 -> 6177
A95: 7500 | B95: COPELEY SUBSTATION | C95: 3703697 | D95: 3791982.2 | E95: 2.3282079 | F95: 0 | G95: 0.0295 | H95: =F95*G95 -> 0 | I95: =F95+H95 -> 0
A96: 1102 | B96: CORNER BUILDING | C96: 5583449 | D96: 5716536.8 | E96: 2.328119 | F96: 0 | G96: 0.0295 | H96: =F96*G96 -> 0 | I96: =F96+H96 -> 0
A97: 2053 | B97: Crackerbox | C97: 247632 | D97: 253535.47 | E97: 2.3284577 | F97: 155000 | G97: 0.0295 | H97: =F97*G97 -> 4572.5 | I97: =F97+H97 -> 159572.5
A98: 551 | B98: DARDEN CLASSROOM | C98: 30772361 | D98: 31526129 | E98: 2.3909322 | F98: 0 | G98: 0.0295 | H98: =F98*G98 -> 0 | I98: =F98+H98 -> 0
A99: 552 | B99: DARDEN FACULTY | C99: 20338642 | D99: 20836836 | E99: 2.390927 | F99: 0 | G99: 0.0295 | H99: =F99*G99 -> 0 | I99: =F99+H99 -> 0
A100: 554 | B100: DARDEN LIBRARY | C100: 14132918 | D100: 14469785 | E100: 2.3280735 | F100: 0 | G100: 0.0295 | H100: =F100*G100 -> 0 | I100: =F100+H100 -> 0
A101: 1196 | B101: DAVIS TRANSFORMER | C101: 3412149 | D101: 3493481.4 | E101: 2.3281183 | F101: 25500 | G101: 0.0295 | H101: =F101*G101 -> 752.25 | I101: =F101+H101 -> 26252.25
A102: 1173 | B102: DAVIS WING | C102: 20077935 | D102: 19652494 | E102: -2.1648183 | F102: 7300000 | G102: 0.0295 | H102: =F102*G102 -> 215350 | I102: =F102+H102 -> 7515350
A103: 89 | B103: DAWSON'S ROW #1 | C103: 759551 | D103: 777660.26 | E103: 2.3286855 | F103: 36000 | G103: 0.0295 | H103: =F103*G103 -> 1062 | I103: =F103+H103 -> 37062
A104: 90 | B104: DAWSON'S ROW #2 | C104: 928659 | D104: 950796.32 | E104: 2.3282921 | F104: 0 | G104: 0.0295 | H104: =F104*G104 -> 0 | I104: =F104+H104 -> 0
A105: 91 | B105: DAWSON'S ROW #3 | C105: 298604 | D105: 305722.94 | E105: 2.3285609 | F105: 140000 | G105: 0.0295 | H105: =F105*G105 -> 4130 | I105: =F105+H105 -> 144130
... A117: 82 | B117: Edgar Shannon Library | C117: 102281314 | D117: 93941639 | E117: -8.8775059 | F117: 0 | G117: 0.0295 | H117: =F117*G117 -> 0 | I117: =F117+H117 -> 0
A118: 1146 | B118: EMILY COURIC CLINICAL CANCER CENTER | C118: 98092351 | D118: 1.0040449e+08 | E118: 2.3028196 | F118: No Data | G118: 0.0295 | H118: =F118*G118 -> #VALUE! | I118: =F118+H118 -> #VALUE!
A119: 698 | B119: EMS RADIO RELAY/FAN MTN | C119: 23505 | D119: 24065.464 | E119: 2.3289138 | F119: No Data | G119: 0.0295 | H119: =F119*G119 -> #VALUE! | I119: =F119+H119 -> #VALUE!
A120: 481 | B120: ENV. SCI. SHOP BUILDING | C120: 1091570 | D120: 1117591.1 | E120: 2.3283176 | F120: 3500 | G120: 0.0295 | H120: =F120*G120 -> 103.25 | I120: =F120+H120 -> 3603.25
A121: 1686 | B121: ENVIRONMENTAL SAFETY STORAGE | C121: 1379033 | D121: 1411908.7 | E121: 2.3284558 | F121: 0 | G121: 0.0295 | H121: =F121*G121 -> 0 | I121: =F121+H121 -> 0
A122: 7359 | B122: EQUIP ENCLOSURE #1 | C122: 21152 | D122: 21658.1 | E122: 2.3367704 | F122: 7500 | G122: 0.0295 | H122: =F122*G122 -> 221.25 | I122: =F122+H122 -> 7721.25
A123: 849 | B123: FAC INFRASTRUCTURE | C123: 1181475079 | D123: 1.1916271e+09 | E123: 0.85194697 | F123: 104550000 | G123: 0.0295 | H123: =F123*G123 -> 3084225 | I123: =F123+H123 -> 107634225
A124: 702 | B124: FAN MT. 10 INCH LOW DOME | C124: 57974 | D124: 59360.524 | E124: 2.3357677 | F124: 0 | G124: 0.0295 | H124: =F124*G124 -> 0 | I124: =F124+H124 -> 0
A125: 701 | B125: FAN MT. 31 INCH LOW DOME | C125: 182085 | D125: 186425.6 | E125: 2.3283289 | F125: 13000 | G125: 0.0295 | H125: =F125*G125 -> 383.5 | I125: =F125+H125 -> 13383.5
A126: 703 | B126: FAN MT. 40 INCH HIGH DOME | C126: 1016352 | D126: 1040582 | E126: 2.3285041 | F126: 45000 | G126: 0.0295 | H126: =F126*G126 -> 1327.5 | I126: =F126+H126 -> 46327.5
A127: 699 | B127: FAN MT. COTTAGE | C127: 541318 | D127: 554222.97 | E127: 2.3284806 | F127: 4000 | G127: 0.0295 | H127: =F127*G127 -> 118 | I127: =F127+H127 -> 4118
A128: 700 | B128: FAN MT. STATION HOUSE | C128: 574227 | D128: 587913.81 | E128: 2.3280294 | F128: 75000 | G128: 0.0295 | H128: =F128*G128 -> 2212.5 | I128: =F128+H128 -> 77212.5
A129: 603 | B129: FAULKNER HOUSE | C129: 18759899 | D129: 19207052 | E129: 2.3280678 | F129: 1111470 | G129: 0.0295 | H129: =F129*G129 -> 32788.365 | I129: =F129+H129 -> 1144258.4
A130: 406 | B130: FAYERWEATHER HALL | C130: 11299810 | D130: 11576602 | E130: 2.3909604 | F130: 15000 | G130: 0.0295 | H130: =F130*G130 -> 442.5 | I130: =F130+H130 -> 15442.5
A131: 317 | B131: FLUIDS RESEARCH LABORATORY | C131: 917322 | D131: 939186.61 | E131: 2.3280367 | F131: 10000 | G131: 0.0295 | H131: =F131*G131 -> 295 | I131: =F131+H131 -> 10295
A132: 229 | B132: FM GARAGES | C132: 558240 | D132: 571550.68 | E132: 2.3288714 | F132: 3632 | G132: 0.0295 | H132: =F132*G132 -> 107.144 | I132: =F132+H132 -> 3739.144
A133: 238 | B133: FM LANDSCAPE SHOP | C133: 2904115 | D133: 2986285.7 | E133: 2.7516018 | F133: No Data | G133: 0.0295 | H133: =F133*G133 -> #VALUE! | I133: =F133+H133 -> #VALUE!
A134: 227 | B134: FM SHOP #1 | C134: 3454878 | D134: 3537228.8 | E134: 2.3281157 | F134: 529500 | G134: 0.0295 | H134: =F134*G134 -> 15620.25 | I134: =F134+H134 -> 545120.25
A135: 232 | B135: FM SHOP #2 | C135: 1985229 | D135: 2032552.8 | E135: 2.3282944 | F135: 5000 | G135: 0.0295 | H135: =F135*G135 -> 147.5 | I135: =F135+H135 -> 5147.5
A136: 255 | B136: FM SHOP #3 | C136: 959234 | D136: 982104.31 | E136: 2.3287044 | F136: 41000 | G136: 0.0295 | H136: =F136*G136 -> 1209.5 | I136: =F136+H136 -> 42209.5
A137: 233 | B137: FM SHOP #4 | C137: 679765 | D137: 695967.25 | E137: 2.3280189 | F137: 300000 | G137: 0.0295 | H137: =F137*G137 -> 8850 | I137: =F137+H137 -> 308850
A138: 253 | B138: FM SHOP #5 | C138: 1905784 | D138: 1951211.3 | E138: 2.328159 | F138: 23835 | G138: 0.0295 | H138: =F138*G138 -> 703.1325 | I138: =F138+H138 -> 24538.132
A139: 231 | B139: FM SHOP #6 | C139: 4085870 | D139: 4183264.7 | E139: 2.328198 | F139: 7945 | G139: 0.0295 | H139: =F139*G139 -> 234.3775 | I139: =F139+H139 -> 8179.3775
A140: 1162 | B140: FOCUSED ULTRASOUND | C140: 2615039 | D140: 2677926 | E140: 2.3483471 | F140: 11350 | G140: 0.0295 | H140: =F140*G140 -> 334.825 | I140: =F140+H140 -> 11684.825
A141: 1756 | B141: FONTAINE MEDICAL OFFICE BUILDING 2 | C141: 19707957 | D141: 19290349 | E141: -2.1648523 | F141: No Data | G141: 0.0295 | H141: =F141*G141 -> #VALUE! | I141: =F141+H141 -> #VALUE!
A142: 595 | B142: FONTANA FOOD CENTER | C142: 7758741 | D142: 7943681.4 | E142: 2.3281451 | F142: 5530572 | G142: 0.0295 | H142: =F142*G142 -> 163151.87 | I142: =F142+H142 -> 5693723.9
A143: 251 | B143: FORESTRY BUILDING GARAGE | C143: 2559691 | D143: 2620707.8 | E143: 2.3282552 | F143: 18000 | G143: 0.0295 | H143: =F143*G143 -> 531 | I143: =F143+H143 -> 18531
A144: 2145 | B144: FRENCH HOUSE | C144: 2399431 | D144: 2456626.9 | E144: 2.3282296 | F144: 8000 | G144: 0.0295 | H144: =F144*G144 -> 236 | I144: =F144+H144 -> 8236
A145: 55 | B145: GARRETT HALL | C145: 10324820 | D145: 10572293 | E145: 2.3407711 | F145: 82600 | G145: 0.0295 | H145: =F145*G145 -> 2436.7 | I145: =F145+H145 -> 85036.7
A146: 210 | B146: GILMER HALL | C146: 80121232 | D146: 82030963 | E146: 2.3280617 | F146: 9085000 | G146: 0.0295 | H146: =F146*G146 -> 268007.5 | I146: =F146+H146 -> 9353007.5
A147: 67 | B147: HALSEY HALL | C147: 3421234 | D147: 3502783.9 | E147: 2.3281441 | F147: 57500 | G147: 0.0295 | H147: =F147*G147 -> 1696.25 | I147: =F147+H147 -> 59196.25
A148: 121 | B148: HARRISON INSTITUTE AND SMALL SPECIAL COLLECTIONS LIBRARY | C148: 39481801 | D148: 40422872 | E148: 2.3280649 | F148: 119615 | G148: 0.0295 | H148: =F148*G148 -> 3528.6425 | I148: =F148+H148 -> 123143.64
...

Sheet supporting2
A1: Property ID | B1: Property Description | C1: Current Replacement Value | D1: GSF | E1: Year Built | F1: 207 E&G | G1: 207 AUX | H1: 209 HOS | I1: Building Agency | J1: Inflated Deficiencies
A2: 9739 | B2: ML-Greenhouse | D2: 1000 | I2: 207 E&G | J2: =VLOOKUP(A2,RANGE2,9,FALSE()) -> #N/A | K2: Remove?
A3: 3730 | B3: 1003 WEST MAIN | C3: 4532000 | D3: 10796 | E3: 1948 | F3: 0 | G3: 0 | H3: 1 | I3: 209 HOS | J3: No Data
A4: 3991 | B4: 1018 WEST MAIN ST | C4: 4633000 | D4: 5668 | E4: 1903 | F4: 0 | G4: 0 | H4: 1 | I4: 209 HOS | J4: No Data
A5: 3992 | B5: 1107 WEST MAIN STREET | C5: 5468000 | D5: 6663 | E5: 1958 | F5: 0 | G5: 0 | H5: 1 | I5: 209 HOS | J5: No Data
A6: 1149 | B6: 11TH STREET PARKING GARAGE | C6: 38238000 | D6: 339902 | E6: 2008 | F6: 0 | G6: 0 | H6: 1 | I6: 209 HOS | J6: No Data
A7: 816 | B7: ACADEMIC LOUNGE | C7: 2382000 | D7: 2613 | E7: 2018 | F7: 0 | G7: 1 | H7: 0 | I7: 207 AUX | J7: No Data
A8: 5271 | B8: AQUATIC & FITNESS CENTER | C8: 48587000 | D8: 180806 | E8: 1996 | F8: 0 | G8: 1 | H8: 0 | I8: 207 AUX | J8: No Data
A9: 5575 | B9: ARENA PARKING GARAGE | C9: 20871000 | D9: 263514 | E9: 2006 | F9: 0 | G9: 1 | H9: 0 | I9: 207 AUX | J9: No Data
A10: 1991 | B10: BATTLE BUILDING AT THE UVA CHILDREN'S HOSPITAL | C10: 136410000 | D10: 201064 | E10: 2014 | F10: 0 | G10: 0 | H10: 1 | I10: 209 HOS | J10: No Data
A11: 125 | B11: BOOKSTORE/CENTRAL GROUNDS PARKING | C11: 36248000 | D11: 237704 | E11: 1994 | F11: 0 | G11: 1 | H11: 0 | I11: 207 AUX | J11: No Data
A12: 5280 | B12: BRYANT HALL AT SCOTT STADIUM | C12: 35660000 | D12: 73488 | E12: 2000 | F12: 0.15 | G12: 0.85 | H12: 0 | I12: 207 AUX | J12: No Data
A13: 5272 | B13: CARL SMITH CLOCK TOWER | C13: 641000 | D13: 100 | E13: 2000 | F13: 0 | G13: 1 | H13: 0 | I13: 207 AUX | J13: No Data
A14: 446 | B14: CULBRETH ROAD GARAGE | C14: 22189000 | D14: 191122 | E14: 2008 | F14: 0 | G14: 1 | H14: 0 | I14: 207 AUX | J14: No Data
... A18: 1146 | B18: EMILY COURIC CLINICAL CANCER CENTER | C18: 100404000 | D18: 205472 | E18: 2011 | F18: 0.06 | G18: 0 | H18: 0.94 | I18: 209 HOS | J18: No Data
A19: 9991 | B19: FAN MTN. NORFOLK STATE OBSERVATORY # Review this property for possible exclusion from FCR. | D19: 709 | E19: 2006 | F19: 0 | G19: 0 | H19: 0 | I19: 207 E&G | J19: No Data
A20: 3755 | B20: FONTAINE MEDICAL OFFICE BUILDING 1 | C20: 26828000 | D20: 69040 | E20: 2003 | F20: 0 | G20: 0 | H20: 1 | I20: 209 HOS | J20: No Data
A21: 1756 | B21: FONTAINE MEDICAL OFFICE BUILDING 2 | C21: 19290000 | D21: 45631 | E21: 1999 | F21: 0.11 | G21: 0 | H21: 0.89 | I21: 209 HOS | J21: No Data
A22: 5595 | B22: FOOTBALL STORAGE | C22: 1187000 | D22: 3278 | E22: 2020 | F22: 0 | G22: 1 | H22: 0 | I22: 207 AUX | J22: No Data
A23: 5591 | B23: GEORGE WELSH INDOOR PRACTICE FACILITY | C23: 17141000 | D23: 84688 | E23: 2013 | F23: 0 | G23: 1 | H23: 0 | I23: 207 AUX | J23: No Data
A24: 3713 | B24: GROVE STREET 999 (LEE BUILDING) | C24: 13235000 | D24: 11623 | E24: 1965 | F24: 0 | G24: 0 | H24: 1 | I24: 209 HOS | J24: No Data
A25: 5577 | B25: Harrison Family Olympic Sports Center | C25: 20986000 | D25: 78285 | E25: 1991 | F25: 0 | G25: 1 | H25: 0 | I25: 207 AUX | J25: No Data
A26: 49 | B26: HOSPITAL DRIVE TRAFFIC PAVILION | C26: 81000 | D26: 60 | E26: 1990 | F26: 0 | G26: 0 | H26: 1 | I26: 209 HOS | J26: No Data
A27: 1151 | B27: HOSPITAL LINK | C27: 10789000 | D27: 36622 | E27: 1988 | F27: 0 | G27: 0 | H27: 1 | I27: 209 HOS | J27: No Data
A28: 5512 | B28: IMREC COMPOST SHED | C28: 4000 | D28: 120 | E28: 2003 | F28: 0 | G28: 1 | H28: 0 | I28: 207 AUX | J28: No Data
A29: 5513 | B29: IMREC STORAGE SHED | C29: 5000 | D29: 160 | E29: 2011 | F29: 0 | G29: 1 | H29: 0 | I29: 207 AUX | J29: No Data
A30: 593 | B30: IVY STACKS PUMP HOUSE | C30: 2851000 | D30: 220 | E30: 2011 | F30: 1 | G30: 0 | H30: 0 | I30: 207 E&G | J30: No Data
A31: 1994 | B31: JEFFERSON PARK MEDICAL OFFICE BUILDING | C31: 14752000 | D31: 91363 | E31: 1971 | F31: 0.01 | G31: 0 | H31: 0.99 | I31: 209 HOS | J31: No Data
... A76: 831 | B76: TENNIS SUPPORT BUILDING @ BOARS HEAD | C76: 351000 | D76: 1026 | E76: 2020 | F76: 0 | G76: 1 | H76: 0 | I76: 207 AUX | J76: No Data
A77: 5532 | B77: THE PARK - INDOOR FIELD #7 | C77: 3667200 | D77: 19200 | E77: 2019 | F77: 0 | G77: 1 | H77: 0 | I77: 207 AUX | J77: No Data | K77: Update CRV
A78: 5533 | B78: The Park - Restroom #1 | C78: 109000 | D78: 93 | E78: 2018 | F78: 0 | G78: 1 | H78: 0 | I78: 207 AUX | J78: No Data
A79: 5534 | B79: The Park - Restroom #2 | C79: 109000 | D79: 134 | E79: 2018 | F79: 0 | G79: 1 | H79: 0 | I79: 207 AUX | J79: No Data
A80: 5535 | B80: THE PARK - SUPPORT FACILITY | C80: 1333000 | D80: 3992 | E80: 1995 | F80: 0 | G80: 1 | H80: 0 | I80: 207 AUX | J80: No Data
A81: 1150 | B81: UNIVERSITY HOSPITAL | C81: 452280000 | D81: 1563362 | E81: 1989 | F81: 0.03 | G81: 0 | H81: 0.97 | I81: 209 HOS | J81: No Data
A82: 3714 | B82: UNIVERSITY OF VIRGINIA TRANSITIONAL CARE HOSPITAL | C82: 25860000 | D82: 68637 | E82: 2010 | F82: 0 | G82: 0 | H82: 1 | I82: 209 HOS | J82: No Data
A83: 1998 | B83: UVA CLINICAL LABORATORY | C83: 15954000 | D83: 21416 | E83: 2005 | F83: 0 | G83: 0 | H83: 1 | I83: 209 HOS | J83: No Data
A84: 3708 | B84: UVA ENDOSCOPY MONROE LANE | C84: 14307000 | D84: 30031 | E84: 1984 | F84: 0 | G84: 0 | H84: 1 | I84: 209 HOS | J84: No Data
A85: 9971 | B85: UVA MEDICAL PARK SPRING CREEK | C85: 21514000 | D85: 47890 | E85: 2012 | F85: 0 | G85: 0 | H85: 1 | I85: 209 HOS | J85: No Data
A86: 8997 | B86: UVA Orange Medical Park | C86: 5210000 | D86: 24484 | E86: 1998 | F86: 0 | G86: 0 | H86: 1 | I86: 209 HOS | J86: No Data
A87: 1602 | B87: UVA ORTHOPEDIC CENTER | C87: 173815000 | D87: 206955 | E87: 2022 | F87: 0.17 | G87: 0 | H87: 0.83 | I87: 209 HOS | J87: No Data
A88: 319 | B88: West Scott Stadium Parking Garage | C88: 2934000 | D88: 80700 | E88: 1993 | F88: 0 | G88: 1 | H88: 0 | I88: 207 AUX | J88: No Data
A89: 825 | B89: WOMEN'S LACROSSE | C89: 1276000 | D89: 1400 | E89: 2018 | F89: 0 | G89: 1 | H89: 0 | I89: 207 AUX | J89: No Data
A90: 849 | B90: FAC INFRASTRUCTURE | C90: 1191627000 | E90: 1826 | F90: 0.59 | G90: 0.22 | H90: 0.19 | I90: 207 E&G | J90: =VLOOKUP(A90,RANGE2,9,FALSE()) -> 107634225
A91: 1172 | B91: MULTISTORY BUILDING | C91: 83476000 | D91: 238708 | E91: 1960 | F91: 0.52 | G91: 0 | H91: 0.48 | I91: 209 HOS | J91: =VLOOKUP(A91,RANGE2,9,FALSE()) -> 38091500
A92: 1181 | B92: MEDICAL SCHOOL BLDG | C92: 61832000 | D92: 170781 | E92: 1928 | F92: 0.79 | G92: 0 | H92: 0.21 | I92: 207 E&G | J92: =VLOOKUP(A92,RANGE2,9,FALSE()) -> 30112875
A93: 1176 | B93: CLINICAL DEPARTMENT WING | C93: 42198000 | D93: 117746 | E93: 1935 | F93: 0.88 | G93: 0 | H93: 0.12 | I93: 207 E&G | J93: =VLOOKUP(A93,RANGE2,9,FALSE()) -> 20332625
A94: 204 | B94: THORNTON HALL | C94: 49176000 | D94: 166953 | E94: 1936 | F94: 1 | G94: 0 | H94: 0 | I94: 207 E&G | J94: =VLOOKUP(A94,RANGE2,9,FALSE()) -> 17560182
A95: 1183 | B95: X-RAY WING | C95: 8927000 | D95: 25851 | E95: 1960 | F95: 0.26 | G95: 0 | H95: 0.74 | I95: 209 HOS | J95: =VLOOKUP(A95,RANGE2,9,FALSE()) -> 14515950
A96: 1174 | B96: COLLINS WING | C96: 18722000 | D96: 51498 | E96: 1936 | F96: 0.77 | G96: 0 | H96: 0.23 | I96: 207 E&G | J96: =VLOOKUP(A96,RANGE2,9,FALSE()) -> 12045150
A97: 122 | B97: NEWCOMB HALL | C97: 59004000 | D97: 210638 | E97: 1958 | F97: 0.13 | G97: 0.87 | H97: 0 | I97: 207 AUX | J97: =VLOOKUP(A97,RANGE2,9,FALSE()) -> 11352811
A98: 1195 | B98: MCKIM HALL | C98: 22902000 | D98: 94128 | E98: 1931 | F98: 0.47 | G98: 0 | H98: 0.53 | I98: 209 HOS | J98: =VLOOKUP(A98,RANGE2,9,FALSE()) -> 10603850
A99: 334 | B99: OBSERVATORY MOUNTAIN ENGINEERING RESEARCH FACILITY | C99: 7427000 | D99: 26486 | E99: 1962 | F99: 1 | G99: 0 | H99: 0 | I99: 207 E&G | J99: =VLOOKUP(A99,RANGE2,9,FALSE()) -> 10552375
A100: 210 | B100: GILMER HALL | C100: 82031000 | D100: 232139 | E100: 1963 | F100: 1 | G100: 0 | H100: 0 | I100: 207 E&G | J100: =VLOOKUP(A100,RANGE2,9,FALSE()) -> 9353007.5
A101: 421 | B101: MADISON HALL | C101: 8656000 | D101: 21238 | E101: 1905 | F101: 1 | G101: 0 | H101: 0 | I101: 207 E&G | J101: =VLOOKUP(A101,RANGE2,9,FALSE()) -> 8207688.8
A102: 1173 | B102: DAVIS WING | C102: 19652000 | D102: 58533 | E102: 1928 | F102: 0.43 | G102: 0 | H102: 0.57 | I102: 209 HOS | J102: =VLOOKUP(A102,RANGE2,9,FALSE()) -> 7515350
... A107: 438 | B107: CAMPBELL HALL | C107: 57270000 | D107: 121156 | E107: 1969 | F107: 1 | G107: 0 | H107: 0 | I107: 207 E&G | J107: =VLOOKUP(A107,RANGE2,9,FALSE()) -> 4394729.6
A108: 1180 | B108: STEELE WING | C108: 7847000 | D108: 21481 | E108: 1920 | F108: 1 | G108: 0 | H108: 0 | I108: 207 E&G | J108: =VLOOKUP(A108,RANGE2,9,FALSE()) -> 3963575 | K108: % incorrect
A109: 553 | B109: ABBOTT CENTER | C109: 34706000 | D109: 64743 | E109: 2002 | F109: 1 | G109: 0 | H109: 0 | I109: 207 E&G | J109: =VLOOKUP(A109,RANGE2,9,FALSE()) -> 3036098.5
A110: 1142 | B110: PINN HALL | C110: 172664000 | D110: 449995 | E110: 1971 | F110: 0.99 | G110: 0 | H110: 0.01 | I110: 207 E&G | J110: =VLOOKUP(A110,RANGE2,9,FALSE()) -> 2676700
A111: 528 | B111: SLAUGHTER HALL | C111: 26841000 | D111: 104089 | E111: 1975 | F111: 1 | G111: 0 | H111: 0 | I111: 207 E&G | J111: =VLOOKUP(A111,RANGE2,9,FALSE()) -> 2658169
A112: 69 | B112: KERCHOF HALL | C112: 8712000 | D112: 32882 | E112: 1955 | F112: 1 | G112: 0 | H112: 0 | I112: 207 E&G | J112: =VLOOKUP(A112,RANGE2,9,FALSE()) -> 2581961.3
A113: 1 | B113: ROTUNDA | C113: 34579000 | D113: 52141 | E113: 1826 | F113: 1 | G113: 0 | H113: 0 | I113: 207 E&G | J113: =VLOOKUP(A113,RANGE2,9,FALSE()) -> 2455357.5
A114: 5087 | B114: MEMORIAL GYMNASIUM | C114: 21356000 | D114: 82779 | E114: 1925 | F114: 1 | G114: 0 | H114: 0 | I114: 207 E&G | J114: =VLOOKUP(A114,RANGE2,9,FALSE()) -> 2381027.6
A115: 215 | B115: PHYSICAL AND LIFE SCIENCES BUILDING | C115: 80218000 | D115: 116249 | E115: 2011 | F115: 1 | G115: 0 | H115: 0 | I115: 207 E&G | J115: =VLOOKUP(A115,RANGE2,9,FALSE()) -> 2264900
A116: 68 | B116: CLARK HALL | C116: 99684000 | D116: 181328 | E116: 1932 | F116: 1 | G116: 0 | H116: 0 | I116: 207 E&G | J116: =VLOOKUP(A116,RANGE2,9,FALSE()) -> 2136212.5
A117: 222 | B117: CHEMICAL ENGINEERING RESEARCH | C117: 12043000 | D117: 28878 | E117: 1992 | F117: 1 | G117: 0 | H117: 0 | I117: 207 E&G | J117: =VLOOKUP(A117,RANGE2,9,FALSE()) -> 1854798.7
A118: 256 | B118: CHEMISTRY BUILDING | C118: 132307000 | D118: 285503 | E118: 1968 | F118: 1 | G118: 0 | H118: 0 | I118: 207 E&G | J118: 1801650
A119: 83 | B119: MONROE HALL | C119: 22226000 | D119: 67250 | E119: 1929 | F119: 1 | G119: 0 | H119: 0 | I119: 207 E&G | J119: =VLOOKUP(A119,RANGE2,9,FALSE()) -> 1675136.5
A120: 1178 | B120: NORTH WING | C120: 3227000 | D120: 8926 | E120: 1907 | F120: 1 | G120: 0 | H120: 0 | I120: 207 E&G | J120: =VLOOKUP(A120,RANGE2,9,FALSE()) -> 1636905
A121: 532 | B121: TJAGLCS SCHOOL | C121: 34605000 | D121: 116364 | E121: 1975 | F121: 0 | G121: 1 | H121: 0 | I121: 207 AUX | J121: =VLOOKUP(A121,RANGE2,9,FALSE()) -> 1441300
A122: 201 | B122: O-Hill Dining Facility | C122: 38889000 | D122: 69876 | E122: 2005 | F122: 0 | G122: 1 | H122: 0 | I122: 207 AUX | J122: =VLOOKUP(A122,RANGE2,9,FALSE()) -> 1419165.8
A123: 5262 | B123: SLAUGHTER RECREATION CENTER | C123: 13849000 | D123: 49975 | E123: 1979 | F123: 1 | G123: 0 | H123: 0 | I123: 207 E&G | J123: =VLOOKUP(A123,RANGE2,9,FALSE()) -> 1297170
A124: 1177 | B124: CENTRAL WING | C124: 2639000 | D124: 7341 | E124: 1901 | F124: 0.84 | G124: 0 | H124: 0.16 | I124: 207 E&G | J124: =VLOOKUP(A124,RANGE2,9,FALSE()) -> 1255990 | K124: % incorrect
A125: 534 | B125: TJAGLCS SCHOOL ADDITION | C125: 16342000 | D125: 51875 | E125: 1990 | F125: 0 | G125: 1 | H125: 0 | I125: 207 AUX | J125: =VLOOKUP(A125,RANGE2,9,FALSE()) -> 1209662.5
A126: 603 | B126: FAULKNER HOUSE | C126: 19207000 | D126: 32655 | E126: 1855 | F126: 1 | G126: 0 | H126: 0 | I126: 207 E&G | J126: =VLOOKUP(A126,RANGE2,9,FALSE()) -> 1144258.4
A127: 2030 | B127: East Lawn Dorm | C127: 4055000 | D127: 15716 | E127: 1826 | F127: 1 | G127: 0 | H127: 0 | I127: 207 E&G | J127: 1130285
A128: 431 | B128: LAMBETH COLONNADE | C128: 1699000 | D128: 8374 | E128: 1913 | F128: 1 | G128: 0 | H128: 0 | I128: 207 E&G | J128: =VLOOKUP(A128,RANGE2,9,FALSE()) -> 1091964.9
A129: 203 | B129: ALBERT H SMALL BUILDING | C129: 3351000 | D129: 10526 | E129: 1948 | F129: 1 | G129: 0 | H129: 0 | I129: 207 E&G | J129: =VLOOKUP(A129,RANGE2,9,FALSE()) -> 1087152
A130: 270 | B130: JESSER HALL | C130: 10593000 | D130: 35179 | E130: 1985 | F130: 1 | G130: 0 | H130: 0 | I130: 207 E&G | J130: =VLOOKUP(A130,RANGE2,9,FALSE()) -> 1076718
A131: 2081 | B131: PETERS HOUSE | C131: 796000 | D131: 7775 | E131: 1929 | F131: 0 | G131: 1 | H131: 0 | I131: 207 AUX | J131: =VLOOKUP(A131,RANGE2,9,FALSE()) -> 1057296.5
A132: 2080 | B132: ROGERS HOUSE | C132: 866000 | D132: 7909 | E132: 1929 | F132: 0 | G132: 1 | H132: 0 | I132: 207 AUX | J132: =VLOOKUP(A132,RANGE2,9,FALSE()) -> 1003247.8
A133: 2078 | B133: TUCKER HOUSE | C133: 913000 | D133: 7973 | E133: 1929 | F133: 0 | G133: 1 | H133: 0 | I133: 207 AUX | J133: =VLOOKUP(A133,RANGE2,9,FALSE()) -> 949199
A134: 2333 | B134: OBSERVATORY HOUSE #1 (ALDEN) | C134: 1866000 | D134: 8111 | E134: 1880 | F134: 1 | G134: 0 | H134: 0 | I134: 207 E&G | J134: =VLOOKUP(A134,RANGE2,9,FALSE()) -> 900812.5
A135: 2013 | B135: West Lawn Dorm | C135: 3874000 | D135: 15227 | E135: 1826 | F135: 1 | G135: 0 | H135: 0 | I135: 207 E&G | J135: =VLOOKUP(A135,RANGE2,9,FALSE()) -> 864780
A136: 7575 | B136: MASSIE ROAD PLANT @ ARENA PARKING GARAGE | C136: 10561000 | D136: 12093 | E136: 2005 | F136: 0 | G136: 1 | H136: 0 | I136: 207 E&G | J136: =VLOOKUP(A136,RANGE2,9,FALSE()) -> 824412.28
A137: 211 | B137: 200 MIDMONT LANE | C137: 749000 | D137: 6601 | E137: 1761 | F137: 0 | G137: 0 | H137: 0 | I137: 207 E&G | J137: =VLOOKUP(A137,RANGE2,9,FALSE()) -> 823600
A138: 94 | B138: BRYAN HALL | C138: 17142000 | D138: 42755 | E138: 1995 | F138: 1 | G138: 0 | H138: 0 | I138: 207 E&G | J138: =VLOOKUP(A138,RANGE2,9,FALSE()) -> 823394.1
A139: 2079 | B139: HOLMES HOUSE | C139: 866000 | D139: 7256 | E139: 1929 | F139: 0 | G139: 1 | H139: 0 | I139: 207 AUX | J139: =VLOOKUP(A139,RANGE2,9,FALSE()) -> 819482
... A148: 2032 | B148: Pavilion IV | C148: 2280000 | D148: 5268 | E148: 1826 | F148: 1 | G148: 0 | H148: 0 | I148: 207 E&G | J148: =VLOOKUP(A148,RANGE2,9,FALSE()) -> 610493.5
A149: 627 | B149: POLICE BLDG | C149: 1716000 | D149: 7024 | E149: 1960 | F149: 1 | G149: 0 | H149: 0 | I149: 207 E&G | J149: 585770
A150: 401 | B150: EMMET/IVY GARAGE | C150: 32037000 | D150: 379581 | E150: 2003 | F150: 0 | G150: 1 | H150: 0 | I150: 207 AUX | J150: =VLOOKUP(A150,RANGE2,9,FALSE()) -> 583239.55
A151: 2045 | B151: East Range Dorm | C151: 3817000 | D151: 8036 | E151: 1826 | F151: 1 | G151: 0 | H151: 0 | I151: 207 E&G | J151: =VLOOKUP(A151,RANGE2,9,FALSE()) -> 581667.5
A152: 1141 | B152: CLAUDE MOORE HEALTH SCIENCES LIBRARY | C152: 20659000 | D152: 76537 | E152: 1975 | F152: 1 | G152: 0 | H152: 0 | I152: 207 E&G | J152: =VLOOKUP(A152,RANGE2,9,FALSE()) -> 561077.5
A153: 2003 | B153: West Range Dorms | C153: 3892000 | D153: 9618 | E153: 1826 | F153: 1 | G153: 0 | H153: 0 | I153: 207 E&G | J153: =VLOOKUP(A153,RANGE2,9,FALSE()) -> 556480.78
A154: 65 | B154: MINOR HALL | C154: 7829000 | D154: 22524 | E154: 1908 | F154: 1 | G154: 0 | H154: 0 | I154: 207 E&G | J154: =VLOOKUP(A154,RANGE2,9,FALSE()) -> 550782.5
A155: 227 | B155: FM SHOP #1 | C155: 3537000 | D155: 13350 | E155: 1988 | F155: 1 | G155: 0 | H155: 0 | I155: 207 E&G | J155: =VLOOKUP(A155,RANGE2,9,FALSE()) -> 545120.25
A156: 2075 | B156: GILDERSLEEVE HOUSE | C156: 866000 | D156: 7124 | E156: 1929 | F156: 0 | G156: 1 | H156: 0 | I156: 207 AUX | J156: =VLOOKUP(A156,RANGE2,9,FALSE()) -> 525045
A157: 800 | B157: CHILD CARE CENTER | C157: 1723000 | D157: 7730 | E157: 1991 | F157: 0 | G157: 1 | H157: 0 | I157: 207 AUX | J157: =VLOOKUP(A157,RANGE2,9,FALSE()) -> 512384.21
A158: 2077 | B158: HARRISON HOUSE | C158: 866000 | D158: 7340 | E158: 1929 | F158: 0 | G158: 1 | H158: 0 | I158: 207 AUX | J158: =VLOOKUP(A158,RANGE2,9,FALSE()) -> 512176.25
A159: 2072 | B159: MALLET HOUSE | C159: 866000 | D159: 6274 | E159: 1929 | F159: 0 | G159: 1 | H159: 0 | I159: 207 AUX | J159: =VLOOKUP(A159,RANGE2,9,FALSE()) -> 500337
...
